| Back to Build/check report for BioC 3.23: simplified long |
|
This page was generated on 2025-11-01 11:32 -0400 (Sat, 01 Nov 2025).
| Hostname | OS | Arch (*) | R version | Installed pkgs |
|---|---|---|---|---|
| nebbiolo1 | Linux (Ubuntu 24.04.3 LTS) | x86_64 | R Under development (unstable) (2025-10-20 r88955) -- "Unsuffered Consequences" | 4774 |
| Click on any hostname to see more info about the system (e.g. compilers) (*) as reported by 'uname -p', except on Windows and Mac OS X | ||||
| Package 471/2321 | Hostname | OS / Arch | INSTALL | BUILD | CHECK | BUILD BIN | ||||||||
| crumblr 1.3.0 (landing page) Gabriel Hoffman
| nebbiolo1 | Linux (Ubuntu 24.04.3 LTS) / x86_64 | OK | OK | OK | |||||||||
|
To the developers/maintainers of the crumblr package: - Allow up to 24 hours (and sometimes 48 hours) for your latest push to git@git.bioconductor.org:packages/crumblr.git to reflect on this report. See Troubleshooting Build Report for more information. - Use the following Renviron settings to reproduce errors and warnings. - If 'R CMD check' started to fail recently on the Linux builder(s) over a missing dependency, add the missing dependency to 'Suggests:' in your DESCRIPTION file. See Renviron.bioc for more information. |
| Package: crumblr |
| Version: 1.3.0 |
| Command: /home/biocbuild/bbs-3.23-bioc/R/bin/R CMD check --install=check:crumblr.install-out.txt --library=/home/biocbuild/bbs-3.23-bioc/R/site-library --timings crumblr_1.3.0.tar.gz |
| StartedAt: 2025-10-31 22:22:53 -0400 (Fri, 31 Oct 2025) |
| EndedAt: 2025-10-31 22:29:33 -0400 (Fri, 31 Oct 2025) |
| EllapsedTime: 400.5 seconds |
| RetCode: 0 |
| Status: OK |
| CheckDir: crumblr.Rcheck |
| Warnings: 0 |
##############################################################################
##############################################################################
###
### Running command:
###
### /home/biocbuild/bbs-3.23-bioc/R/bin/R CMD check --install=check:crumblr.install-out.txt --library=/home/biocbuild/bbs-3.23-bioc/R/site-library --timings crumblr_1.3.0.tar.gz
###
##############################################################################
##############################################################################
* using log directory ‘/home/biocbuild/bbs-3.23-bioc/meat/crumblr.Rcheck’
* using R Under development (unstable) (2025-10-20 r88955)
* using platform: x86_64-pc-linux-gnu
* R was compiled by
gcc (Ubuntu 13.3.0-6ubuntu2~24.04) 13.3.0
GNU Fortran (Ubuntu 13.3.0-6ubuntu2~24.04) 13.3.0
* running under: Ubuntu 24.04.3 LTS
* using session charset: UTF-8
* checking for file ‘crumblr/DESCRIPTION’ ... OK
* checking extension type ... Package
* this is package ‘crumblr’ version ‘1.3.0’
* package encoding: UTF-8
* checking package namespace information ... OK
* checking package dependencies ... OK
* checking if this is a source package ... OK
* checking if there is a namespace ... OK
* checking for hidden files and directories ... OK
* checking for portable file names ... OK
* checking for sufficient/correct file permissions ... OK
* checking whether package ‘crumblr’ can be installed ... OK
* checking installed package size ... OK
* checking package directory ... OK
* checking ‘build’ directory ... OK
* checking DESCRIPTION meta-information ... OK
* checking top-level files ... OK
* checking for left-over files ... OK
* checking index information ... OK
* checking package subdirectories ... OK
* checking code files for non-ASCII characters ... OK
* checking R files for syntax errors ... OK
* checking whether the package can be loaded ... OK
* checking whether the package can be loaded with stated dependencies ... OK
* checking whether the package can be unloaded cleanly ... OK
* checking whether the namespace can be loaded with stated dependencies ... OK
* checking whether the namespace can be unloaded cleanly ... OK
* checking loading without being on the library search path ... OK
* checking dependencies in R code ... OK
* checking S3 generic/method consistency ... OK
* checking replacement functions ... OK
* checking foreign function calls ... OK
* checking R code for possible problems ... OK
* checking Rd files ... OK
* checking Rd metadata ... OK
* checking Rd cross-references ... OK
* checking for missing documentation entries ... OK
* checking for code/documentation mismatches ... OK
* checking Rd \usage sections ... OK
* checking Rd contents ... OK
* checking for unstated dependencies in examples ... OK
* checking contents of ‘data’ directory ... OK
* checking data for non-ASCII characters ... OK
* checking data for ASCII and uncompressed saves ... OK
* checking files in ‘vignettes’ ... OK
* checking examples ... OK
Examples with CPU (user + system) or elapsed time > 5s
user system elapsed
diffTree 30.750 0.630 31.382
treeTest 15.599 0.044 15.643
plotTreeTest 15.027 0.151 15.180
plotTreeTestBeta 15.080 0.021 15.102
plotForest-methods 14.442 0.066 14.518
* checking for unstated dependencies in vignettes ... OK
* checking package vignettes ... OK
* checking re-building of vignette outputs ... OK
* checking PDF version of manual ... OK
* DONE
Status: OK
crumblr.Rcheck/00install.out
############################################################################## ############################################################################## ### ### Running command: ### ### /home/biocbuild/bbs-3.23-bioc/R/bin/R CMD INSTALL crumblr ### ############################################################################## ############################################################################## * installing to library ‘/home/biocbuild/bbs-3.23-bioc/R/site-library’ * installing *source* package ‘crumblr’ ... ** this is package ‘crumblr’ version ‘1.3.0’ ** using staged installation ** R ** data ** inst ** byte-compile and prepare package for lazy loading ** help *** installing help indices *** copying figures ** building package indices ** installing vignettes ** testing if installed package can be loaded from temporary location ** testing if installed package can be loaded from final location ** testing if installed package keeps a record of temporary installation path * DONE (crumblr)
crumblr.Rcheck/crumblr-Ex.timings
| name | user | system | elapsed | |
| buildClusterTree | 2.377 | 0.182 | 2.567 | |
| clr | 0.001 | 0.000 | 0.002 | |
| clrInv | 0.002 | 0.000 | 0.002 | |
| crumblr | 0.060 | 0.003 | 0.064 | |
| diffTree | 30.750 | 0.630 | 31.382 | |
| dmn_mle | 0.158 | 0.020 | 0.182 | |
| logFrac | 0.047 | 0.001 | 0.049 | |
| meanSdPlot | 0.96 | 0.03 | 0.99 | |
| plotForest-methods | 14.442 | 0.066 | 14.518 | |
| plotScatterDensity | 0.271 | 0.008 | 0.278 | |
| plotTreeTest | 15.027 | 0.151 | 15.180 | |
| plotTreeTestBeta | 15.080 | 0.021 | 15.102 | |
| standardize-method | 0.176 | 0.002 | 0.178 | |
| treeTest | 15.599 | 0.044 | 15.643 | |