Back to Multiple platform build/check report for BioC 3.21:   simplified   long
AB[C]DEFGHIJKLMNOPQRSTUVWXYZ

This page was generated on 2025-01-28 11:47 -0500 (Tue, 28 Jan 2025).

HostnameOSArch (*)R versionInstalled pkgs
nebbiolo1Linux (Ubuntu 24.04.1 LTS)x86_64R Under development (unstable) (2025-01-20 r87609) -- "Unsuffered Consequences" 4659
palomino7Windows Server 2022 Datacenterx64R Under development (unstable) (2025-01-21 r87610 ucrt) -- "Unsuffered Consequences" 4454
lconwaymacOS 12.7.1 Montereyx86_64R Under development (unstable) (2025-01-22 r87618) -- "Unsuffered Consequences" 4465
kjohnson3macOS 13.7.1 Venturaarm64R Under development (unstable) (2025-01-20 r87609) -- "Unsuffered Consequences" 4419
kunpeng2Linux (openEuler 22.03 LTS-SP1)aarch64R Under development (unstable) (2024-11-24 r87369) -- "Unsuffered Consequences" 4409
Click on any hostname to see more info about the system (e.g. compilers)      (*) as reported by 'uname -p', except on Windows and Mac OS X

Package 451/2286HostnameOS / ArchINSTALLBUILDCHECKBUILD BIN
crisprBwa 1.11.0  (landing page)
Jean-Philippe Fortin
Snapshot Date: 2025-01-27 13:40 -0500 (Mon, 27 Jan 2025)
git_url: https://git.bioconductor.org/packages/crisprBwa
git_branch: devel
git_last_commit: 3b1e984
git_last_commit_date: 2024-10-29 11:11:09 -0500 (Tue, 29 Oct 2024)
nebbiolo1Linux (Ubuntu 24.04.1 LTS) / x86_64  OK    OK    OK  UNNEEDED, same version is already published
palomino7Windows Server 2022 Datacenter / x64... NOT SUPPORTED ...
lconwaymacOS 12.7.1 Monterey / x86_64  OK    OK    OK    OK  UNNEEDED, same version is already published
kjohnson3macOS 13.7.1 Ventura / arm64  OK    OK    OK    OK  UNNEEDED, same version is already published
kunpeng2Linux (openEuler 22.03 LTS-SP1) / aarch64  OK    OK    OK  


CHECK results for crisprBwa on kunpeng2

To the developers/maintainers of the crisprBwa package:
- Allow up to 24 hours (and sometimes 48 hours) for your latest push to git@git.bioconductor.org:packages/crisprBwa.git to reflect on this report. See Troubleshooting Build Report for more information.
- Use the following Renviron settings to reproduce errors and warnings.
- If 'R CMD check' started to fail recently on the Linux builder(s) over a missing dependency, add the missing dependency to 'Suggests:' in your DESCRIPTION file. See Renviron.bioc for more information.
- See Martin Grigorov's blog post for how to debug Linux ARM64 related issues on a x86_64 host.

raw results


Summary

Package: crisprBwa
Version: 1.11.0
Command: /home/biocbuild/R/R/bin/R CMD check --install=check:crisprBwa.install-out.txt --library=/home/biocbuild/R/R/site-library --no-vignettes --timings crisprBwa_1.11.0.tar.gz
StartedAt: 2025-01-28 09:33:32 -0000 (Tue, 28 Jan 2025)
EndedAt: 2025-01-28 09:38:37 -0000 (Tue, 28 Jan 2025)
EllapsedTime: 305.2 seconds
RetCode: 0
Status:   OK  
CheckDir: crisprBwa.Rcheck
Warnings: 0

Command output

##############################################################################
##############################################################################
###
### Running command:
###
###   /home/biocbuild/R/R/bin/R CMD check --install=check:crisprBwa.install-out.txt --library=/home/biocbuild/R/R/site-library --no-vignettes --timings crisprBwa_1.11.0.tar.gz
###
##############################################################################
##############################################################################


* using log directory ‘/home/biocbuild/bbs-3.21-bioc/meat/crisprBwa.Rcheck’
* using R Under development (unstable) (2024-11-24 r87369)
* using platform: aarch64-unknown-linux-gnu
* R was compiled by
    aarch64-unknown-linux-gnu-gcc (GCC) 14.2.0
    GNU Fortran (GCC) 14.2.0
* running under: openEuler 24.03 (LTS)
* using session charset: UTF-8
* using option ‘--no-vignettes’
* checking for file ‘crisprBwa/DESCRIPTION’ ... OK
* this is package ‘crisprBwa’ version ‘1.11.0’
* package encoding: UTF-8
* checking package namespace information ... OK
* checking package dependencies ... OK
* checking if this is a source package ... OK
* checking if there is a namespace ... OK
* checking for hidden files and directories ... NOTE
Found the following hidden files and directories:
  .BBSoptions
These were most likely included in error. See section ‘Package
structure’ in the ‘Writing R Extensions’ manual.
* checking for portable file names ... OK
* checking for sufficient/correct file permissions ... OK
* checking whether package ‘crisprBwa’ can be installed ... OK
* checking installed package size ... OK
* checking package directory ... OK
* checking ‘build’ directory ... OK
* checking DESCRIPTION meta-information ... NOTE
License stub is invalid DCF.
* checking top-level files ... OK
* checking for left-over files ... OK
* checking index information ... OK
* checking package subdirectories ... OK
* checking code files for non-ASCII characters ... OK
* checking R files for syntax errors ... OK
* checking whether the package can be loaded ... OK
* checking whether the package can be loaded with stated dependencies ... OK
* checking whether the package can be unloaded cleanly ... OK
* checking whether the namespace can be loaded with stated dependencies ... OK
* checking whether the namespace can be unloaded cleanly ... OK
* checking loading without being on the library search path ... OK
* checking dependencies in R code ... OK
* checking S3 generic/method consistency ... OK
* checking replacement functions ... OK
* checking foreign function calls ... OK
* checking R code for possible problems ... OK
* checking Rd files ... OK
* checking Rd metadata ... OK
* checking Rd cross-references ... OK
* checking for missing documentation entries ... OK
* checking for code/documentation mismatches ... OK
* checking Rd \usage sections ... OK
* checking Rd contents ... OK
* checking for unstated dependencies in examples ... OK
* checking files in ‘vignettes’ ... OK
* checking examples ... OK
* checking for unstated dependencies in ‘tests’ ... OK
* checking tests ...
  Running ‘testthat.R’
 OK
* checking for unstated dependencies in vignettes ... OK
* checking package vignettes ... OK
* checking running R code from vignettes ... SKIPPED
* checking re-building of vignette outputs ... SKIPPED
* checking PDF version of manual ... OK
* DONE

Status: 2 NOTEs
See
  ‘/home/biocbuild/bbs-3.21-bioc/meat/crisprBwa.Rcheck/00check.log’
for details.


Installation output

crisprBwa.Rcheck/00install.out

##############################################################################
##############################################################################
###
### Running command:
###
###   /home/biocbuild/R/R/bin/R CMD INSTALL crisprBwa
###
##############################################################################
##############################################################################


* installing to library ‘/home/biocbuild/R/R-4.5.0-devel_2024-11-24/site-library’
* installing *source* package ‘crisprBwa’ ...
** using staged installation
** R
** inst
** byte-compile and prepare package for lazy loading
** help
*** installing help indices
** building package indices
** installing vignettes
** testing if installed package can be loaded from temporary location
** testing if installed package can be loaded from final location
** testing if installed package keeps a record of temporary installation path
* DONE (crisprBwa)

Tests output

crisprBwa.Rcheck/tests/testthat.Rout


R Under development (unstable) (2024-11-24 r87369) -- "Unsuffered Consequences"
Copyright (C) 2024 The R Foundation for Statistical Computing
Platform: aarch64-unknown-linux-gnu

R is free software and comes with ABSOLUTELY NO WARRANTY.
You are welcome to redistribute it under certain conditions.
Type 'license()' or 'licence()' for distribution details.

R is a collaborative project with many contributors.
Type 'contributors()' for more information and
'citation()' on how to cite R or R packages in publications.

Type 'demo()' for some demos, 'help()' for on-line help, or
'help.start()' for an HTML browser interface to help.
Type 'q()' to quit R.

> library(testthat)
> library(crisprBwa)
> 
> test_check("crisprBwa")
[bwa_index] Pack FASTA... 0.00 sec
[bwa_index] Construct BWT for the packed sequence...
[bwa_index] 0.04 seconds elapse.
[bwa_index] Update BWT... 0.00 sec
[bwa_index] Pack forward-only FASTA... 0.00 sec
[bwa_index] Construct SA from BWT and Occ... 0.01 sec
[main] Version: 0.7.17-r1198-dirty
[main] CMD: /home/biocbuild/R/R-4.5.0-devel_2024-11-24/site-library/Rbwa/bwa index -p /home/biocbuild/tmp/RtmpnrXIZc/chr12 /home/biocbuild/R/R-4.5.0-devel_2024-11-24/site-library/crisprBwa/example/chr12.fa
[main] Real time: 0.086 sec; CPU: 0.058 sec
[bwa_aln_core] calculate SA coordinate... 0.00 sec
[bwa_aln_core] write to the disk... 0.00 sec
[bwa_aln_core] 3 sequences have been processed.
[main] Version: 0.7.17-r1198-dirty
[main] CMD: /home/biocbuild/R/R-4.5.0-devel_2024-11-24/site-library/Rbwa/bwa aln -N -n 0 -l 36 -o 0 /home/biocbuild/tmp/RtmpnrXIZc/chr12 /home/biocbuild/tmp/RtmpnrXIZc/file1d273d113cfd32
[main] Real time: 0.003 sec; CPU: 0.002 sec
[bwa_aln_core] convert to sequence coordinate... 0.00 sec
[bwa_aln_core] refine gapped alignments... 0.00 sec
[bwa_aln_core] print alignments... 0.00 sec
[bwa_aln_core] 3 sequences have been processed.
[main] Version: 0.7.17-r1198-dirty
[main] CMD: /home/biocbuild/R/R-4.5.0-devel_2024-11-24/site-library/Rbwa/bwa samse -n 1000000000 /home/biocbuild/tmp/RtmpnrXIZc/chr12 /home/biocbuild/tmp/RtmpnrXIZc/file1d273d113cfd32.sai /home/biocbuild/tmp/RtmpnrXIZc/file1d273d113cfd32
[main] Real time: 0.003 sec; CPU: 0.002 sec
[bwa_aln_core] calculate SA coordinate... 0.00 sec
[bwa_aln_core] write to the disk... 0.00 sec
[bwa_aln_core] 3 sequences have been processed.
[main] Version: 0.7.17-r1198-dirty
[main] CMD: /home/biocbuild/R/R-4.5.0-devel_2024-11-24/site-library/Rbwa/bwa aln -N -n 1 -l 36 -o 0 /home/biocbuild/tmp/RtmpnrXIZc/chr12 /home/biocbuild/tmp/RtmpnrXIZc/file1d273d4fbe2c96
[main] Real time: 0.004 sec; CPU: 0.002 sec
[bwa_aln_core] convert to sequence coordinate... 0.00 sec
[bwa_aln_core] refine gapped alignments... 0.00 sec
[bwa_aln_core] print alignments... 0.00 sec
[bwa_aln_core] 3 sequences have been processed.
[main] Version: 0.7.17-r1198-dirty
[main] CMD: /home/biocbuild/R/R-4.5.0-devel_2024-11-24/site-library/Rbwa/bwa samse -n 1000000000 /home/biocbuild/tmp/RtmpnrXIZc/chr12 /home/biocbuild/tmp/RtmpnrXIZc/file1d273d4fbe2c96.sai /home/biocbuild/tmp/RtmpnrXIZc/file1d273d4fbe2c96
[main] Real time: 0.003 sec; CPU: 0.002 sec
[bwa_aln_core] calculate SA coordinate... 0.00 sec
[bwa_aln_core] write to the disk... 0.00 sec
[bwa_aln_core] 3 sequences have been processed.
[main] Version: 0.7.17-r1198-dirty
[main] CMD: /home/biocbuild/R/R-4.5.0-devel_2024-11-24/site-library/Rbwa/bwa aln -N -n 2 -l 36 -o 0 /home/biocbuild/tmp/RtmpnrXIZc/chr12 /home/biocbuild/tmp/RtmpnrXIZc/file1d273d5ffcf5b4
[main] Real time: 0.004 sec; CPU: 0.002 sec
[bwa_aln_core] convert to sequence coordinate... 0.00 sec
[bwa_aln_core] refine gapped alignments... 0.00 sec
[bwa_aln_core] print alignments... 0.00 sec
[bwa_aln_core] 3 sequences have been processed.
[main] Version: 0.7.17-r1198-dirty
[main] CMD: /home/biocbuild/R/R-4.5.0-devel_2024-11-24/site-library/Rbwa/bwa samse -n 1000000000 /home/biocbuild/tmp/RtmpnrXIZc/chr12 /home/biocbuild/tmp/RtmpnrXIZc/file1d273d5ffcf5b4.sai /home/biocbuild/tmp/RtmpnrXIZc/file1d273d5ffcf5b4
[main] Real time: 0.003 sec; CPU: 0.002 sec
[bwa_aln_core] calculate SA coordinate... 0.00 sec
[bwa_aln_core] write to the disk... 0.00 sec
[bwa_aln_core] 3 sequences have been processed.
[main] Version: 0.7.17-r1198-dirty
[main] CMD: /home/biocbuild/R/R-4.5.0-devel_2024-11-24/site-library/Rbwa/bwa aln -N -n 3 -l 36 -o 0 /home/biocbuild/tmp/RtmpnrXIZc/chr12 /home/biocbuild/tmp/RtmpnrXIZc/file1d273d40b8219b
[main] Real time: 0.005 sec; CPU: 0.003 sec
[bwa_aln_core] convert to sequence coordinate... 0.00 sec
[bwa_aln_core] refine gapped alignments... 0.00 sec
[bwa_aln_core] print alignments... 0.00 sec
[bwa_aln_core] 3 sequences have been processed.
[main] Version: 0.7.17-r1198-dirty
[main] CMD: /home/biocbuild/R/R-4.5.0-devel_2024-11-24/site-library/Rbwa/bwa samse -n 1000000000 /home/biocbuild/tmp/RtmpnrXIZc/chr12 /home/biocbuild/tmp/RtmpnrXIZc/file1d273d40b8219b.sai /home/biocbuild/tmp/RtmpnrXIZc/file1d273d40b8219b
[main] Real time: 0.008 sec; CPU: 0.002 sec
[bwa_aln_core] calculate SA coordinate... 0.00 sec
[bwa_aln_core] write to the disk... 0.00 sec
[bwa_aln_core] 1 sequences have been processed.
[main] Version: 0.7.17-r1198-dirty
[main] CMD: /home/biocbuild/R/R-4.5.0-devel_2024-11-24/site-library/Rbwa/bwa aln -N -n 0 -l 144 -o 0 /home/biocbuild/tmp/RtmpnrXIZc/chr12 /home/biocbuild/tmp/RtmpnrXIZc/file1d273d58322464
[main] Real time: 0.009 sec; CPU: 0.002 sec
[bwa_aln_core] convert to sequence coordinate... 0.00 sec
[bwa_aln_core] refine gapped alignments... 0.00 sec
[bwa_aln_core] print alignments... 0.00 sec
[bwa_aln_core] 1 sequences have been processed.
[main] Version: 0.7.17-r1198-dirty
[main] CMD: /home/biocbuild/R/R-4.5.0-devel_2024-11-24/site-library/Rbwa/bwa samse -n 1000000000 /home/biocbuild/tmp/RtmpnrXIZc/chr12 /home/biocbuild/tmp/RtmpnrXIZc/file1d273d58322464.sai /home/biocbuild/tmp/RtmpnrXIZc/file1d273d58322464
[main] Real time: 0.003 sec; CPU: 0.002 sec
[bwa_index] Pack FASTA... 0.00 sec
[bwa_index] Construct BWT for the packed sequence...
[bwa_index] 0.04 seconds elapse.
[bwa_index] Update BWT... 0.00 sec
[bwa_index] Pack forward-only FASTA... 0.00 sec
[bwa_index] Construct SA from BWT and Occ... 0.01 sec
[main] Version: 0.7.17-r1198-dirty
[main] CMD: /home/biocbuild/R/R-4.5.0-devel_2024-11-24/site-library/Rbwa/bwa index -p /home/biocbuild/tmp/RtmpnrXIZc/chr12 /home/biocbuild/R/R-4.5.0-devel_2024-11-24/site-library/crisprBwa/example/chr12.fa
[main] Real time: 0.083 sec; CPU: 0.059 sec
[runCrisprBwa] Using BSgenome.Hsapiens.UCSC.hg38 
[runCrisprBwa] Searching for SpCas9 protospacers 
[bwa_aln_core] calculate SA coordinate... 0.00 sec
[bwa_aln_core] write to the disk... 0.00 sec
[bwa_aln_core] 5 sequences have been processed.
[main] Version: 0.7.17-r1198-dirty
[main] CMD: /home/biocbuild/R/R-4.5.0-devel_2024-11-24/site-library/Rbwa/bwa aln -N -n 0 -l 60 -o 0 /home/biocbuild/tmp/RtmpnrXIZc/chr12 /home/biocbuild/tmp/RtmpnrXIZc/file1d273d1e00c73a
[main] Real time: 0.003 sec; CPU: 0.001 sec
[bwa_aln_core] convert to sequence coordinate... 0.00 sec
[bwa_aln_core] refine gapped alignments... 0.00 sec
[bwa_aln_core] print alignments... 0.00 sec
[bwa_aln_core] 5 sequences have been processed.
[main] Version: 0.7.17-r1198-dirty
[main] CMD: /home/biocbuild/R/R-4.5.0-devel_2024-11-24/site-library/Rbwa/bwa samse -n 1000000000 /home/biocbuild/tmp/RtmpnrXIZc/chr12 /home/biocbuild/tmp/RtmpnrXIZc/file1d273d1e00c73a.sai /home/biocbuild/tmp/RtmpnrXIZc/file1d273d1e00c73a
[main] Real time: 0.003 sec; CPU: 0.002 sec
[runCrisprBwa] Using BSgenome.Hsapiens.UCSC.hg38 
[runCrisprBwa] Searching for SpCas9 protospacers 
[bwa_aln_core] calculate SA coordinate... 0.00 sec
[bwa_aln_core] write to the disk... 0.00 sec
[bwa_aln_core] 5 sequences have been processed.
[main] Version: 0.7.17-r1198-dirty
[main] CMD: /home/biocbuild/R/R-4.5.0-devel_2024-11-24/site-library/Rbwa/bwa aln -N -n 1 -l 60 -o 0 /home/biocbuild/tmp/RtmpnrXIZc/chr12 /home/biocbuild/tmp/RtmpnrXIZc/file1d273d6be99ed3
[main] Real time: 0.004 sec; CPU: 0.002 sec
[bwa_aln_core] convert to sequence coordinate... 0.00 sec
[bwa_aln_core] refine gapped alignments... 0.00 sec
[bwa_aln_core] print alignments... 0.00 sec
[bwa_aln_core] 5 sequences have been processed.
[main] Version: 0.7.17-r1198-dirty
[main] CMD: /home/biocbuild/R/R-4.5.0-devel_2024-11-24/site-library/Rbwa/bwa samse -n 1000000000 /home/biocbuild/tmp/RtmpnrXIZc/chr12 /home/biocbuild/tmp/RtmpnrXIZc/file1d273d6be99ed3.sai /home/biocbuild/tmp/RtmpnrXIZc/file1d273d6be99ed3
[main] Real time: 0.003 sec; CPU: 0.002 sec
[runCrisprBwa] Using BSgenome.Hsapiens.UCSC.hg38 
[runCrisprBwa] Searching for SpCas9 protospacers 
[bwa_aln_core] calculate SA coordinate... 0.00 sec
[bwa_aln_core] write to the disk... 0.00 sec
[bwa_aln_core] 5 sequences have been processed.
[main] Version: 0.7.17-r1198-dirty
[main] CMD: /home/biocbuild/R/R-4.5.0-devel_2024-11-24/site-library/Rbwa/bwa aln -N -n 2 -l 60 -o 0 /home/biocbuild/tmp/RtmpnrXIZc/chr12 /home/biocbuild/tmp/RtmpnrXIZc/file1d273d78947f86
[main] Real time: 0.004 sec; CPU: 0.002 sec
[bwa_aln_core] convert to sequence coordinate... 0.00 sec
[bwa_aln_core] refine gapped alignments... 0.00 sec
[bwa_aln_core] print alignments... 0.00 sec
[bwa_aln_core] 5 sequences have been processed.
[main] Version: 0.7.17-r1198-dirty
[main] CMD: /home/biocbuild/R/R-4.5.0-devel_2024-11-24/site-library/Rbwa/bwa samse -n 1000000000 /home/biocbuild/tmp/RtmpnrXIZc/chr12 /home/biocbuild/tmp/RtmpnrXIZc/file1d273d78947f86.sai /home/biocbuild/tmp/RtmpnrXIZc/file1d273d78947f86
[main] Real time: 0.003 sec; CPU: 0.002 sec
[runCrisprBwa] Using BSgenome.Hsapiens.UCSC.hg38 
[runCrisprBwa] Searching for SpCas9 protospacers 
[bwa_aln_core] calculate SA coordinate... 0.00 sec
[bwa_aln_core] write to the disk... 0.00 sec
[bwa_aln_core] 5 sequences have been processed.
[main] Version: 0.7.17-r1198-dirty
[main] CMD: /home/biocbuild/R/R-4.5.0-devel_2024-11-24/site-library/Rbwa/bwa aln -N -n 3 -l 60 -o 0 /home/biocbuild/tmp/RtmpnrXIZc/chr12 /home/biocbuild/tmp/RtmpnrXIZc/file1d273d59beec73
[main] Real time: 0.009 sec; CPU: 0.002 sec
[bwa_aln_core] convert to sequence coordinate... 0.00 sec
[bwa_aln_core] refine gapped alignments... 0.00 sec
[bwa_aln_core] print alignments... 0.00 sec
[bwa_aln_core] 5 sequences have been processed.
[main] Version: 0.7.17-r1198-dirty
[main] CMD: /home/biocbuild/R/R-4.5.0-devel_2024-11-24/site-library/Rbwa/bwa samse -n 1000000000 /home/biocbuild/tmp/RtmpnrXIZc/chr12 /home/biocbuild/tmp/RtmpnrXIZc/file1d273d59beec73.sai /home/biocbuild/tmp/RtmpnrXIZc/file1d273d59beec73
[main] Real time: 0.003 sec; CPU: 0.002 sec
[runCrisprBwa] Using BSgenome.Hsapiens.UCSC.hg38 
[runCrisprBwa] Searching for SpCas9 protospacers 
[bwa_aln_core] calculate SA coordinate... 0.00 sec
[bwa_aln_core] write to the disk... 0.00 sec
[bwa_aln_core] 5 sequences have been processed.
[main] Version: 0.7.17-r1198-dirty
[main] CMD: /home/biocbuild/R/R-4.5.0-devel_2024-11-24/site-library/Rbwa/bwa aln -N -n 0 -l 60 -o 0 /home/biocbuild/tmp/RtmpnrXIZc/chr12 /home/biocbuild/tmp/RtmpnrXIZc/file1d273d2cc04f5
[main] Real time: 0.003 sec; CPU: 0.002 sec
[bwa_aln_core] convert to sequence coordinate... 0.00 sec
[bwa_aln_core] refine gapped alignments... 0.00 sec
[bwa_aln_core] print alignments... 0.00 sec
[bwa_aln_core] 5 sequences have been processed.
[main] Version: 0.7.17-r1198-dirty
[main] CMD: /home/biocbuild/R/R-4.5.0-devel_2024-11-24/site-library/Rbwa/bwa samse -n 1000000000 /home/biocbuild/tmp/RtmpnrXIZc/chr12 /home/biocbuild/tmp/RtmpnrXIZc/file1d273d2cc04f5.sai /home/biocbuild/tmp/RtmpnrXIZc/file1d273d2cc04f5
[main] Real time: 0.003 sec; CPU: 0.002 sec
[runCrisprBwa] Using BSgenome.Hsapiens.UCSC.hg38 
[runCrisprBwa] Searching for SpCas9 protospacers 
[bwa_aln_core] calculate SA coordinate... 0.00 sec
[bwa_aln_core] write to the disk... 0.00 sec
[bwa_aln_core] 5 sequences have been processed.
[main] Version: 0.7.17-r1198-dirty
[main] CMD: /home/biocbuild/R/R-4.5.0-devel_2024-11-24/site-library/Rbwa/bwa aln -N -n 1 -l 60 -o 0 /home/biocbuild/tmp/RtmpnrXIZc/chr12 /home/biocbuild/tmp/RtmpnrXIZc/file1d273d498400f7
[main] Real time: 0.004 sec; CPU: 0.002 sec
[bwa_aln_core] convert to sequence coordinate... 0.00 sec
[bwa_aln_core] refine gapped alignments... 0.00 sec
[bwa_aln_core] print alignments... 0.00 sec
[bwa_aln_core] 5 sequences have been processed.
[main] Version: 0.7.17-r1198-dirty
[main] CMD: /home/biocbuild/R/R-4.5.0-devel_2024-11-24/site-library/Rbwa/bwa samse -n 1000000000 /home/biocbuild/tmp/RtmpnrXIZc/chr12 /home/biocbuild/tmp/RtmpnrXIZc/file1d273d498400f7.sai /home/biocbuild/tmp/RtmpnrXIZc/file1d273d498400f7
[main] Real time: 0.003 sec; CPU: 0.002 sec
[runCrisprBwa] Using BSgenome.Hsapiens.UCSC.hg38 
[runCrisprBwa] Searching for SpCas9 protospacers 
[bwa_aln_core] calculate SA coordinate... 0.00 sec
[bwa_aln_core] write to the disk... 0.00 sec
[bwa_aln_core] 5 sequences have been processed.
[main] Version: 0.7.17-r1198-dirty
[main] CMD: /home/biocbuild/R/R-4.5.0-devel_2024-11-24/site-library/Rbwa/bwa aln -N -n 2 -l 60 -o 0 /home/biocbuild/tmp/RtmpnrXIZc/chr12 /home/biocbuild/tmp/RtmpnrXIZc/file1d273d720cd38f
[main] Real time: 0.004 sec; CPU: 0.002 sec
[bwa_aln_core] convert to sequence coordinate... 0.00 sec
[bwa_aln_core] refine gapped alignments... 0.00 sec
[bwa_aln_core] print alignments... 0.00 sec
[bwa_aln_core] 5 sequences have been processed.
[main] Version: 0.7.17-r1198-dirty
[main] CMD: /home/biocbuild/R/R-4.5.0-devel_2024-11-24/site-library/Rbwa/bwa samse -n 1000000000 /home/biocbuild/tmp/RtmpnrXIZc/chr12 /home/biocbuild/tmp/RtmpnrXIZc/file1d273d720cd38f.sai /home/biocbuild/tmp/RtmpnrXIZc/file1d273d720cd38f
[main] Real time: 0.003 sec; CPU: 0.002 sec
[runCrisprBwa] Using BSgenome.Hsapiens.UCSC.hg38 
[runCrisprBwa] Searching for SpCas9 protospacers 
[bwa_aln_core] calculate SA coordinate... 0.00 sec
[bwa_aln_core] write to the disk... 0.00 sec
[bwa_aln_core] 5 sequences have been processed.
[main] Version: 0.7.17-r1198-dirty
[main] CMD: /home/biocbuild/R/R-4.5.0-devel_2024-11-24/site-library/Rbwa/bwa aln -N -n 3 -l 60 -o 0 /home/biocbuild/tmp/RtmpnrXIZc/chr12 /home/biocbuild/tmp/RtmpnrXIZc/file1d273d3273b3ba
[main] Real time: 0.005 sec; CPU: 0.002 sec
[bwa_aln_core] convert to sequence coordinate... 0.00 sec
[bwa_aln_core] refine gapped alignments... 0.00 sec
[bwa_aln_core] print alignments... 0.00 sec
[bwa_aln_core] 5 sequences have been processed.
[main] Version: 0.7.17-r1198-dirty
[main] CMD: /home/biocbuild/R/R-4.5.0-devel_2024-11-24/site-library/Rbwa/bwa samse -n 1000000000 /home/biocbuild/tmp/RtmpnrXIZc/chr12 /home/biocbuild/tmp/RtmpnrXIZc/file1d273d3273b3ba.sai /home/biocbuild/tmp/RtmpnrXIZc/file1d273d3273b3ba
[main] Real time: 0.003 sec; CPU: 0.002 sec
[runCrisprBwa] Using BSgenome.Hsapiens.UCSC.hg38 
[runCrisprBwa] Searching for SpCas9 protospacers 
[runCrisprBwa] Using BSgenome.Hsapiens.UCSC.hg38 
[runCrisprBwa] Searching for SpCas9 protospacers 
[bwa_aln_core] calculate SA coordinate... 0.00 sec
[bwa_aln_core] write to the disk... 0.00 sec
[bwa_aln_core] 5 sequences have been processed.
[main] Version: 0.7.17-r1198-dirty
[main] CMD: /home/biocbuild/R/R-4.5.0-devel_2024-11-24/site-library/Rbwa/bwa aln -N -n 3 -l 51 -o 0 /home/biocbuild/tmp/RtmpnrXIZc/chr12 /home/biocbuild/tmp/RtmpnrXIZc/file1d273d6f272f7a
[main] Real time: 0.009 sec; CPU: 0.003 sec
[bwa_aln_core] convert to sequence coordinate... 0.00 sec
[bwa_aln_core] refine gapped alignments... 0.00 sec
[bwa_aln_core] print alignments... 0.00 sec
[bwa_aln_core] 5 sequences have been processed.
[main] Version: 0.7.17-r1198-dirty
[main] CMD: /home/biocbuild/R/R-4.5.0-devel_2024-11-24/site-library/Rbwa/bwa samse -n 1000000000 /home/biocbuild/tmp/RtmpnrXIZc/chr12 /home/biocbuild/tmp/RtmpnrXIZc/file1d273d6f272f7a.sai /home/biocbuild/tmp/RtmpnrXIZc/file1d273d6f272f7a
[main] Real time: 0.004 sec; CPU: 0.002 sec
[runCrisprBwa] Using BSgenome.Hsapiens.UCSC.hg38 
[runCrisprBwa] Searching for AsCas12a protospacers 
[bwa_aln_core] calculate SA coordinate... 0.00 sec
[bwa_aln_core] write to the disk... 0.00 sec
[bwa_aln_core] 4 sequences have been processed.
[main] Version: 0.7.17-r1198-dirty
[main] CMD: /home/biocbuild/R/R-4.5.0-devel_2024-11-24/site-library/Rbwa/bwa aln -N -n 0 -l 69 -o 0 /home/biocbuild/tmp/RtmpnrXIZc/chr12 /home/biocbuild/tmp/RtmpnrXIZc/file1d273d2e24caa
[main] Real time: 0.003 sec; CPU: 0.002 sec
[bwa_aln_core] convert to sequence coordinate... 0.00 sec
[bwa_aln_core] refine gapped alignments... 0.00 sec
[bwa_aln_core] print alignments... 0.00 sec
[bwa_aln_core] 4 sequences have been processed.
[main] Version: 0.7.17-r1198-dirty
[main] CMD: /home/biocbuild/R/R-4.5.0-devel_2024-11-24/site-library/Rbwa/bwa samse -n 1000000000 /home/biocbuild/tmp/RtmpnrXIZc/chr12 /home/biocbuild/tmp/RtmpnrXIZc/file1d273d2e24caa.sai /home/biocbuild/tmp/RtmpnrXIZc/file1d273d2e24caa
[main] Real time: 0.005 sec; CPU: 0.002 sec
[runCrisprBwa] Using BSgenome.Hsapiens.UCSC.hg38 
[runCrisprBwa] Searching for AsCas12a protospacers 
[bwa_aln_core] calculate SA coordinate... 0.00 sec
[bwa_aln_core] write to the disk... 0.00 sec
[bwa_aln_core] 4 sequences have been processed.
[main] Version: 0.7.17-r1198-dirty
[main] CMD: /home/biocbuild/R/R-4.5.0-devel_2024-11-24/site-library/Rbwa/bwa aln -N -n 1 -l 69 -o 0 /home/biocbuild/tmp/RtmpnrXIZc/chr12 /home/biocbuild/tmp/RtmpnrXIZc/file1d273d68f9bcdb
[main] Real time: 0.020 sec; CPU: 0.002 sec
[bwa_aln_core] convert to sequence coordinate... 0.00 sec
[bwa_aln_core] refine gapped alignments... 0.00 sec
[bwa_aln_core] print alignments... 0.00 sec
[bwa_aln_core] 4 sequences have been processed.
[main] Version: 0.7.17-r1198-dirty
[main] CMD: /home/biocbuild/R/R-4.5.0-devel_2024-11-24/site-library/Rbwa/bwa samse -n 1000000000 /home/biocbuild/tmp/RtmpnrXIZc/chr12 /home/biocbuild/tmp/RtmpnrXIZc/file1d273d68f9bcdb.sai /home/biocbuild/tmp/RtmpnrXIZc/file1d273d68f9bcdb
[main] Real time: 0.003 sec; CPU: 0.002 sec
[runCrisprBwa] Using BSgenome.Hsapiens.UCSC.hg38 
[runCrisprBwa] Searching for AsCas12a protospacers 
[bwa_aln_core] calculate SA coordinate... 0.00 sec
[bwa_aln_core] write to the disk... 0.00 sec
[bwa_aln_core] 4 sequences have been processed.
[main] Version: 0.7.17-r1198-dirty
[main] CMD: /home/biocbuild/R/R-4.5.0-devel_2024-11-24/site-library/Rbwa/bwa aln -N -n 2 -l 69 -o 0 /home/biocbuild/tmp/RtmpnrXIZc/chr12 /home/biocbuild/tmp/RtmpnrXIZc/file1d273d4ff4e1c1
[main] Real time: 0.005 sec; CPU: 0.002 sec
[bwa_aln_core] convert to sequence coordinate... 0.00 sec
[bwa_aln_core] refine gapped alignments... 0.00 sec
[bwa_aln_core] print alignments... 0.00 sec
[bwa_aln_core] 4 sequences have been processed.
[main] Version: 0.7.17-r1198-dirty
[main] CMD: /home/biocbuild/R/R-4.5.0-devel_2024-11-24/site-library/Rbwa/bwa samse -n 1000000000 /home/biocbuild/tmp/RtmpnrXIZc/chr12 /home/biocbuild/tmp/RtmpnrXIZc/file1d273d4ff4e1c1.sai /home/biocbuild/tmp/RtmpnrXIZc/file1d273d4ff4e1c1
[main] Real time: 0.003 sec; CPU: 0.002 sec
[runCrisprBwa] Using BSgenome.Hsapiens.UCSC.hg38 
[runCrisprBwa] Searching for AsCas12a protospacers 
[bwa_aln_core] calculate SA coordinate... 0.00 sec
[bwa_aln_core] write to the disk... 0.00 sec
[bwa_aln_core] 4 sequences have been processed.
[main] Version: 0.7.17-r1198-dirty
[main] CMD: /home/biocbuild/R/R-4.5.0-devel_2024-11-24/site-library/Rbwa/bwa aln -N -n 3 -l 69 -o 0 /home/biocbuild/tmp/RtmpnrXIZc/chr12 /home/biocbuild/tmp/RtmpnrXIZc/file1d273de3a871c
[main] Real time: 0.005 sec; CPU: 0.002 sec
[bwa_aln_core] convert to sequence coordinate... 0.00 sec
[bwa_aln_core] refine gapped alignments... 0.00 sec
[bwa_aln_core] print alignments... 0.00 sec
[bwa_aln_core] 4 sequences have been processed.
[main] Version: 0.7.17-r1198-dirty
[main] CMD: /home/biocbuild/R/R-4.5.0-devel_2024-11-24/site-library/Rbwa/bwa samse -n 1000000000 /home/biocbuild/tmp/RtmpnrXIZc/chr12 /home/biocbuild/tmp/RtmpnrXIZc/file1d273de3a871c.sai /home/biocbuild/tmp/RtmpnrXIZc/file1d273de3a871c
[main] Real time: 0.004 sec; CPU: 0.002 sec
[ FAIL 0 | WARN 0 | SKIP 0 | PASS 19 ]
> 
> proc.time()
   user  system elapsed 
 22.250   1.367  23.846 

Example timings

crisprBwa.Rcheck/crisprBwa-Ex.timings

nameusersystemelapsed
runBwa0.3490.0620.457
runCrisprBwa1.1170.0351.190