Back to Build/check report for BioC 3.23:   simplified   long
AB[C]DEFGHIJKLMNOPQRSTUVWXYZ

This page was generated on 2025-11-13 11:32 -0500 (Thu, 13 Nov 2025).

HostnameOSArch (*)R versionInstalled pkgs
kjohnson3macOS 13.7.7 Venturaarm64R Under development (unstable) (2025-11-04 r88984) -- "Unsuffered Consequences" 4013
Click on any hostname to see more info about the system (e.g. compilers)      (*) as reported by 'uname -p', except on Windows and Mac OS X

Package 451/2325HostnameOS / ArchINSTALLBUILDCHECKBUILD BIN
countsimQC 1.29.0  (landing page)
Charlotte Soneson
Snapshot Date: 2025-11-12 13:40 -0500 (Wed, 12 Nov 2025)
git_url: https://git.bioconductor.org/packages/countsimQC
git_branch: devel
git_last_commit: 21f3a2b
git_last_commit_date: 2025-10-29 10:47:52 -0500 (Wed, 29 Oct 2025)
kjohnson3macOS 13.7.7 Ventura / arm64  ERROR    ERROR  skippedskipped


BUILD results for countsimQC on kjohnson3

To the developers/maintainers of the countsimQC package:
- Allow up to 24 hours (and sometimes 48 hours) for your latest push to git@git.bioconductor.org:packages/countsimQC.git to reflect on this report. See Troubleshooting Build Report for more information.
- Use the following Renviron settings to reproduce errors and warnings.
- If 'R CMD check' started to fail recently on the Linux builder(s) over a missing dependency, add the missing dependency to 'Suggests:' in your DESCRIPTION file. See Renviron.bioc for more information.

raw results


Summary

Package: countsimQC
Version: 1.29.0
Command: /Library/Frameworks/R.framework/Resources/bin/R CMD build --keep-empty-dirs --no-resave-data countsimQC
StartedAt: 2025-11-12 16:03:00 -0500 (Wed, 12 Nov 2025)
EndedAt: 2025-11-12 16:03:01 -0500 (Wed, 12 Nov 2025)
EllapsedTime: 1.0 seconds
RetCode: 1
Status:   ERROR  
PackageFile: None
PackageFileSize: NA

Command output

##############################################################################
##############################################################################
###
### Running command:
###
###   /Library/Frameworks/R.framework/Resources/bin/R CMD build --keep-empty-dirs --no-resave-data countsimQC
###
##############################################################################
##############################################################################


* checking for file ‘countsimQC/DESCRIPTION’ ... OK
* preparing ‘countsimQC’:
* checking DESCRIPTION meta-information ... OK
* installing the package (it is needed to build vignettes)
      -----------------------------------
ERROR: dependency ‘edgeR’ is not available for package ‘countsimQC’
Perhaps try a variation of:
install.packages('edgeR')
* removing ‘/private/var/folders/r0/l4fjk6cj5xj0j3brt4bplpl40000gt/T/RtmpYAz720/Rinst106f923954cfb/countsimQC’
      -----------------------------------
ERROR: package installation failed