Back to Multiple platform build/check report for BioC 3.22:   simplified   long
AB[C]DEFGHIJKLMNOPQRSTUVWXYZ

This page was generated on 2025-07-26 12:05 -0400 (Sat, 26 Jul 2025).

HostnameOSArch (*)R versionInstalled pkgs
nebbiolo2Linux (Ubuntu 24.04.2 LTS)x86_644.5.1 (2025-06-13) -- "Great Square Root" 4795
palomino8Windows Server 2022 Datacenterx644.5.1 (2025-06-13 ucrt) -- "Great Square Root" 4534
lconwaymacOS 12.7.1 Montereyx86_644.5.1 (2025-06-13) -- "Great Square Root" 4577
kjohnson3macOS 13.7.1 Venturaarm644.5.1 Patched (2025-06-14 r88325) -- "Great Square Root" 4518
taishanLinux (openEuler 24.03 LTS)aarch644.5.0 (2025-04-11) -- "How About a Twenty-Six" 4512
Click on any hostname to see more info about the system (e.g. compilers)      (*) as reported by 'uname -p', except on Windows and Mac OS X

Package 426/2313HostnameOS / ArchINSTALLBUILDCHECKBUILD BIN
condiments 1.17.0  (landing page)
Hector Roux de Bezieux
Snapshot Date: 2025-07-25 13:25 -0400 (Fri, 25 Jul 2025)
git_url: https://git.bioconductor.org/packages/condiments
git_branch: devel
git_last_commit: 2ea9897
git_last_commit_date: 2025-04-15 12:24:44 -0400 (Tue, 15 Apr 2025)
nebbiolo2Linux (Ubuntu 24.04.2 LTS) / x86_64  OK    OK    OK  UNNEEDED, same version is already published
palomino8Windows Server 2022 Datacenter / x64  OK    OK    OK    OK  UNNEEDED, same version is already published
lconwaymacOS 12.7.1 Monterey / x86_64  OK    OK    OK    OK  UNNEEDED, same version is already published
kjohnson3macOS 13.7.1 Ventura / arm64  OK    OK    OK    OK  UNNEEDED, same version is already published
taishanLinux (openEuler 24.03 LTS) / aarch64  OK    OK    OK  


CHECK results for condiments on nebbiolo2

To the developers/maintainers of the condiments package:
- Allow up to 24 hours (and sometimes 48 hours) for your latest push to git@git.bioconductor.org:packages/condiments.git to reflect on this report. See Troubleshooting Build Report for more information.
- Use the following Renviron settings to reproduce errors and warnings.
- If 'R CMD check' started to fail recently on the Linux builder(s) over a missing dependency, add the missing dependency to 'Suggests:' in your DESCRIPTION file. See Renviron.bioc for more information.

raw results


Summary

Package: condiments
Version: 1.17.0
Command: /home/biocbuild/bbs-3.22-bioc/R/bin/R CMD check --install=check:condiments.install-out.txt --library=/home/biocbuild/bbs-3.22-bioc/R/site-library --timings condiments_1.17.0.tar.gz
StartedAt: 2025-07-25 23:24:05 -0400 (Fri, 25 Jul 2025)
EndedAt: 2025-07-25 23:33:21 -0400 (Fri, 25 Jul 2025)
EllapsedTime: 556.5 seconds
RetCode: 0
Status:   OK  
CheckDir: condiments.Rcheck
Warnings: 0

Command output

##############################################################################
##############################################################################
###
### Running command:
###
###   /home/biocbuild/bbs-3.22-bioc/R/bin/R CMD check --install=check:condiments.install-out.txt --library=/home/biocbuild/bbs-3.22-bioc/R/site-library --timings condiments_1.17.0.tar.gz
###
##############################################################################
##############################################################################


* using log directory ‘/home/biocbuild/bbs-3.22-bioc/meat/condiments.Rcheck’
* using R version 4.5.1 (2025-06-13)
* using platform: x86_64-pc-linux-gnu
* R was compiled by
    gcc (Ubuntu 13.3.0-6ubuntu2~24.04) 13.3.0
    GNU Fortran (Ubuntu 13.3.0-6ubuntu2~24.04) 13.3.0
* running under: Ubuntu 24.04.2 LTS
* using session charset: UTF-8
* checking for file ‘condiments/DESCRIPTION’ ... OK
* checking extension type ... Package
* this is package ‘condiments’ version ‘1.17.0’
* package encoding: UTF-8
* checking package namespace information ... OK
* checking package dependencies ... OK
* checking if this is a source package ... OK
* checking if there is a namespace ... OK
* checking for hidden files and directories ... OK
* checking for portable file names ... OK
* checking for sufficient/correct file permissions ... OK
* checking whether package ‘condiments’ can be installed ... OK
* checking installed package size ... OK
* checking package directory ... OK
* checking ‘build’ directory ... OK
* checking DESCRIPTION meta-information ... OK
* checking top-level files ... OK
* checking for left-over files ... OK
* checking index information ... OK
* checking package subdirectories ... OK
* checking code files for non-ASCII characters ... OK
* checking R files for syntax errors ... OK
* checking whether the package can be loaded ... OK
* checking whether the package can be loaded with stated dependencies ... OK
* checking whether the package can be unloaded cleanly ... OK
* checking whether the namespace can be loaded with stated dependencies ... OK
* checking whether the namespace can be unloaded cleanly ... OK
* checking loading without being on the library search path ... OK
* checking dependencies in R code ... OK
* checking S3 generic/method consistency ... OK
* checking replacement functions ... OK
* checking foreign function calls ... OK
* checking R code for possible problems ... NOTE
.condition_sling: no visible binding for global variable ‘.’
.condition_sling : <anonymous>: no visible binding for global variable
  ‘.’
.distinct_inputs: no visible binding for global variable ‘Samples’
.distinct_inputs: no visible binding for global variable ‘.’
.fateSelectionTest: no visible binding for global variable ‘pair’
.fateSelectionTest: no visible binding for global variable ‘statistic’
.fateSelectionTest: no visible binding for global variable ‘p.value’
.multiple_samples: no visible binding for global variable ‘p.value’
.progressionTest: no visible binding for global variable ‘lineage’
.progressionTest: no visible binding for global variable ‘statistic’
.progressionTest: no visible binding for global variable ‘p.value’
.topologyTest_multipleSamples: no visible binding for global variable
  ‘p.value’
fateSelectionTest_multipleSamples,SlingshotDataSet: no visible binding
  for global variable ‘condition’
progressionTest_multipleSamples,SlingshotDataSet: no visible binding
  for global variable ‘condition’
Undefined global functions or variables:
  . Samples condition lineage p.value pair statistic
* checking Rd files ... OK
* checking Rd metadata ... OK
* checking Rd cross-references ... NOTE
Found the following Rd file(s) with Rd \link{} targets missing package
anchors:
  fateSelectionTest.Rd: SlingshotDataSet, SingleCellExperiment,
    classifier_test, mmd_test, wasserstein_permut
  fateSelectionTest_multipleSamples.Rd: SlingshotDataSet,
    SingleCellExperiment
  imbalance_score.Rd: SingleCellExperiment, colData
  progressionTest.Rd: SlingshotDataSet, SingleCellExperiment, mmd_test,
    classifier_test, wasserstein_permut, ks_test
  progressionTest_multipleSamples.Rd: SlingshotDataSet,
    SingleCellExperiment
  slingshot_conditions.Rd: SlingshotDataSet, SingleCellExperiment
  topologyTest.Rd: SlingshotDataSet, SingleCellExperiment, ks_test,
    classifier_test, mmd_test, wasserstein_permut, distinct_test
  topologyTest_multipleSamples.Rd: SlingshotDataSet,
    SingleCellExperiment
Please provide package anchors for all Rd \link{} targets not in the
package itself and the base packages.
* checking for missing documentation entries ... OK
* checking for code/documentation mismatches ... OK
* checking Rd \usage sections ... OK
* checking Rd contents ... OK
* checking for unstated dependencies in examples ... OK
* checking contents of ‘data’ directory ... OK
* checking data for non-ASCII characters ... OK
* checking data for ASCII and uncompressed saves ... OK
* checking files in ‘vignettes’ ... OK
* checking examples ... OK
* checking for unstated dependencies in ‘tests’ ... OK
* checking tests ...
  Running ‘testthat.R’
 OK
* checking for unstated dependencies in vignettes ... OK
* checking package vignettes ... OK
* checking re-building of vignette outputs ... OK
* checking PDF version of manual ... OK
* DONE

Status: 2 NOTEs
See
  ‘/home/biocbuild/bbs-3.22-bioc/meat/condiments.Rcheck/00check.log’
for details.


Installation output

condiments.Rcheck/00install.out

##############################################################################
##############################################################################
###
### Running command:
###
###   /home/biocbuild/bbs-3.22-bioc/R/bin/R CMD INSTALL condiments
###
##############################################################################
##############################################################################


* installing to library ‘/home/biocbuild/bbs-3.22-bioc/R/site-library’
* installing *source* package ‘condiments’ ...
** this is package ‘condiments’ version ‘1.17.0’
** using staged installation
** R
** data
** inst
** byte-compile and prepare package for lazy loading
** help
*** installing help indices
*** copying figures
** building package indices
** installing vignettes
** testing if installed package can be loaded from temporary location
** testing if installed package can be loaded from final location
** testing if installed package keeps a record of temporary installation path
* DONE (condiments)

Tests output

condiments.Rcheck/tests/testthat.Rout


R version 4.5.1 (2025-06-13) -- "Great Square Root"
Copyright (C) 2025 The R Foundation for Statistical Computing
Platform: x86_64-pc-linux-gnu

R is free software and comes with ABSOLUTELY NO WARRANTY.
You are welcome to redistribute it under certain conditions.
Type 'license()' or 'licence()' for distribution details.

R is a collaborative project with many contributors.
Type 'contributors()' for more information and
'citation()' on how to cite R or R packages in publications.

Type 'demo()' for some demos, 'help()' for on-line help, or
'help.start()' for an HTML browser interface to help.
Type 'q()' to quit R.

> library(condiments)
> library(testthat)
> test_check("condiments")
note: only 1 unique complexity parameters in default grid. Truncating the grid to 1 .

note: only 1 unique complexity parameters in default grid. Truncating the grid to 1 .

note: only 1 unique complexity parameters in default grid. Truncating the grid to 1 .

note: only 2 unique complexity parameters in default grid. Truncating the grid to 2 .

note: only 1 unique complexity parameters in default grid. Truncating the grid to 1 .

note: only 1 unique complexity parameters in default grid. Truncating the grid to 1 .

note: only 1 unique complexity parameters in default grid. Truncating the grid to 1 .

note: only 2 unique complexity parameters in default grid. Truncating the grid to 2 .

note: only 1 unique complexity parameters in default grid. Truncating the grid to 1 .

note: only 1 unique complexity parameters in default grid. Truncating the grid to 1 .

note: only 1 unique complexity parameters in default grid. Truncating the grid to 1 .

note: only 1 unique complexity parameters in default grid. Truncating the grid to 1 .

note: only 1 unique complexity parameters in default grid. Truncating the grid to 1 .

note: only 1 unique complexity parameters in default grid. Truncating the grid to 1 .

note: only 1 unique complexity parameters in default grid. Truncating the grid to 1 .

note: only 1 unique complexity parameters in default grid. Truncating the grid to 1 .

note: only 1 unique complexity parameters in default grid. Truncating the grid to 1 .

note: only 1 unique complexity parameters in default grid. Truncating the grid to 1 .

note: only 1 unique complexity parameters in default grid. Truncating the grid to 1 .

note: only 1 unique complexity parameters in default grid. Truncating the grid to 1 .

note: only 1 unique complexity parameters in default grid. Truncating the grid to 1 .

note: only 1 unique complexity parameters in default grid. Truncating the grid to 1 .

note: only 1 unique complexity parameters in default grid. Truncating the grid to 1 .

note: only 1 unique complexity parameters in default grid. Truncating the grid to 1 .

note: only 1 unique complexity parameters in default grid. Truncating the grid to 1 .

note: only 1 unique complexity parameters in default grid. Truncating the grid to 1 .

note: only 1 unique complexity parameters in default grid. Truncating the grid to 1 .

note: only 1 unique complexity parameters in default grid. Truncating the grid to 1 .

note: only 1 unique complexity parameters in default grid. Truncating the grid to 1 .

note: only 1 unique complexity parameters in default grid. Truncating the grid to 1 .

note: only 1 unique complexity parameters in default grid. Truncating the grid to 1 .

note: only 1 unique complexity parameters in default grid. Truncating the grid to 1 .

note: only 1 unique complexity parameters in default grid. Truncating the grid to 1 .

note: only 1 unique complexity parameters in default grid. Truncating the grid to 1 .

note: only 1 unique complexity parameters in default grid. Truncating the grid to 1 .

note: only 1 unique complexity parameters in default grid. Truncating the grid to 1 .

note: only 1 unique complexity parameters in default grid. Truncating the grid to 1 .

note: only 1 unique complexity parameters in default grid. Truncating the grid to 1 .

note: only 1 unique complexity parameters in default grid. Truncating the grid to 1 .

note: only 1 unique complexity parameters in default grid. Truncating the grid to 1 .

note: only 1 unique complexity parameters in default grid. Truncating the grid to 1 .

note: only 1 unique complexity parameters in default grid. Truncating the grid to 1 .

[ FAIL 0 | WARN 0 | SKIP 0 | PASS 112 ]
> 
> proc.time()
   user  system elapsed 
140.963   6.181 147.141 

Example timings

condiments.Rcheck/condiments-Ex.timings

nameusersystemelapsed
create_differential_topology0.0030.0000.003
differentiationTest2.1760.0462.221
fateSelectionTest1.4300.0431.473
fateSelectionTest_multipleSamples1.3780.0011.379
imbalance_score0.1890.0070.196
merge_sds0.2790.0000.279
nLineages0.2540.0000.254
progressionTest0.3090.0010.310
progressionTest_multipleSamples0.2720.0010.272
slingshot_conditions0.6150.0020.617
topologyTest3.4060.0183.426
topologyTest_multipleSamples3.4910.0363.527
weights_from_pst0.2460.0010.248