Back to Multiple platform build/check report for BioC 3.21:   simplified   long
AB[C]DEFGHIJKLMNOPQRSTUVWXYZ

This page was generated on 2025-02-04 11:44 -0500 (Tue, 04 Feb 2025).

HostnameOSArch (*)R versionInstalled pkgs
nebbiolo1Linux (Ubuntu 24.04.1 LTS)x86_64R Under development (unstable) (2025-01-20 r87609) -- "Unsuffered Consequences" 4716
palomino7Windows Server 2022 Datacenterx64R Under development (unstable) (2025-01-21 r87610 ucrt) -- "Unsuffered Consequences" 4478
lconwaymacOS 12.7.1 Montereyx86_64R Under development (unstable) (2025-01-22 r87618) -- "Unsuffered Consequences" 4489
kjohnson3macOS 13.7.1 Venturaarm64R Under development (unstable) (2025-01-20 r87609) -- "Unsuffered Consequences" 4442
Click on any hostname to see more info about the system (e.g. compilers)      (*) as reported by 'uname -p', except on Windows and Mac OS X

Package 410/2295HostnameOS / ArchINSTALLBUILDCHECKBUILD BIN
comapr 1.11.1  (landing page)
Ruqian Lyu
Snapshot Date: 2025-02-03 13:40 -0500 (Mon, 03 Feb 2025)
git_url: https://git.bioconductor.org/packages/comapr
git_branch: devel
git_last_commit: 600d726
git_last_commit_date: 2024-12-21 19:52:14 -0500 (Sat, 21 Dec 2024)
nebbiolo1Linux (Ubuntu 24.04.1 LTS) / x86_64  OK    OK    OK  UNNEEDED, same version is already published
palomino7Windows Server 2022 Datacenter / x64  OK    OK    OK    OK  UNNEEDED, same version is already published
lconwaymacOS 12.7.1 Monterey / x86_64  OK    OK    OK    OK  UNNEEDED, same version is already published
kjohnson3macOS 13.7.1 Ventura / arm64  OK    OK    OK    OK  UNNEEDED, same version is already published


CHECK results for comapr on kjohnson3

To the developers/maintainers of the comapr package:
- Allow up to 24 hours (and sometimes 48 hours) for your latest push to git@git.bioconductor.org:packages/comapr.git to reflect on this report. See Troubleshooting Build Report for more information.
- Use the following Renviron settings to reproduce errors and warnings.
- If 'R CMD check' started to fail recently on the Linux builder(s) over a missing dependency, add the missing dependency to 'Suggests:' in your DESCRIPTION file. See Renviron.bioc for more information.

raw results


Summary

Package: comapr
Version: 1.11.1
Command: /Library/Frameworks/R.framework/Resources/bin/R CMD check --install=check:comapr.install-out.txt --library=/Library/Frameworks/R.framework/Resources/library --no-vignettes --timings comapr_1.11.1.tar.gz
StartedAt: 2025-02-03 19:14:21 -0500 (Mon, 03 Feb 2025)
EndedAt: 2025-02-03 19:16:51 -0500 (Mon, 03 Feb 2025)
EllapsedTime: 150.8 seconds
RetCode: 0
Status:   OK  
CheckDir: comapr.Rcheck
Warnings: 0

Command output

##############################################################################
##############################################################################
###
### Running command:
###
###   /Library/Frameworks/R.framework/Resources/bin/R CMD check --install=check:comapr.install-out.txt --library=/Library/Frameworks/R.framework/Resources/library --no-vignettes --timings comapr_1.11.1.tar.gz
###
##############################################################################
##############################################################################


* using log directory ‘/Users/biocbuild/bbs-3.21-bioc/meat/comapr.Rcheck’
* using R Under development (unstable) (2025-01-20 r87609)
* using platform: aarch64-apple-darwin20
* R was compiled by
    Apple clang version 14.0.0 (clang-1400.0.29.202)
    GNU Fortran (GCC) 14.2.0
* running under: macOS Ventura 13.7.1
* using session charset: UTF-8
* using option ‘--no-vignettes’
* checking for file ‘comapr/DESCRIPTION’ ... OK
* this is package ‘comapr’ version ‘1.11.1’
* package encoding: UTF-8
* checking package namespace information ... OK
* checking package dependencies ... OK
* checking if this is a source package ... OK
* checking if there is a namespace ... OK
* checking for hidden files and directories ... OK
* checking for portable file names ... OK
* checking for sufficient/correct file permissions ... OK
* checking whether package ‘comapr’ can be installed ... OK
* checking installed package size ... OK
* checking package directory ... OK
* checking ‘build’ directory ... OK
* checking DESCRIPTION meta-information ... OK
* checking top-level files ... OK
* checking for left-over files ... OK
* checking index information ... OK
* checking package subdirectories ... OK
* checking code files for non-ASCII characters ... OK
* checking R files for syntax errors ... OK
* checking whether the package can be loaded ... OK
* checking whether the package can be loaded with stated dependencies ... OK
* checking whether the package can be unloaded cleanly ... OK
* checking whether the namespace can be loaded with stated dependencies ... OK
* checking whether the namespace can be unloaded cleanly ... OK
* checking dependencies in R code ... OK
* checking S3 generic/method consistency ... OK
* checking replacement functions ... OK
* checking foreign function calls ... OK
* checking R code for possible problems ... OK
* checking Rd files ... NOTE
checkRd: (-1) perCellChrQC.Rd:22: Lost braces; missing escapes or markup?
    22 | \item{path, }{the path to the files, with name patterns *{chrom}_vi.mtx,
       |                                                          ^
checkRd: (-1) perCellChrQC.Rd:23: Lost braces; missing escapes or markup?
    23 | *{chrom}_viSegInfo.txt, end with slash}
       |  ^
checkRd: (-1) perSegChrQC.Rd:21: Lost braces; missing escapes or markup?
    21 | \item{path, }{the path to the files, with name patterns *{chrom}_vi.mtx,
       |                                                          ^
checkRd: (-1) perSegChrQC.Rd:22: Lost braces; missing escapes or markup?
    22 | *{chrom}_viSegInfo.txt, end with slash}
       |  ^
checkRd: (-1) readHapState.Rd:28: Lost braces; missing escapes or markup?
    28 | \item{path, }{the path to the files, with name patterns *{chrom}_vi.mtx,
       |                                                          ^
checkRd: (-1) readHapState.Rd:29: Lost braces; missing escapes or markup?
    29 | *{chrom}_viSegInfo.txt, end with slash}
       |  ^
* checking Rd metadata ... OK
* checking Rd cross-references ... OK
* checking for missing documentation entries ... OK
* checking for code/documentation mismatches ... OK
* checking Rd \usage sections ... OK
* checking Rd contents ... OK
* checking for unstated dependencies in examples ... OK
* checking contents of ‘data’ directory ... OK
* checking data for non-ASCII characters ... OK
* checking data for ASCII and uncompressed saves ... OK
* checking files in ‘vignettes’ ... OK
* checking examples ... OK
* checking for unstated dependencies in ‘tests’ ... OK
* checking tests ...
  Running ‘testthat.R’
 OK
* checking for unstated dependencies in vignettes ... OK
* checking package vignettes ... OK
* checking running R code from vignettes ... SKIPPED
* checking re-building of vignette outputs ... SKIPPED
* checking PDF version of manual ... OK
* DONE

Status: 1 NOTE
See
  ‘/Users/biocbuild/bbs-3.21-bioc/meat/comapr.Rcheck/00check.log’
for details.


Installation output

comapr.Rcheck/00install.out

##############################################################################
##############################################################################
###
### Running command:
###
###   /Library/Frameworks/R.framework/Resources/bin/R CMD INSTALL comapr
###
##############################################################################
##############################################################################


* installing to library ‘/Library/Frameworks/R.framework/Versions/4.5-arm64/Resources/library’
* installing *source* package ‘comapr’ ...
** this is package ‘comapr’ version ‘1.11.1’
** using staged installation
** R
** data
** inst
** byte-compile and prepare package for lazy loading
** help
*** installing help indices
** building package indices
** installing vignettes
** testing if installed package can be loaded from temporary location
** testing if installed package can be loaded from final location
** testing if installed package keeps a record of temporary installation path
* DONE (comapr)

Tests output

comapr.Rcheck/tests/testthat.Rout


R Under development (unstable) (2025-01-20 r87609) -- "Unsuffered Consequences"
Copyright (C) 2025 The R Foundation for Statistical Computing
Platform: aarch64-apple-darwin20

R is free software and comes with ABSOLUTELY NO WARRANTY.
You are welcome to redistribute it under certain conditions.
Type 'license()' or 'licence()' for distribution details.

R is a collaborative project with many contributors.
Type 'contributors()' for more information and
'citation()' on how to cite R or R packages in publications.

Type 'demo()' for some demos, 'help()' for on-line help, or
'help.start()' for an HTML browser interface to help.
Type 'q()' to quit R.

> library(testthat)
> library(comapr)
> 
> test_check("comapr")
[ FAIL 0 | WARN 3 | SKIP 0 | PASS 91 ]

[ FAIL 0 | WARN 3 | SKIP 0 | PASS 91 ]
> 
> proc.time()
   user  system elapsed 
 15.890   2.287  16.272 

Example timings

comapr.Rcheck/comapr-Ex.timings

nameusersystemelapsed
bootstrapDist2.0600.0892.095
calGeneticDist0.0420.0330.076
combineHapState0.6790.1230.821
correctGT0.0030.0010.004
countBinState0.1140.0170.547
countCOs0.1900.0130.202
countGT0.0360.0020.037
filterGT0.0230.0010.024
findDupSamples0.0030.0010.003
getAFTracks0.3740.0120.385
getCellAFTrack0.2890.0010.291
getCellCORange0.1140.0000.114
getCellDPTrack0.1280.0020.128
getDistortedMarkers0.0750.0010.077
getMeanDPTrack0.0140.0010.014
getSNPDensityTrack0.0130.0000.013
perCellChrQC0.0130.0010.014
perSegChrQC0.0170.0010.019
permuteDist0.0080.0000.008
plotCount0.2060.0030.209
plotGTFreq0.1360.0020.138
plotGeneticDist0.0810.0010.082
plotWholeGenome0.0910.0020.092
readColMM0.0020.0000.003
readHapState0.0380.0010.039