Back to Multiple platform build/check report for BioC 3.22:   simplified   long
AB[C]DEFGHIJKLMNOPQRSTUVWXYZ

This page was generated on 2025-10-24 12:07 -0400 (Fri, 24 Oct 2025).

HostnameOSArch (*)R versionInstalled pkgs
nebbiolo2Linux (Ubuntu 24.04.3 LTS)x86_644.5.1 Patched (2025-08-23 r88802) -- "Great Square Root" 4898
lconwaymacOS 12.7.6 Montereyx86_644.5.1 Patched (2025-09-10 r88807) -- "Great Square Root" 4688
kjohnson3macOS 13.7.7 Venturaarm644.5.1 Patched (2025-09-10 r88807) -- "Great Square Root" 4634
taishanLinux (openEuler 24.03 LTS)aarch644.5.0 (2025-04-11) -- "How About a Twenty-Six" 4658
Click on any hostname to see more info about the system (e.g. compilers)      (*) as reported by 'uname -p', except on Windows and Mac OS X

Package 400/2359HostnameOS / ArchINSTALLBUILDCHECKBUILD BIN
cn.mops 1.55.1  (landing page)
Gundula Povysil
Snapshot Date: 2025-10-23 14:17 -0400 (Thu, 23 Oct 2025)
git_url: https://git.bioconductor.org/packages/cn.mops
git_branch: devel
git_last_commit: 8f56f3e
git_last_commit_date: 2025-07-22 22:34:45 -0400 (Tue, 22 Jul 2025)
nebbiolo2Linux (Ubuntu 24.04.3 LTS) / x86_64  OK    OK    OK  UNNEEDED, same version is already published
lconwaymacOS 12.7.6 Monterey / x86_64  OK    OK    OK    OK  UNNEEDED, same version is already published
kjohnson3macOS 13.7.7 Ventura / arm64  OK    OK    OK    OK  UNNEEDED, same version is already published
taishanLinux (openEuler 24.03 LTS) / aarch64  OK    OK    OK  


CHECK results for cn.mops on taishan

To the developers/maintainers of the cn.mops package:
- Allow up to 24 hours (and sometimes 48 hours) for your latest push to git@git.bioconductor.org:packages/cn.mops.git to reflect on this report. See Troubleshooting Build Report for more information.
- Use the following Renviron settings to reproduce errors and warnings.
- If 'R CMD check' started to fail recently on the Linux builder(s) over a missing dependency, add the missing dependency to 'Suggests:' in your DESCRIPTION file. See Renviron.bioc for more information.
- See Martin Grigorov's blog post for how to debug Linux ARM64 related issues on a x86_64 host.

raw results


Summary

Package: cn.mops
Version: 1.55.1
Command: /home/biocbuild/R/R/bin/R CMD check --install=check:cn.mops.install-out.txt --library=/home/biocbuild/R/R/site-library --no-vignettes --timings cn.mops_1.55.1.tar.gz
StartedAt: 2025-10-21 06:39:21 -0000 (Tue, 21 Oct 2025)
EndedAt: 2025-10-21 06:43:41 -0000 (Tue, 21 Oct 2025)
EllapsedTime: 259.3 seconds
RetCode: 0
Status:   OK  
CheckDir: cn.mops.Rcheck
Warnings: 0

Command output

##############################################################################
##############################################################################
###
### Running command:
###
###   /home/biocbuild/R/R/bin/R CMD check --install=check:cn.mops.install-out.txt --library=/home/biocbuild/R/R/site-library --no-vignettes --timings cn.mops_1.55.1.tar.gz
###
##############################################################################
##############################################################################


* using log directory ‘/home/biocbuild/bbs-3.22-bioc/meat/cn.mops.Rcheck’
* using R version 4.5.0 (2025-04-11)
* using platform: aarch64-unknown-linux-gnu
* R was compiled by
    aarch64-unknown-linux-gnu-gcc (GCC) 14.2.0
    GNU Fortran (GCC) 14.2.0
* running under: openEuler 24.03 (LTS)
* using session charset: UTF-8
* using option ‘--no-vignettes’
* checking for file ‘cn.mops/DESCRIPTION’ ... OK
* checking extension type ... Package
* this is package ‘cn.mops’ version ‘1.55.1’
* checking package namespace information ... OK
* checking package dependencies ... OK
* checking if this is a source package ... OK
* checking if there is a namespace ... OK
* checking for hidden files and directories ... OK
* checking for portable file names ... OK
* checking for sufficient/correct file permissions ... OK
* checking whether package ‘cn.mops’ can be installed ... OK
* used C compiler: ‘aarch64-unknown-linux-gnu-gcc (GCC) 14.2.0’
* used C++ compiler: ‘aarch64-unknown-linux-gnu-g++ (GCC) 14.2.0’
* checking installed package size ... OK
* checking package directory ... OK
* checking ‘build’ directory ... OK
* checking DESCRIPTION meta-information ... OK
* checking top-level files ... OK
* checking for left-over files ... OK
* checking index information ... OK
* checking package subdirectories ... OK
* checking code files for non-ASCII characters ... OK
* checking R files for syntax errors ... OK
* checking whether the package can be loaded ... OK
* checking whether the package can be loaded with stated dependencies ... OK
* checking whether the package can be unloaded cleanly ... OK
* checking whether the namespace can be loaded with stated dependencies ... OK
* checking whether the namespace can be unloaded cleanly ... OK
* checking loading without being on the library search path ... OK
* checking whether startup messages can be suppressed ... OK
* checking dependencies in R code ... OK
* checking S3 generic/method consistency ... OK
* checking replacement functions ... OK
* checking foreign function calls ... OK
* checking R code for possible problems ... OK
* checking Rd files ... OK
* checking Rd metadata ... OK
* checking Rd cross-references ... OK
* checking for missing documentation entries ... OK
* checking for code/documentation mismatches ... OK
* checking Rd \usage sections ... OK
* checking Rd contents ... OK
* checking for unstated dependencies in examples ... OK
* checking contents of ‘data’ directory ... OK
* checking data for non-ASCII characters ... OK
* checking data for ASCII and uncompressed saves ... OK
* checking line endings in C/C++/Fortran sources/headers ... OK
* checking compiled code ... NOTE
Note: information on .o files is not available
* checking files in ‘vignettes’ ... OK
* checking examples ... OK
Examples with CPU (user + system) or elapsed time > 5s
                                                      user system elapsed
referencecn.mops                                    28.635  0.048  39.037
calcFractionalCopyNumbers-CNVDetectionResult-method 17.013  0.024  17.061
calcFractionalCopyNumbers                           16.852  0.004  16.891
cn.mops                                              7.877  0.058  21.531
haplocn.mops                                         1.463  0.038  12.202
getReadCountsFromBAM                                 0.576  0.000   6.154
getSegmentReadCountsFromBAM                          0.383  0.000   5.761
* checking for unstated dependencies in vignettes ... OK
* checking package vignettes ... OK
* checking running R code from vignettes ... SKIPPED
* checking re-building of vignette outputs ... SKIPPED
* checking PDF version of manual ... OK
* DONE

Status: 1 NOTE
See
  ‘/home/biocbuild/bbs-3.22-bioc/meat/cn.mops.Rcheck/00check.log’
for details.


Installation output

cn.mops.Rcheck/00install.out

##############################################################################
##############################################################################
###
### Running command:
###
###   /home/biocbuild/R/R/bin/R CMD INSTALL cn.mops
###
##############################################################################
##############################################################################


* installing to library ‘/home/biocbuild/R/R-4.5.0/site-library’
* installing *source* package ‘cn.mops’ ...
** this is package ‘cn.mops’ version ‘1.55.1’
** using staged installation
** libs
using C compiler: ‘aarch64-unknown-linux-gnu-gcc (GCC) 14.2.0’
using C++ compiler: ‘aarch64-unknown-linux-gnu-g++ (GCC) 14.2.0’
/opt/ohpc/pub/compiler/gcc/14.2.0/bin/aarch64-unknown-linux-gnu-gcc -std=gnu23 -I"/home/biocbuild/R/R-4.5.0/include" -DNDEBUG   -I/usr/local/include    -fPIC  -g -O2  -Wall -Werror=format-security -c R_init_cnmops.c -o R_init_cnmops.o
/opt/ohpc/pub/compiler/gcc/14.2.0/bin/aarch64-unknown-linux-gnu-g++ -std=gnu++17 -I"/home/biocbuild/R/R-4.5.0/include" -DNDEBUG   -I/usr/local/include    -fPIC  -g -O2  -Wall -Werror=format-security  -c cnmops.cpp -o cnmops.o
/opt/ohpc/pub/compiler/gcc/14.2.0/bin/aarch64-unknown-linux-gnu-g++ -std=gnu++17 -I"/home/biocbuild/R/R-4.5.0/include" -DNDEBUG   -I/usr/local/include    -fPIC  -g -O2  -Wall -Werror=format-security  -c segment.cpp -o segment.o
segment.cpp: In function ‘SEXPREC* segment(SEXP, SEXP, SEXP, SEXP, SEXP, SEXP)’:
segment.cpp:59:27: warning: variable ‘globalSd’ set but not used [-Wunused-but-set-variable]
   59 |         double globalMean,globalSd,diff,M2,globalVariance;
      |                           ^~~~~~~~
segment.cpp:60:16: warning: variable ‘oldStatistic’ set but not used [-Wunused-but-set-variable]
   60 |         double oldStatistic, meanLeft,meanRight,varLeft,varRight;
      |                ^~~~~~~~~~~~
segment.cpp:61:38: warning: variable ‘maxStatistic’ set but not used [-Wunused-but-set-variable]
   61 |         double newStatistic,meanDiff,maxStatistic,DOF,a,b,eps1;
      |                                      ^~~~~~~~~~~~
segment.cpp:62:47: warning: variable ‘maxIdx’ set but not used [-Wunused-but-set-variable]
   62 |         double newPValue, maxPValue,oldPValue,maxIdx;
      |                                               ^~~~~~
In file included from segment.cpp:10:
/home/biocbuild/R/R-4.5.0/include/Rmath.h:221:25: warning: unused variable ‘Rf_beta’ [-Wunused-variable]
  221 | #define beta            Rf_beta
      |                         ^~~~~~~
segment.cpp:64:16: note: in expansion of macro ‘beta’
   64 |         double beta,nn;
      |                ^~~~
/opt/ohpc/pub/compiler/gcc/14.2.0/bin/aarch64-unknown-linux-gnu-g++ -std=gnu++17 -shared -L/home/biocbuild/R/R-4.5.0/lib -L/usr/local/lib -o cn.mops.so R_init_cnmops.o cnmops.o segment.o -L/home/biocbuild/R/R-4.5.0/lib -lR
installing to /home/biocbuild/R/R-4.5.0/site-library/00LOCK-cn.mops/00new/cn.mops/libs
** R
** data
** inst
** byte-compile and prepare package for lazy loading
** help
*** installing help indices
** building package indices
** installing vignettes
** testing if installed package can be loaded from temporary location
** checking absolute paths in shared objects and dynamic libraries
** testing if installed package can be loaded from final location
** testing if installed package keeps a record of temporary installation path
* DONE (cn.mops)

Tests output


Example timings

cn.mops.Rcheck/cn.mops-Ex.timings

nameusersystemelapsed
CNVDetectionResult0.0010.0000.001
calcFractionalCopyNumbers-CNVDetectionResult-method17.013 0.02417.061
calcFractionalCopyNumbers16.852 0.00416.891
calcIntegerCopyNumbers-CNVDetectionResult-method0.5350.0000.536
calcIntegerCopyNumbers0.5300.0000.533
cn.mops 7.877 0.05821.531
cnvr-CNVDetectionResult-method0.2770.0080.285
cnvr0.2630.0040.268
cnvs-CNVDetectionResult-method0.2790.0040.284
cnvs0.2850.0000.286
exomecn.mops3.4760.0123.498
getReadCountsFromBAM0.5760.0006.154
getSegmentReadCountsFromBAM0.3830.0005.761
gr-CNVDetectionResult-method0.2840.0040.289
gr0.2860.0040.292
haplocn.mops 1.463 0.03812.202
individualCall-CNVDetectionResult-method0.2970.0200.317
individualCall0.3010.0000.301
iniCall-CNVDetectionResult-method0.3150.0080.325
iniCall0.2950.0000.297
integerCopyNumber-CNVDetectionResult-method0.2900.0000.291
integerCopyNumber0.2970.0000.298
localAssessments-CNVDetectionResult-method0.2990.0040.304
localAssessments0.6400.0200.662
makeRobustCNVR0.4980.0040.504
normalizeChromosomes0.2230.0040.227
normalizeGenome0.2060.0000.207
normalizedData-CNVDetectionResult-method0.3000.0000.301
normalizedData0.2820.0040.292
params-CNVDetectionResult-method0.3140.0000.315
params0.2850.0080.294
posteriorProbs-CNVDetectionResult-method0.2810.0000.282
posteriorProbs0.2610.0040.265
referencecn.mops28.635 0.04839.037
sampleNames-CNVDetectionResult-method0.2810.0400.322
sampleNames0.2930.0760.370
segment0.0220.0160.038
segmentation-CNVDetectionResult-method0.2940.0160.311
segmentation0.2730.0040.278
segplot-CNVDetectionResult-method1.3520.1071.465
segplot1.2460.0241.274
singlecn.mops0.9420.0040.949