| Back to Multiple platform build/check report for BioC 3.22: simplified long |
|
This page was generated on 2025-08-15 12:06 -0400 (Fri, 15 Aug 2025).
| Hostname | OS | Arch (*) | R version | Installed pkgs |
|---|---|---|---|---|
| nebbiolo2 | Linux (Ubuntu 24.04.3 LTS) | x86_64 | 4.5.1 (2025-06-13) -- "Great Square Root" | 4818 |
| palomino8 | Windows Server 2022 Datacenter | x64 | 4.5.1 (2025-06-13 ucrt) -- "Great Square Root" | 4554 |
| lconway | macOS 12.7.1 Monterey | x86_64 | 4.5.1 (2025-06-13) -- "Great Square Root" | 4595 |
| kjohnson3 | macOS 13.7.7 Ventura | arm64 | 4.5.1 Patched (2025-06-14 r88325) -- "Great Square Root" | 4537 |
| taishan | Linux (openEuler 24.03 LTS) | aarch64 | 4.5.0 (2025-04-11) -- "How About a Twenty-Six" | 4535 |
| Click on any hostname to see more info about the system (e.g. compilers) (*) as reported by 'uname -p', except on Windows and Mac OS X | ||||
| Package 388/2317 | Hostname | OS / Arch | INSTALL | BUILD | CHECK | BUILD BIN | ||||||||
| cmapR 1.21.0 (landing page) Ted Natoli
| nebbiolo2 | Linux (Ubuntu 24.04.3 LTS) / x86_64 | OK | OK | OK | |||||||||
| palomino8 | Windows Server 2022 Datacenter / x64 | OK | OK | OK | OK | |||||||||
| lconway | macOS 12.7.1 Monterey / x86_64 | OK | OK | OK | OK | |||||||||
| kjohnson3 | macOS 13.7.7 Ventura / arm64 | OK | OK | OK | OK | |||||||||
| taishan | Linux (openEuler 24.03 LTS) / aarch64 | OK | OK | OK | ||||||||||
|
To the developers/maintainers of the cmapR package: - Allow up to 24 hours (and sometimes 48 hours) for your latest push to git@git.bioconductor.org:packages/cmapR.git to reflect on this report. See Troubleshooting Build Report for more information. - Use the following Renviron settings to reproduce errors and warnings. - If 'R CMD check' started to fail recently on the Linux builder(s) over a missing dependency, add the missing dependency to 'Suggests:' in your DESCRIPTION file. See Renviron.bioc for more information. |
| Package: cmapR |
| Version: 1.21.0 |
| Command: F:\biocbuild\bbs-3.22-bioc\R\bin\R.exe CMD check --no-multiarch --install=check:cmapR.install-out.txt --library=F:\biocbuild\bbs-3.22-bioc\R\library --no-vignettes --timings cmapR_1.21.0.tar.gz |
| StartedAt: 2025-08-15 01:46:26 -0400 (Fri, 15 Aug 2025) |
| EndedAt: 2025-08-15 01:50:13 -0400 (Fri, 15 Aug 2025) |
| EllapsedTime: 226.6 seconds |
| RetCode: 0 |
| Status: OK |
| CheckDir: cmapR.Rcheck |
| Warnings: 0 |
##############################################################################
##############################################################################
###
### Running command:
###
### F:\biocbuild\bbs-3.22-bioc\R\bin\R.exe CMD check --no-multiarch --install=check:cmapR.install-out.txt --library=F:\biocbuild\bbs-3.22-bioc\R\library --no-vignettes --timings cmapR_1.21.0.tar.gz
###
##############################################################################
##############################################################################
* using log directory 'F:/biocbuild/bbs-3.22-bioc/meat/cmapR.Rcheck'
* using R version 4.5.1 (2025-06-13 ucrt)
* using platform: x86_64-w64-mingw32
* R was compiled by
gcc.exe (GCC) 14.2.0
GNU Fortran (GCC) 14.2.0
* running under: Windows Server 2022 x64 (build 20348)
* using session charset: UTF-8
* using option '--no-vignettes'
* checking for file 'cmapR/DESCRIPTION' ... OK
* checking extension type ... Package
* this is package 'cmapR' version '1.21.0'
* checking package namespace information ... OK
* checking package dependencies ... OK
* checking if this is a source package ... OK
* checking if there is a namespace ... OK
* checking for hidden files and directories ... NOTE
Found the following hidden files and directories:
.dockerignore
docs/build/html/.buildinfo
These were most likely included in error. See section 'Package
structure' in the 'Writing R Extensions' manual.
* checking for portable file names ... OK
* checking whether package 'cmapR' can be installed ... OK
* checking installed package size ... INFO
installed size is 5.1Mb
sub-directories of 1Mb or more:
data 2.2Mb
extdata 2.1Mb
* checking package directory ... OK
* checking 'build' directory ... OK
* checking DESCRIPTION meta-information ... OK
* checking top-level files ... OK
* checking for left-over files ... OK
* checking index information ... OK
* checking package subdirectories ... OK
* checking code files for non-ASCII characters ... OK
* checking R files for syntax errors ... OK
* checking whether the package can be loaded ... OK
* checking whether the package can be loaded with stated dependencies ... OK
* checking whether the package can be unloaded cleanly ... OK
* checking whether the namespace can be loaded with stated dependencies ... OK
* checking whether the namespace can be unloaded cleanly ... OK
* checking dependencies in R code ... OK
* checking S3 generic/method consistency ... OK
* checking replacement functions ... OK
* checking foreign function calls ... OK
* checking R code for possible problems ... NOTE
aggregate_gct: no visible binding for global variable '.SD'
Undefined global functions or variables:
.SD
* checking Rd files ... OK
* checking Rd metadata ... OK
* checking Rd cross-references ... NOTE
Found the following Rd file(s) with Rd \link{} targets missing package
anchors:
melt_gct.Rd: data.table, melt.data.table
merge_with_precedence.Rd: data.table
Please provide package anchors for all Rd \link{} targets not in the
package itself and the base packages.
* checking for missing documentation entries ... OK
* checking for code/documentation mismatches ... OK
* checking Rd \usage sections ... OK
* checking Rd contents ... OK
* checking for unstated dependencies in examples ... OK
* checking contents of 'data' directory ... OK
* checking data for non-ASCII characters ... OK
* checking LazyData ... OK
* checking data for ASCII and uncompressed saves ... OK
* checking line endings in Makefiles ... OK
* checking for GNU extensions in Makefiles ... OK
* checking include directives in Makefiles ... OK
* checking files in 'vignettes' ... OK
* checking examples ... OK
* checking for unstated dependencies in 'tests' ... OK
* checking tests ...
Running 'testthat.R'
OK
* checking for unstated dependencies in vignettes ... OK
* checking package vignettes ... OK
* checking running R code from vignettes ... SKIPPED
* checking re-building of vignette outputs ... SKIPPED
* checking PDF version of manual ... OK
* DONE
Status: 3 NOTEs
See
'F:/biocbuild/bbs-3.22-bioc/meat/cmapR.Rcheck/00check.log'
for details.
cmapR.Rcheck/00install.out
############################################################################## ############################################################################## ### ### Running command: ### ### F:\biocbuild\bbs-3.22-bioc\R\bin\R.exe CMD INSTALL cmapR ### ############################################################################## ############################################################################## * installing to library 'F:/biocbuild/bbs-3.22-bioc/R/library' * installing *source* package 'cmapR' ... ** this is package 'cmapR' version '1.21.0' ** using staged installation ** R ** data *** moving datasets to lazyload DB ** inst ** byte-compile and prepare package for lazy loading ** help *** installing help indices ** building package indices ** installing vignettes ** testing if installed package can be loaded from temporary location ** testing if installed package can be loaded from final location ** testing if installed package keeps a record of temporary installation path * DONE (cmapR)
cmapR.Rcheck/tests/testthat.Rout
R version 4.5.1 (2025-06-13 ucrt) -- "Great Square Root"
Copyright (C) 2025 The R Foundation for Statistical Computing
Platform: x86_64-w64-mingw32/x64
R is free software and comes with ABSOLUTELY NO WARRANTY.
You are welcome to redistribute it under certain conditions.
Type 'license()' or 'licence()' for distribution details.
R is a collaborative project with many contributors.
Type 'contributors()' for more information and
'citation()' on how to cite R or R packages in publications.
Type 'demo()' for some demos, 'help()' for on-line help, or
'help.start()' for an HTML browser interface to help.
Type 'q()' to quit R.
> library(testthat)
> library(cmapR)
>
> test_check("cmapR")
Saving file to foo.gct
Dimensions of matrix: [10x5]
Setting precision to 4
Saved.
Saving file to foo.gct
Dimensions of matrix: [10x5]
Setting precision to 4
Saved.
Saving file to foo.gct
Dimensions of matrix: [10x5]
Setting precision to 4
Saved.
Saving file to ./foo_n272x978.gct
Dimensions of matrix: [978x272]
Setting precision to 4
Saved.
[ FAIL 0 | WARN 0 | SKIP 2 | PASS 168 ]
══ Skipped tests (2) ═══════════════════════════════════════════════════════════
• empty test (2): 'test_0.2_io.R:66:1', 'test_0.2_io.R:115:1'
[ FAIL 0 | WARN 0 | SKIP 2 | PASS 168 ]
>
> proc.time()
user system elapsed
18.95 1.31 20.92
cmapR.Rcheck/cmapR-Ex.timings
| name | user | system | elapsed | |
| GCT | 0.17 | 0.01 | 0.19 | |
| align_matrices | 0 | 0 | 0 | |
| annotate_gct | 0.22 | 0.00 | 0.22 | |
| append_dim | 0 | 0 | 0 | |
| check_colnames | 0 | 0 | 0 | |
| check_dups | 0 | 0 | 0 | |
| distil | 0 | 0 | 0 | |
| extract_gct | 0.09 | 0.00 | 0.09 | |
| fix_datatypes | 0.02 | 0.00 | 0.02 | |
| ids | 0.01 | 0.00 | 0.01 | |
| is.wholenumber | 0 | 0 | 0 | |
| lxb2mat | 0.12 | 0.00 | 0.17 | |
| mat | 0.02 | 0.00 | 0.02 | |
| melt_gct | 2.23 | 0.11 | 2.28 | |
| merge_gct | 0.08 | 0.00 | 0.08 | |
| merge_with_precedence | 0 | 0 | 0 | |
| meta | 0 | 0 | 0 | |
| na_pad_matrix | 0 | 0 | 0 | |
| parse_gctx | 0.27 | 0.01 | 0.28 | |
| parse_gmt | 0.03 | 0.00 | 0.03 | |
| parse_gmx | 0.01 | 0.00 | 0.02 | |
| parse_grp | 0.02 | 0.00 | 0.02 | |
| process_ids | 0 | 0 | 0 | |
| rank_gct | 0.09 | 0.00 | 0.09 | |
| read_gctx_ids | 0 | 0 | 0 | |
| read_gctx_meta | 0.13 | 0.02 | 0.14 | |
| robust_zscore | 0 | 0 | 0 | |
| subset_gct | 0.06 | 0.00 | 0.06 | |
| threshold | 0 | 0 | 0 | |
| transpose_gct | 0.05 | 0.00 | 0.05 | |
| update_gctx | 0 | 0 | 0 | |
| write_gct | 1.62 | 0.22 | 1.92 | |
| write_gctx | 0.25 | 0.05 | 0.80 | |
| write_gctx_meta | 0 | 0 | 0 | |
| write_gmt | 0 | 0 | 0 | |
| write_grp | 0 | 0 | 0 | |
| write_tbl | 0 | 0 | 0 | |