Back to Multiple platform build/check report for BioC 3.22:   simplified   long
AB[C]DEFGHIJKLMNOPQRSTUVWXYZ

This page was generated on 2025-07-24 12:06 -0400 (Thu, 24 Jul 2025).

HostnameOSArch (*)R versionInstalled pkgs
nebbiolo2Linux (Ubuntu 24.04.2 LTS)x86_644.5.1 (2025-06-13) -- "Great Square Root" 4792
palomino8Windows Server 2022 Datacenterx644.5.1 (2025-06-13 ucrt) -- "Great Square Root" 4530
lconwaymacOS 12.7.1 Montereyx86_644.5.1 (2025-06-13) -- "Great Square Root" 4573
kjohnson3macOS 13.7.1 Venturaarm644.5.1 Patched (2025-06-14 r88325) -- "Great Square Root" 4514
taishanLinux (openEuler 24.03 LTS)aarch644.5.0 (2025-04-11) -- "How About a Twenty-Six" 4510
Click on any hostname to see more info about the system (e.g. compilers)      (*) as reported by 'uname -p', except on Windows and Mac OS X

Package 359/2311HostnameOS / ArchINSTALLBUILDCHECKBUILD BIN
cisPath 1.49.0  (landing page)
Likun Wang
Snapshot Date: 2025-07-23 13:25 -0400 (Wed, 23 Jul 2025)
git_url: https://git.bioconductor.org/packages/cisPath
git_branch: devel
git_last_commit: fcb30b8
git_last_commit_date: 2025-04-15 10:17:56 -0400 (Tue, 15 Apr 2025)
nebbiolo2Linux (Ubuntu 24.04.2 LTS) / x86_64  ERROR    ERROR  skipped
palomino8Windows Server 2022 Datacenter / x64  OK    OK    OK    OK  UNNEEDED, same version is already published
lconwaymacOS 12.7.1 Monterey / x86_64  OK    OK    WARNINGS    OK  UNNEEDED, same version is already published
kjohnson3macOS 13.7.1 Ventura / arm64  OK    OK    WARNINGS    OK  UNNEEDED, same version is already published
taishanLinux (openEuler 24.03 LTS) / aarch64  ERROR    ERROR  skipped


BUILD results for cisPath on nebbiolo2

To the developers/maintainers of the cisPath package:
- Allow up to 24 hours (and sometimes 48 hours) for your latest push to git@git.bioconductor.org:packages/cisPath.git to reflect on this report. See Troubleshooting Build Report for more information.
- Use the following Renviron settings to reproduce errors and warnings.
- If 'R CMD check' started to fail recently on the Linux builder(s) over a missing dependency, add the missing dependency to 'Suggests:' in your DESCRIPTION file. See Renviron.bioc for more information.

raw results


Summary

Package: cisPath
Version: 1.49.0
Command: /home/biocbuild/bbs-3.22-bioc/R/bin/R CMD build --keep-empty-dirs --no-resave-data --md5 cisPath
StartedAt: 2025-07-23 16:53:00 -0400 (Wed, 23 Jul 2025)
EndedAt: 2025-07-23 16:53:10 -0400 (Wed, 23 Jul 2025)
EllapsedTime: 10.0 seconds
RetCode: 1
Status:   ERROR  
PackageFile: None
PackageFileSize: NA

Command output

##############################################################################
##############################################################################
###
### Running command:
###
###   /home/biocbuild/bbs-3.22-bioc/R/bin/R CMD build --keep-empty-dirs --no-resave-data --md5 cisPath
###
##############################################################################
##############################################################################


* checking for file ‘cisPath/DESCRIPTION’ ... OK
* preparing ‘cisPath’:
* checking DESCRIPTION meta-information ... OK
* cleaning src
* installing the package to build vignettes
      -----------------------------------
* installing *source* package ‘cisPath’ ...
** this is package ‘cisPath’ version ‘1.49.0’
** using staged installation
** libs
using C++ compiler: ‘g++ (Ubuntu 13.3.0-6ubuntu2~24.04) 13.3.0’
g++ -std=gnu++17 -I"/home/biocbuild/bbs-3.22-bioc/R/include" -DNDEBUG   -I/usr/local/include    -fpic  -g -O2  -Wall -Werror=format-security  -c cisPath.cpp -o cisPath.o
cisPath.cpp: In function ‘bool processWebInput(const char*, bool, bool)’:
cisPath.cpp:3555:27: error: format not a string literal and no format arguments [-Werror=format-security]
 3555 |             PRINTFUNCTION(buffer);
      |                           ^~~~~~
cc1plus: some warnings being treated as errors
make: *** [/home/biocbuild/bbs-3.22-bioc/R/etc/Makeconf:209: cisPath.o] Error 1
ERROR: compilation failed for package ‘cisPath’
* removing ‘/tmp/RtmpjqJKea/Rinst2519aa592a9408/cisPath’
      -----------------------------------
ERROR: package installation failed