Back to Multiple platform build/check report for BioC 3.22: simplified long |
|
This page was generated on 2025-05-23 12:08 -0400 (Fri, 23 May 2025).
Hostname | OS | Arch (*) | R version | Installed pkgs |
---|---|---|---|---|
nebbiolo2 | Linux (Ubuntu 24.04.1 LTS) | x86_64 | 4.5.0 (2025-04-11) -- "How About a Twenty-Six" | 4753 |
palomino8 | Windows Server 2022 Datacenter | x64 | 4.5.0 (2025-04-11 ucrt) -- "How About a Twenty-Six" | 4528 |
lconway | macOS 12.7.1 Monterey | x86_64 | 4.5.0 Patched (2025-04-21 r88169) -- "How About a Twenty-Six" | 4553 |
kjohnson3 | macOS 13.7.1 Ventura | arm64 | 4.5.0 Patched (2025-04-21 r88169) -- "How About a Twenty-Six" | 4493 |
taishan | Linux (openEuler 24.03 LTS) | aarch64 | 4.5.0 (2025-04-11) -- "How About a Twenty-Six" | 4460 |
Click on any hostname to see more info about the system (e.g. compilers) (*) as reported by 'uname -p', except on Windows and Mac OS X |
Package 317/2306 | Hostname | OS / Arch | INSTALL | BUILD | CHECK | BUILD BIN | ||||||||
cfdnakit 1.7.0 (landing page) Pitithat Puranachot
| nebbiolo2 | Linux (Ubuntu 24.04.1 LTS) / x86_64 | OK | OK | OK | ![]() | ||||||||
palomino8 | Windows Server 2022 Datacenter / x64 | OK | OK | OK | OK | ![]() | ||||||||
lconway | macOS 12.7.1 Monterey / x86_64 | OK | OK | OK | OK | ![]() | ||||||||
kjohnson3 | macOS 13.7.1 Ventura / arm64 | OK | OK | OK | OK | ![]() | ||||||||
taishan | Linux (openEuler 24.03 LTS) / aarch64 | OK | OK | OK | ||||||||||
To the developers/maintainers of the cfdnakit package: - Allow up to 24 hours (and sometimes 48 hours) for your latest push to git@git.bioconductor.org:packages/cfdnakit.git to reflect on this report. See Troubleshooting Build Report for more information. - Use the following Renviron settings to reproduce errors and warnings. - If 'R CMD check' started to fail recently on the Linux builder(s) over a missing dependency, add the missing dependency to 'Suggests:' in your DESCRIPTION file. See Renviron.bioc for more information. |
Package: cfdnakit |
Version: 1.7.0 |
Command: /Library/Frameworks/R.framework/Resources/bin/R CMD check --install=check:cfdnakit.install-out.txt --library=/Library/Frameworks/R.framework/Resources/library --no-vignettes --timings cfdnakit_1.7.0.tar.gz |
StartedAt: 2025-05-22 19:30:12 -0400 (Thu, 22 May 2025) |
EndedAt: 2025-05-22 19:34:44 -0400 (Thu, 22 May 2025) |
EllapsedTime: 272.0 seconds |
RetCode: 0 |
Status: OK |
CheckDir: cfdnakit.Rcheck |
Warnings: 0 |
############################################################################## ############################################################################## ### ### Running command: ### ### /Library/Frameworks/R.framework/Resources/bin/R CMD check --install=check:cfdnakit.install-out.txt --library=/Library/Frameworks/R.framework/Resources/library --no-vignettes --timings cfdnakit_1.7.0.tar.gz ### ############################################################################## ############################################################################## * using log directory ‘/Users/biocbuild/bbs-3.22-bioc/meat/cfdnakit.Rcheck’ * using R version 4.5.0 Patched (2025-04-21 r88169) * using platform: x86_64-apple-darwin20 * R was compiled by Apple clang version 14.0.0 (clang-1400.0.29.202) GNU Fortran (GCC) 14.2.0 * running under: macOS Monterey 12.7.6 * using session charset: UTF-8 * using option ‘--no-vignettes’ * checking for file ‘cfdnakit/DESCRIPTION’ ... OK * this is package ‘cfdnakit’ version ‘1.7.0’ * package encoding: UTF-8 * checking package namespace information ... OK * checking package dependencies ... OK * checking if this is a source package ... OK * checking if there is a namespace ... OK * checking for hidden files and directories ... OK * checking for portable file names ... OK * checking for sufficient/correct file permissions ... OK * checking whether package ‘cfdnakit’ can be installed ... OK * checking installed package size ... OK * checking package directory ... OK * checking ‘build’ directory ... OK * checking DESCRIPTION meta-information ... OK * checking top-level files ... OK * checking for left-over files ... OK * checking index information ... OK * checking package subdirectories ... OK * checking code files for non-ASCII characters ... OK * checking R files for syntax errors ... OK * checking whether the package can be loaded ... OK * checking whether the package can be loaded with stated dependencies ... OK * checking whether the package can be unloaded cleanly ... OK * checking whether the namespace can be loaded with stated dependencies ... OK * checking whether the namespace can be unloaded cleanly ... OK * checking dependencies in R code ... OK * checking S3 generic/method consistency ... OK * checking replacement functions ... OK * checking foreign function calls ... OK * checking R code for possible problems ... OK * checking Rd files ... OK * checking Rd metadata ... OK * checking Rd cross-references ... NOTE Non-topic package-anchored link(s) in Rd file 'pipe.Rd': ‘[magrittr:pipe]{%>%}’ See section 'Cross-references' in the 'Writing R Extensions' manual. * checking for missing documentation entries ... OK * checking for code/documentation mismatches ... OK * checking Rd \usage sections ... OK * checking Rd contents ... OK * checking for unstated dependencies in examples ... OK * checking files in ‘vignettes’ ... OK * checking examples ... OK Examples with CPU (user + system) or elapsed time > 5s user system elapsed cfdnakit-package 24.791 0.813 25.750 call_cnv 16.617 0.282 16.999 plot_transformed_sl 15.928 0.311 16.333 plot_distance_matrix 15.709 0.295 16.101 plot_cnv_solution 15.644 0.321 16.065 calculate_CES_score 15.209 0.314 15.630 get_solution_table 15.091 0.292 15.464 get_zscore_profile 14.810 0.327 15.233 segmentByPSCB 14.529 0.324 14.938 create_PoN 6.676 0.408 7.121 plot_sl_ratio 6.266 0.053 6.351 * checking for unstated dependencies in vignettes ... OK * checking package vignettes ... OK * checking running R code from vignettes ... SKIPPED * checking re-building of vignette outputs ... SKIPPED * checking PDF version of manual ... OK * DONE Status: 1 NOTE See ‘/Users/biocbuild/bbs-3.22-bioc/meat/cfdnakit.Rcheck/00check.log’ for details.
cfdnakit.Rcheck/00install.out
############################################################################## ############################################################################## ### ### Running command: ### ### /Library/Frameworks/R.framework/Resources/bin/R CMD INSTALL cfdnakit ### ############################################################################## ############################################################################## * installing to library ‘/Library/Frameworks/R.framework/Versions/4.5-x86_64/Resources/library’ * installing *source* package ‘cfdnakit’ ... ** this is package ‘cfdnakit’ version ‘1.7.0’ ** using staged installation ** R ** inst ** byte-compile and prepare package for lazy loading ** help *** installing help indices ** building package indices ** installing vignettes ** testing if installed package can be loaded from temporary location ** testing if installed package can be loaded from final location ** testing if installed package keeps a record of temporary installation path * DONE (cfdnakit)
cfdnakit.Rcheck/cfdnakit-Ex.timings
name | user | system | elapsed | |
calculate_CES_score | 15.209 | 0.314 | 15.630 | |
call_cnv | 16.617 | 0.282 | 16.999 | |
cfdnakit-package | 24.791 | 0.813 | 25.750 | |
create_PoN | 6.676 | 0.408 | 7.121 | |
extract_insert_size | 0.161 | 0.002 | 0.163 | |
get_fragment_profile | 2.386 | 0.018 | 2.408 | |
get_solution_table | 15.091 | 0.292 | 15.464 | |
get_zscore_profile | 14.810 | 0.327 | 15.233 | |
plot_cnv_solution | 15.644 | 0.321 | 16.065 | |
plot_distance_matrix | 15.709 | 0.295 | 16.101 | |
plot_fragment_dist | 0.470 | 0.007 | 0.480 | |
plot_sl_ratio | 6.266 | 0.053 | 6.351 | |
plot_transformed_sl | 15.928 | 0.311 | 16.333 | |
read_bamfile | 3.170 | 0.760 | 3.971 | |
segmentByPSCB | 14.529 | 0.324 | 14.938 | |
test_isize_KolmogorovSmirnov | 0.281 | 0.005 | 0.287 | |