| Back to Multiple platform build/check report for BioC 3.23: simplified long |
|
This page was generated on 2025-11-28 11:37 -0500 (Fri, 28 Nov 2025).
| Hostname | OS | Arch (*) | R version | Installed pkgs |
|---|---|---|---|---|
| nebbiolo1 | Linux (Ubuntu 24.04.3 LTS) | x86_64 | R Under development (unstable) (2025-10-20 r88955) -- "Unsuffered Consequences" | 4866 |
| lconway | macOS 12.7.6 Monterey | x86_64 | R Under development (unstable) (2025-10-21 r88958) -- "Unsuffered Consequences" | 4614 |
| kjohnson3 | macOS 13.7.7 Ventura | arm64 | R Under development (unstable) (2025-11-04 r88984) -- "Unsuffered Consequences" | 4571 |
| Click on any hostname to see more info about the system (e.g. compilers) (*) as reported by 'uname -p', except on Windows and Mac OS X | ||||
| Package 301/2328 | Hostname | OS / Arch | INSTALL | BUILD | CHECK | BUILD BIN | ||||||||
| cellbaseR 1.35.0 (landing page) Mohammed OE Abdallah
| nebbiolo1 | Linux (Ubuntu 24.04.3 LTS) / x86_64 | OK | OK | OK | |||||||||
| lconway | macOS 12.7.6 Monterey / x86_64 | OK | OK | OK | OK | |||||||||
| kjohnson3 | macOS 13.7.7 Ventura / arm64 | OK | OK | OK | OK | |||||||||
|
To the developers/maintainers of the cellbaseR package: - Allow up to 24 hours (and sometimes 48 hours) for your latest push to git@git.bioconductor.org:packages/cellbaseR.git to reflect on this report. See Troubleshooting Build Report for more information. - Use the following Renviron settings to reproduce errors and warnings. - If 'R CMD check' started to fail recently on the Linux builder(s) over a missing dependency, add the missing dependency to 'Suggests:' in your DESCRIPTION file. See Renviron.bioc for more information. |
| Package: cellbaseR |
| Version: 1.35.0 |
| Command: /home/biocbuild/bbs-3.23-bioc/R/bin/R CMD check --install=check:cellbaseR.install-out.txt --library=/home/biocbuild/bbs-3.23-bioc/R/site-library --timings cellbaseR_1.35.0.tar.gz |
| StartedAt: 2025-11-27 21:48:46 -0500 (Thu, 27 Nov 2025) |
| EndedAt: 2025-11-27 21:51:12 -0500 (Thu, 27 Nov 2025) |
| EllapsedTime: 146.1 seconds |
| RetCode: 0 |
| Status: OK |
| CheckDir: cellbaseR.Rcheck |
| Warnings: 0 |
##############################################################################
##############################################################################
###
### Running command:
###
### /home/biocbuild/bbs-3.23-bioc/R/bin/R CMD check --install=check:cellbaseR.install-out.txt --library=/home/biocbuild/bbs-3.23-bioc/R/site-library --timings cellbaseR_1.35.0.tar.gz
###
##############################################################################
##############################################################################
* using log directory ‘/home/biocbuild/bbs-3.23-bioc/meat/cellbaseR.Rcheck’
* using R Under development (unstable) (2025-10-20 r88955)
* using platform: x86_64-pc-linux-gnu
* R was compiled by
gcc (Ubuntu 13.3.0-6ubuntu2~24.04) 13.3.0
GNU Fortran (Ubuntu 13.3.0-6ubuntu2~24.04) 13.3.0
* running under: Ubuntu 24.04.3 LTS
* using session charset: UTF-8
* checking for file ‘cellbaseR/DESCRIPTION’ ... OK
* checking extension type ... Package
* this is package ‘cellbaseR’ version ‘1.35.0’
* package encoding: UTF-8
* checking package namespace information ... OK
* checking package dependencies ... OK
* checking if this is a source package ... OK
* checking if there is a namespace ... OK
* checking for hidden files and directories ... OK
* checking for portable file names ... OK
* checking for sufficient/correct file permissions ... OK
* checking whether package ‘cellbaseR’ can be installed ... OK
* checking installed package size ... OK
* checking package directory ... OK
* checking ‘build’ directory ... OK
* checking DESCRIPTION meta-information ... OK
* checking top-level files ... OK
* checking for left-over files ... OK
* checking index information ... OK
* checking package subdirectories ... OK
* checking code files for non-ASCII characters ... OK
* checking R files for syntax errors ... OK
* checking whether the package can be loaded ... OK
* checking whether the package can be loaded with stated dependencies ... OK
* checking whether the package can be unloaded cleanly ... OK
* checking whether the namespace can be loaded with stated dependencies ... OK
* checking whether the namespace can be unloaded cleanly ... OK
* checking loading without being on the library search path ... OK
* checking dependencies in R code ... OK
* checking S3 generic/method consistency ... OK
* checking replacement functions ... OK
* checking foreign function calls ... OK
* checking R code for possible problems ... OK
* checking Rd files ... OK
* checking Rd metadata ... OK
* checking Rd cross-references ... OK
* checking for missing documentation entries ... OK
* checking for code/documentation mismatches ... OK
* checking Rd \usage sections ... OK
* checking Rd contents ... OK
* checking for unstated dependencies in examples ... OK
* checking files in ‘vignettes’ ... OK
* checking examples ... OK
Examples with CPU (user + system) or elapsed time > 5s
user system elapsed
AnnotateVcf-CellBaseR-method 3.756 0.857 8.137
* checking for unstated dependencies in vignettes ... OK
* checking package vignettes ... OK
* checking re-building of vignette outputs ... OK
* checking PDF version of manual ... OK
* DONE
Status: OK
cellbaseR.Rcheck/00install.out
############################################################################## ############################################################################## ### ### Running command: ### ### /home/biocbuild/bbs-3.23-bioc/R/bin/R CMD INSTALL cellbaseR ### ############################################################################## ############################################################################## * installing to library ‘/home/biocbuild/bbs-3.23-bioc/R/site-library’ * installing *source* package ‘cellbaseR’ ... ** this is package ‘cellbaseR’ version ‘1.35.0’ ** using staged installation ** R ** inst ** byte-compile and prepare package for lazy loading ** help *** installing help indices ** building package indices ** installing vignettes ** testing if installed package can be loaded from temporary location ** testing if installed package can be loaded from final location ** testing if installed package keeps a record of temporary installation path * DONE (cellbaseR)
cellbaseR.Rcheck/cellbaseR-Ex.timings
| name | user | system | elapsed | |
| AnnotateVcf-CellBaseR-method | 3.756 | 0.857 | 8.137 | |
| CellBaseParam | 0.001 | 0.000 | 0.002 | |
| CellBaseR | 0.023 | 0.002 | 0.246 | |
| createGeneModel | 0.266 | 0.035 | 0.662 | |
| getCellBase-CellBaseR-method | 0.061 | 0.003 | 0.295 | |
| getCellBaseResourceHelp | 0.236 | 0.020 | 2.316 | |
| getChromosomeInfo-CellBaseR-method | 0.042 | 0.005 | 0.381 | |
| getClinical-CellBaseR-method | 0.754 | 0.011 | 1.153 | |
| getConservationByRegion | 0.062 | 0.000 | 0.311 | |
| getGene-CellBaseR-method | 0.249 | 0.053 | 0.657 | |
| getGeneInfo | 0.070 | 0.002 | 0.305 | |
| getMeta-CellBaseR-method | 0.046 | 0.004 | 0.272 | |
| getProtein-CellBaseR-method | 0.154 | 0.002 | 0.389 | |
| getProteinInfo | 0.113 | 0.001 | 0.344 | |
| getRegion-CellBaseR-method | 0.178 | 0.002 | 0.538 | |
| getRegulatoryByRegion | 0.042 | 0.000 | 0.274 | |
| getTranscript-CellBaseR-method | 0.074 | 0.001 | 0.306 | |
| getTranscriptByGene | 0.077 | 0.001 | 0.307 | |
| getVariant-CellBaseR-method | 0.117 | 0.002 | 0.374 | |
| getVariantAnnotation | 0.102 | 0.002 | 0.344 | |
| getXref-CellBaseR-method | 0.041 | 0.003 | 0.275 | |