| Back to Multiple platform build/check report for BioC 3.22: simplified long |
|
This page was generated on 2025-10-24 12:07 -0400 (Fri, 24 Oct 2025).
| Hostname | OS | Arch (*) | R version | Installed pkgs |
|---|---|---|---|---|
| nebbiolo2 | Linux (Ubuntu 24.04.3 LTS) | x86_64 | 4.5.1 Patched (2025-08-23 r88802) -- "Great Square Root" | 4898 |
| lconway | macOS 12.7.6 Monterey | x86_64 | 4.5.1 Patched (2025-09-10 r88807) -- "Great Square Root" | 4688 |
| kjohnson3 | macOS 13.7.7 Ventura | arm64 | 4.5.1 Patched (2025-09-10 r88807) -- "Great Square Root" | 4634 |
| taishan | Linux (openEuler 24.03 LTS) | aarch64 | 4.5.0 (2025-04-11) -- "How About a Twenty-Six" | 4658 |
| Click on any hostname to see more info about the system (e.g. compilers) (*) as reported by 'uname -p', except on Windows and Mac OS X | ||||
| Package 178/2359 | Hostname | OS / Arch | INSTALL | BUILD | CHECK | BUILD BIN | ||||||||
| bioassayR 1.47.0 (landing page) Thomas Girke
| nebbiolo2 | Linux (Ubuntu 24.04.3 LTS) / x86_64 | OK | OK | OK | |||||||||
| lconway | macOS 12.7.6 Monterey / x86_64 | OK | OK | OK | OK | |||||||||
| kjohnson3 | macOS 13.7.7 Ventura / arm64 | OK | OK | ERROR | OK | |||||||||
| taishan | Linux (openEuler 24.03 LTS) / aarch64 | OK | OK | OK | ||||||||||
|
To the developers/maintainers of the bioassayR package: - Allow up to 24 hours (and sometimes 48 hours) for your latest push to git@git.bioconductor.org:packages/bioassayR.git to reflect on this report. See Troubleshooting Build Report for more information. - Use the following Renviron settings to reproduce errors and warnings. - If 'R CMD check' started to fail recently on the Linux builder(s) over a missing dependency, add the missing dependency to 'Suggests:' in your DESCRIPTION file. See Renviron.bioc for more information. - See Martin Grigorov's blog post for how to debug Linux ARM64 related issues on a x86_64 host. |
| Package: bioassayR |
| Version: 1.47.0 |
| Command: /home/biocbuild/R/R/bin/R CMD check --install=check:bioassayR.install-out.txt --library=/home/biocbuild/R/R/site-library --no-vignettes --timings bioassayR_1.47.0.tar.gz |
| StartedAt: 2025-10-21 04:52:46 -0000 (Tue, 21 Oct 2025) |
| EndedAt: 2025-10-21 04:54:32 -0000 (Tue, 21 Oct 2025) |
| EllapsedTime: 106.0 seconds |
| RetCode: 0 |
| Status: OK |
| CheckDir: bioassayR.Rcheck |
| Warnings: 0 |
##############################################################################
##############################################################################
###
### Running command:
###
### /home/biocbuild/R/R/bin/R CMD check --install=check:bioassayR.install-out.txt --library=/home/biocbuild/R/R/site-library --no-vignettes --timings bioassayR_1.47.0.tar.gz
###
##############################################################################
##############################################################################
* using log directory ‘/home/biocbuild/bbs-3.22-bioc/meat/bioassayR.Rcheck’
* using R version 4.5.0 (2025-04-11)
* using platform: aarch64-unknown-linux-gnu
* R was compiled by
aarch64-unknown-linux-gnu-gcc (GCC) 14.2.0
GNU Fortran (GCC) 14.2.0
* running under: openEuler 24.03 (LTS)
* using session charset: UTF-8
* using option ‘--no-vignettes’
* checking for file ‘bioassayR/DESCRIPTION’ ... OK
* checking extension type ... Package
* this is package ‘bioassayR’ version ‘1.47.0’
* checking package namespace information ... OK
* checking package dependencies ... OK
* checking if this is a source package ... OK
* checking if there is a namespace ... OK
* checking for hidden files and directories ... OK
* checking for portable file names ... OK
* checking for sufficient/correct file permissions ... OK
* checking whether package ‘bioassayR’ can be installed ... OK
* checking installed package size ... OK
* checking package directory ... OK
* checking ‘build’ directory ... OK
* checking DESCRIPTION meta-information ... OK
* checking top-level files ... OK
* checking for left-over files ... OK
* checking index information ... OK
* checking package subdirectories ... OK
* checking code files for non-ASCII characters ... OK
* checking R files for syntax errors ... OK
* checking whether the package can be loaded ... OK
* checking whether the package can be loaded with stated dependencies ... OK
* checking whether the package can be unloaded cleanly ... OK
* checking whether the namespace can be loaded with stated dependencies ... OK
* checking whether the namespace can be unloaded cleanly ... OK
* checking loading without being on the library search path ... OK
* checking dependencies in R code ... OK
* checking S3 generic/method consistency ... OK
* checking replacement functions ... OK
* checking foreign function calls ... OK
* checking R code for possible problems ... OK
* checking Rd files ... NOTE
checkRd: (-1) disconnectBioassayDB.Rd:14: Lost braces
14 | A code{BioassayDB} object to be disconnected.
| ^
* checking Rd metadata ... OK
* checking Rd cross-references ... OK
* checking for missing documentation entries ... OK
* checking for code/documentation mismatches ... OK
* checking Rd \usage sections ... OK
* checking Rd contents ... OK
* checking for unstated dependencies in examples ... OK
* checking contents of ‘data’ directory ... OK
* checking data for non-ASCII characters ... OK
* checking data for ASCII and uncompressed saves ... OK
* checking line endings in Makefiles ... OK
* checking for GNU extensions in Makefiles ... OK
* checking include directives in Makefiles ... OK
* checking files in ‘vignettes’ ... OK
* checking examples ... OK
* checking for unstated dependencies in ‘tests’ ... OK
* checking tests ...
Running ‘testthat.R’
OK
* checking for unstated dependencies in vignettes ... OK
* checking package vignettes ... OK
* checking running R code from vignettes ... SKIPPED
* checking re-building of vignette outputs ... SKIPPED
* checking PDF version of manual ... OK
* DONE
Status: 1 NOTE
See
‘/home/biocbuild/bbs-3.22-bioc/meat/bioassayR.Rcheck/00check.log’
for details.
bioassayR.Rcheck/00install.out
############################################################################## ############################################################################## ### ### Running command: ### ### /home/biocbuild/R/R/bin/R CMD INSTALL bioassayR ### ############################################################################## ############################################################################## * installing to library ‘/home/biocbuild/R/R-4.5.0/site-library’ * installing *source* package ‘bioassayR’ ... ** this is package ‘bioassayR’ version ‘1.47.0’ ** using staged installation ** R ** data ** inst ** byte-compile and prepare package for lazy loading Creating a new generic function for ‘organism’ in package ‘bioassayR’ Creating a new generic function for ‘organism<-’ in package ‘bioassayR’ ** help *** installing help indices ** building package indices ** installing vignettes ** testing if installed package can be loaded from temporary location ** testing if installed package can be loaded from final location ** testing if installed package keeps a record of temporary installation path * DONE (bioassayR)
bioassayR.Rcheck/tests/testthat.Rout
R version 4.5.0 (2025-04-11) -- "How About a Twenty-Six"
Copyright (C) 2025 The R Foundation for Statistical Computing
Platform: aarch64-unknown-linux-gnu
R is free software and comes with ABSOLUTELY NO WARRANTY.
You are welcome to redistribute it under certain conditions.
Type 'license()' or 'licence()' for distribution details.
R is a collaborative project with many contributors.
Type 'contributors()' for more information and
'citation()' on how to cite R or R packages in publications.
Type 'demo()' for some demos, 'help()' for on-line help, or
'help.start()' for an HTML browser interface to help.
Type 'q()' to quit R.
> library(testthat)
> library(bioassayR)
Loading required package: DBI
Loading required package: RSQLite
Loading required package: Matrix
Loading required package: rjson
Loading required package: BiocGenerics
Loading required package: generics
Attaching package: 'generics'
The following objects are masked from 'package:base':
as.difftime, as.factor, as.ordered, intersect, is.element, setdiff,
setequal, union
Attaching package: 'BiocGenerics'
The following objects are masked from 'package:stats':
IQR, mad, sd, var, xtabs
The following objects are masked from 'package:base':
Filter, Find, Map, Position, Reduce, anyDuplicated, aperm, append,
as.data.frame, basename, cbind, colnames, dirname, do.call,
duplicated, eval, evalq, get, grep, grepl, is.unsorted, lapply,
mapply, match, mget, order, paste, pmax, pmax.int, pmin, pmin.int,
rank, rbind, rownames, sapply, saveRDS, table, tapply, unique,
unsplit, which.max, which.min
Attaching package: 'bioassayR'
The following objects are masked from 'package:BiocGenerics':
organism, organism<-
>
> test_check("bioassayR")
[ FAIL 0 | WARN 1 | SKIP 0 | PASS 22 ]
[ FAIL 0 | WARN 1 | SKIP 0 | PASS 22 ]
>
> proc.time()
user system elapsed
5.702 0.317 6.021
bioassayR.Rcheck/bioassayR-Ex.timings
| name | user | system | elapsed | |
| BioAssayDB-class | 0.001 | 0.000 | 0.001 | |
| activeAgainst | 0.031 | 0.000 | 0.034 | |
| activeTargets | 0.041 | 0.008 | 0.049 | |
| addBioassayIndex | 0.019 | 0.000 | 0.018 | |
| addDataSource | 0.016 | 0.003 | 0.020 | |
| allCids | 0.006 | 0.000 | 0.007 | |
| allTargets | 0.006 | 0.000 | 0.006 | |
| assaySetTargets | 0.074 | 0.007 | 0.083 | |
| bioactivityFingerprint | 0.119 | 0.020 | 0.139 | |
| bioassay-class | 0.013 | 0.008 | 0.020 | |
| bioassaySet-class | 0.000 | 0.000 | 0.001 | |
| connectBioassayDB | 0.014 | 0.000 | 0.014 | |
| crossReactivityProbability | 0.112 | 0.012 | 0.124 | |
| disconnectBioassayDB | 0.007 | 0.008 | 0.014 | |
| dropBioassay | 0.076 | 0.004 | 0.084 | |
| dropBioassayIndex | 0.027 | 0.004 | 0.032 | |
| getAssay | 0.009 | 0.000 | 0.009 | |
| getAssays | 0.023 | 0.000 | 0.022 | |
| getBioassaySetByCids | 0.114 | 0.000 | 0.115 | |
| inactiveTargets | 0.01 | 0.00 | 0.01 | |
| loadBioassay | 0.039 | 0.000 | 0.039 | |
| loadIdMapping | 0.013 | 0.004 | 0.017 | |
| newBioassayDB | 0.013 | 0.000 | 0.013 | |
| parsePubChemBioassay | 0.01 | 0.00 | 0.01 | |
| perTargetMatrix | 0.148 | 0.000 | 0.149 | |
| queryBioassayDB | 0.015 | 0.004 | 0.020 | |
| samplebioassay | 0.002 | 0.000 | 0.002 | |
| scaleBioassaySet | 0.033 | 0.004 | 0.037 | |
| screenedAtLeast | 0.011 | 0.000 | 0.012 | |
| selectiveAgainst | 0.109 | 0.000 | 0.109 | |
| targetSelectivity | 0.02 | 0.00 | 0.02 | |
| translateTargetId | 0.017 | 0.000 | 0.016 | |
| trinarySimilarity | 0.124 | 0.000 | 0.124 | |