Back to Multiple platform build/check report for BioC 3.22: simplified long |
|
This page was generated on 2025-10-03 12:07 -0400 (Fri, 03 Oct 2025).
Hostname | OS | Arch (*) | R version | Installed pkgs |
---|---|---|---|---|
nebbiolo2 | Linux (Ubuntu 24.04.3 LTS) | x86_64 | 4.5.1 Patched (2025-08-23 r88802) -- "Great Square Root" | 4845 |
lconway | macOS 12.7.1 Monterey | x86_64 | 4.5.1 Patched (2025-09-10 r88807) -- "Great Square Root" | 4632 |
kjohnson3 | macOS 13.7.7 Ventura | arm64 | 4.5.1 Patched (2025-09-10 r88807) -- "Great Square Root" | 4577 |
taishan | Linux (openEuler 24.03 LTS) | aarch64 | 4.5.0 (2025-04-11) -- "How About a Twenty-Six" | 4576 |
Click on any hostname to see more info about the system (e.g. compilers) (*) as reported by 'uname -p', except on Windows and Mac OS X |
Package 165/2337 | Hostname | OS / Arch | INSTALL | BUILD | CHECK | BUILD BIN | ||||||||
betaHMM 1.5.1 (landing page) Koyel Majumdar
| nebbiolo2 | Linux (Ubuntu 24.04.3 LTS) / x86_64 | OK | OK | OK | ![]() | ||||||||
lconway | macOS 12.7.1 Monterey / x86_64 | OK | OK | OK | OK | ![]() | ||||||||
kjohnson3 | macOS 13.7.7 Ventura / arm64 | OK | OK | OK | OK | ![]() | ||||||||
taishan | Linux (openEuler 24.03 LTS) / aarch64 | OK | OK | ERROR | ||||||||||
To the developers/maintainers of the betaHMM package: - Allow up to 24 hours (and sometimes 48 hours) for your latest push to git@git.bioconductor.org:packages/betaHMM.git to reflect on this report. See Troubleshooting Build Report for more information. - Use the following Renviron settings to reproduce errors and warnings. - If 'R CMD check' started to fail recently on the Linux builder(s) over a missing dependency, add the missing dependency to 'Suggests:' in your DESCRIPTION file. See Renviron.bioc for more information. - See Martin Grigorov's blog post for how to debug Linux ARM64 related issues on a x86_64 host. |
Package: betaHMM |
Version: 1.5.1 |
Command: /home/biocbuild/R/R/bin/R CMD check --install=check:betaHMM.install-out.txt --library=/home/biocbuild/R/R/site-library --no-vignettes --timings betaHMM_1.5.1.tar.gz |
StartedAt: 2025-10-03 04:56:37 -0000 (Fri, 03 Oct 2025) |
EndedAt: 2025-10-03 05:13:29 -0000 (Fri, 03 Oct 2025) |
EllapsedTime: 1011.8 seconds |
RetCode: 1 |
Status: ERROR |
CheckDir: betaHMM.Rcheck |
Warnings: NA |
############################################################################## ############################################################################## ### ### Running command: ### ### /home/biocbuild/R/R/bin/R CMD check --install=check:betaHMM.install-out.txt --library=/home/biocbuild/R/R/site-library --no-vignettes --timings betaHMM_1.5.1.tar.gz ### ############################################################################## ############################################################################## * using log directory ‘/home/biocbuild/bbs-3.22-bioc/meat/betaHMM.Rcheck’ * using R version 4.5.0 (2025-04-11) * using platform: aarch64-unknown-linux-gnu * R was compiled by aarch64-unknown-linux-gnu-gcc (GCC) 14.2.0 GNU Fortran (GCC) 14.2.0 * running under: openEuler 24.03 (LTS) * using session charset: UTF-8 * using option ‘--no-vignettes’ * checking for file ‘betaHMM/DESCRIPTION’ ... OK * checking extension type ... Package * this is package ‘betaHMM’ version ‘1.5.1’ * package encoding: UTF-8 * checking package namespace information ... OK * checking package dependencies ... OK * checking if this is a source package ... OK * checking if there is a namespace ... OK * checking for hidden files and directories ... OK * checking for portable file names ... OK * checking for sufficient/correct file permissions ... OK * checking whether package ‘betaHMM’ can be installed ... OK * checking installed package size ... OK * checking package directory ... OK * checking ‘build’ directory ... OK * checking DESCRIPTION meta-information ... OK * checking top-level files ... OK * checking for left-over files ... OK * checking index information ... OK * checking package subdirectories ... OK * checking code files for non-ASCII characters ... OK * checking R files for syntax errors ... OK * checking whether the package can be loaded ... OK * checking whether the package can be loaded with stated dependencies ... OK * checking whether the package can be unloaded cleanly ... OK * checking whether the namespace can be loaded with stated dependencies ... OK * checking whether the namespace can be unloaded cleanly ... OK * checking loading without being on the library search path ... OK * checking dependencies in R code ... OK * checking S3 generic/method consistency ... OK * checking replacement functions ... OK * checking foreign function calls ... OK * checking R code for possible problems ... OK * checking Rd files ... OK * checking Rd metadata ... OK * checking Rd cross-references ... OK * checking for missing documentation entries ... OK * checking for code/documentation mismatches ... OK * checking Rd \usage sections ... OK * checking Rd contents ... OK * checking for unstated dependencies in examples ... OK * checking contents of ‘data’ directory ... OK * checking data for non-ASCII characters ... OK * checking data for ASCII and uncompressed saves ... OK * checking files in ‘vignettes’ ... OK * checking examples ... OK Examples with CPU (user + system) or elapsed time > 5s user system elapsed plot 1.797 0.184 43.988 betaHMM 1.855 0.109 23.352 betaHMMResults 1.150 0.174 22.642 betaHMMrun 0.941 0.281 22.575 dmcResults 0.970 0.211 22.507 dmc_identification 0.930 0.115 22.216 packageHelpers 0.939 0.103 21.758 dmr_identification 0.927 0.105 22.292 dmc_identification_run 0.882 0.116 22.001 dmrResults 0.892 0.088 22.050 summary 0.875 0.093 21.480 dmr_identification_run 0.867 0.073 22.456 * checking for unstated dependencies in ‘tests’ ... OK * checking tests ... Running ‘testthat.R’/home/biocbuild/R/R-4.5.0/bin/BATCH: line 60: 3238607 Killed ${R_HOME}/bin/R -f ${in} ${opts} ${R_BATCH_OPTIONS} > ${out} 2>&1 ERROR Running the tests in ‘tests/testthat.R’ failed. Last 13 lines of output: The following object is masked from 'package:stats4': plot The following object is masked from 'package:graphics': plot The following object is masked from 'package:base': plot > > test_check("betaHMM") * checking for unstated dependencies in vignettes ... OK * checking package vignettes ... OK * checking running R code from vignettes ... SKIPPED * checking re-building of vignette outputs ... SKIPPED * checking PDF version of manual ... OK * DONE Status: 1 ERROR See ‘/home/biocbuild/bbs-3.22-bioc/meat/betaHMM.Rcheck/00check.log’ for details.
betaHMM.Rcheck/00install.out
############################################################################## ############################################################################## ### ### Running command: ### ### /home/biocbuild/R/R/bin/R CMD INSTALL betaHMM ### ############################################################################## ############################################################################## * installing to library ‘/home/biocbuild/R/R-4.5.0/site-library’ * installing *source* package ‘betaHMM’ ... ** this is package ‘betaHMM’ version ‘1.5.1’ ** using staged installation ** R ** data ** inst ** byte-compile and prepare package for lazy loading Creating a new generic function for ‘plot’ in package ‘betaHMM’ ** help *** installing help indices ** building package indices ** installing vignettes ** testing if installed package can be loaded from temporary location ** testing if installed package can be loaded from final location ** testing if installed package keeps a record of temporary installation path * DONE (betaHMM)
betaHMM.Rcheck/tests/testthat.Rout.fail
R version 4.5.0 (2025-04-11) -- "How About a Twenty-Six" Copyright (C) 2025 The R Foundation for Statistical Computing Platform: aarch64-unknown-linux-gnu R is free software and comes with ABSOLUTELY NO WARRANTY. You are welcome to redistribute it under certain conditions. Type 'license()' or 'licence()' for distribution details. R is a collaborative project with many contributors. Type 'contributors()' for more information and 'citation()' on how to cite R or R packages in publications. Type 'demo()' for some demos, 'help()' for on-line help, or 'help.start()' for an HTML browser interface to help. Type 'q()' to quit R. > # This file is part of the standard setup for testthat. > # It is recommended that you do not modify it. > # > # Where should you do additional test configuration? > # Learn more about the roles of various files in: > # * https://r-pkgs.org/testing-design.html#sec-tests-files-overview > # * https://testthat.r-lib.org/articles/special-files.html > > library(testthat) > library(betaHMM) Loading required package: SummarizedExperiment Loading required package: MatrixGenerics Loading required package: matrixStats Attaching package: 'MatrixGenerics' The following objects are masked from 'package:matrixStats': colAlls, colAnyNAs, colAnys, colAvgsPerRowSet, colCollapse, colCounts, colCummaxs, colCummins, colCumprods, colCumsums, colDiffs, colIQRDiffs, colIQRs, colLogSumExps, colMadDiffs, colMads, colMaxs, colMeans2, colMedians, colMins, colOrderStats, colProds, colQuantiles, colRanges, colRanks, colSdDiffs, colSds, colSums2, colTabulates, colVarDiffs, colVars, colWeightedMads, colWeightedMeans, colWeightedMedians, colWeightedSds, colWeightedVars, rowAlls, rowAnyNAs, rowAnys, rowAvgsPerColSet, rowCollapse, rowCounts, rowCummaxs, rowCummins, rowCumprods, rowCumsums, rowDiffs, rowIQRDiffs, rowIQRs, rowLogSumExps, rowMadDiffs, rowMads, rowMaxs, rowMeans2, rowMedians, rowMins, rowOrderStats, rowProds, rowQuantiles, rowRanges, rowRanks, rowSdDiffs, rowSds, rowSums2, rowTabulates, rowVarDiffs, rowVars, rowWeightedMads, rowWeightedMeans, rowWeightedMedians, rowWeightedSds, rowWeightedVars Loading required package: GenomicRanges Loading required package: stats4 Loading required package: BiocGenerics Loading required package: generics Attaching package: 'generics' The following objects are masked from 'package:base': as.difftime, as.factor, as.ordered, intersect, is.element, setdiff, setequal, union Attaching package: 'BiocGenerics' The following objects are masked from 'package:stats': IQR, mad, sd, var, xtabs The following objects are masked from 'package:base': Filter, Find, Map, Position, Reduce, anyDuplicated, aperm, append, as.data.frame, basename, cbind, colnames, dirname, do.call, duplicated, eval, evalq, get, grep, grepl, is.unsorted, lapply, mapply, match, mget, order, paste, pmax, pmax.int, pmin, pmin.int, rank, rbind, rownames, sapply, saveRDS, table, tapply, unique, unsplit, which.max, which.min Loading required package: S4Vectors Attaching package: 'S4Vectors' The following object is masked from 'package:utils': findMatches The following objects are masked from 'package:base': I, expand.grid, unname Loading required package: IRanges Loading required package: Seqinfo Loading required package: Biobase Welcome to Bioconductor Vignettes contain introductory material; view with 'browseVignettes()'. To cite Bioconductor, see 'citation("Biobase")', and for packages 'citation("pkgname")'. Attaching package: 'Biobase' The following object is masked from 'package:MatrixGenerics': rowMedians The following objects are masked from 'package:matrixStats': anyMissing, rowMedians Attaching package: 'betaHMM' The following object is masked from 'package:stats4': plot The following object is masked from 'package:graphics': plot The following object is masked from 'package:base': plot > > test_check("betaHMM")
betaHMM.Rcheck/betaHMM-Ex.timings
name | user | system | elapsed | |
betaHMM | 1.855 | 0.109 | 23.352 | |
betaHMMResults | 1.150 | 0.174 | 22.642 | |
betaHMMrun | 0.941 | 0.281 | 22.575 | |
dmcResults | 0.970 | 0.211 | 22.507 | |
dmc_identification | 0.930 | 0.115 | 22.216 | |
dmc_identification_run | 0.882 | 0.116 | 22.001 | |
dmrResults | 0.892 | 0.088 | 22.050 | |
dmr_identification | 0.927 | 0.105 | 22.292 | |
dmr_identification_run | 0.867 | 0.073 | 22.456 | |
packageHelpers | 0.939 | 0.103 | 21.758 | |
plot | 1.797 | 0.184 | 43.988 | |
summary | 0.875 | 0.093 | 21.480 | |
threshold_Results | 0.119 | 0.016 | 0.134 | |
threshold_identification | 0.119 | 0.000 | 0.119 | |
threshold_identification_run | 0.107 | 0.007 | 0.115 | |