Back to Multiple platform build/check report for BioC 3.23:   simplified   long
A[B]CDEFGHIJKLMNOPQRSTUVWXYZ

This page was generated on 2025-11-28 11:37 -0500 (Fri, 28 Nov 2025).

HostnameOSArch (*)R versionInstalled pkgs
nebbiolo1Linux (Ubuntu 24.04.3 LTS)x86_64R Under development (unstable) (2025-10-20 r88955) -- "Unsuffered Consequences" 4866
lconwaymacOS 12.7.6 Montereyx86_64R Under development (unstable) (2025-10-21 r88958) -- "Unsuffered Consequences" 4614
kjohnson3macOS 13.7.7 Venturaarm64R Under development (unstable) (2025-11-04 r88984) -- "Unsuffered Consequences" 4571
Click on any hostname to see more info about the system (e.g. compilers)      (*) as reported by 'uname -p', except on Windows and Mac OS X

Package 166/2328HostnameOS / ArchINSTALLBUILDCHECKBUILD BIN
benchdamic 1.17.0  (landing page)
Matteo Calgaro
Snapshot Date: 2025-11-27 13:40 -0500 (Thu, 27 Nov 2025)
git_url: https://git.bioconductor.org/packages/benchdamic
git_branch: devel
git_last_commit: 316209e
git_last_commit_date: 2025-10-29 11:13:17 -0500 (Wed, 29 Oct 2025)
nebbiolo1Linux (Ubuntu 24.04.3 LTS) / x86_64  OK    OK    OK  NO, package depends on 'Maaslin2' which is not available
lconwaymacOS 12.7.6 Monterey / x86_64  OK    OK    OK    OK  NO, package depends on 'DESeq2' which is only available as a source package that needs compilation
kjohnson3macOS 13.7.7 Ventura / arm64  OK    OK    OK    OK  NO, package depends on 'DESeq2' which is only available as a source package that needs compilation


CHECK results for benchdamic on nebbiolo1

To the developers/maintainers of the benchdamic package:
- Allow up to 24 hours (and sometimes 48 hours) for your latest push to git@git.bioconductor.org:packages/benchdamic.git to reflect on this report. See Troubleshooting Build Report for more information.
- Use the following Renviron settings to reproduce errors and warnings.
- If 'R CMD check' started to fail recently on the Linux builder(s) over a missing dependency, add the missing dependency to 'Suggests:' in your DESCRIPTION file. See Renviron.bioc for more information.

raw results


Summary

Package: benchdamic
Version: 1.17.0
Command: /home/biocbuild/bbs-3.23-bioc/R/bin/R CMD check --install=check:benchdamic.install-out.txt --library=/home/biocbuild/bbs-3.23-bioc/R/site-library --timings benchdamic_1.17.0.tar.gz
StartedAt: 2025-11-27 21:20:53 -0500 (Thu, 27 Nov 2025)
EndedAt: 2025-11-27 21:54:00 -0500 (Thu, 27 Nov 2025)
EllapsedTime: 1987.1 seconds
RetCode: 0
Status:   OK  
CheckDir: benchdamic.Rcheck
Warnings: 0

Command output

##############################################################################
##############################################################################
###
### Running command:
###
###   /home/biocbuild/bbs-3.23-bioc/R/bin/R CMD check --install=check:benchdamic.install-out.txt --library=/home/biocbuild/bbs-3.23-bioc/R/site-library --timings benchdamic_1.17.0.tar.gz
###
##############################################################################
##############################################################################


* using log directory ‘/home/biocbuild/bbs-3.23-bioc/meat/benchdamic.Rcheck’
* using R Under development (unstable) (2025-10-20 r88955)
* using platform: x86_64-pc-linux-gnu
* R was compiled by
    gcc (Ubuntu 13.3.0-6ubuntu2~24.04) 13.3.0
    GNU Fortran (Ubuntu 13.3.0-6ubuntu2~24.04) 13.3.0
* running under: Ubuntu 24.04.3 LTS
* using session charset: UTF-8
* checking for file ‘benchdamic/DESCRIPTION’ ... OK
* checking extension type ... Package
* this is package ‘benchdamic’ version ‘1.17.0’
* package encoding: UTF-8
* checking package namespace information ... OK
* checking package dependencies ... INFO
Imports includes 32 non-default packages.
Importing from so many packages makes the package vulnerable to any of
them becoming unavailable.  Move as many as possible to Suggests and
use conditionally.
* checking if this is a source package ... OK
* checking if there is a namespace ... OK
* checking for hidden files and directories ... OK
* checking for portable file names ... OK
* checking for sufficient/correct file permissions ... OK
* checking whether package ‘benchdamic’ can be installed ... OK
* checking installed package size ... OK
* checking package directory ... OK
* checking ‘build’ directory ... OK
* checking DESCRIPTION meta-information ... OK
* checking top-level files ... OK
* checking for left-over files ... OK
* checking index information ... OK
* checking package subdirectories ... OK
* checking code files for non-ASCII characters ... OK
* checking R files for syntax errors ... OK
* checking whether the package can be loaded ... OK
* checking whether the package can be loaded with stated dependencies ... OK
* checking whether the package can be unloaded cleanly ... OK
* checking whether the namespace can be loaded with stated dependencies ... OK
* checking whether the namespace can be unloaded cleanly ... OK
* checking loading without being on the library search path ... OK
* checking dependencies in R code ... NOTE
Namespace in Imports field not imported from: ‘microbiome’
  All declared Imports should be used.
* checking S3 generic/method consistency ... OK
* checking replacement functions ... OK
* checking foreign function calls ... OK
* checking R code for possible problems ... OK
* checking Rd files ... OK
* checking Rd metadata ... OK
* checking Rd cross-references ... NOTE
Non-topic package-anchored link(s) in Rd file 'norm_DESeq2.Rd':
  ‘[DESeq2]{estimateSizeFactors}’

See section 'Cross-references' in the 'Writing R Extensions' manual.
* checking for missing documentation entries ... OK
* checking for code/documentation mismatches ... OK
* checking Rd \usage sections ... OK
* checking Rd contents ... OK
* checking for unstated dependencies in examples ... OK
* checking contents of ‘data’ directory ... OK
* checking data for non-ASCII characters ... OK
* checking LazyData ... OK
* checking data for ASCII and uncompressed saves ... OK
* checking files in ‘vignettes’ ... OK
* checking examples ... OK
Examples with CPU (user + system) or elapsed time > 5s
           user system elapsed
DA_ALDEx2 7.102  0.441   9.087
DA_DESeq2 5.669  0.194   8.001
areaCAT   4.525  0.491   5.876
* checking for unstated dependencies in ‘tests’ ... OK
* checking tests ...
  Running ‘testthat.R’
 OK
* checking for unstated dependencies in vignettes ... OK
* checking package vignettes ... OK
* checking re-building of vignette outputs ... OK
* checking PDF version of manual ... OK
* DONE

Status: 2 NOTEs
See
  ‘/home/biocbuild/bbs-3.23-bioc/meat/benchdamic.Rcheck/00check.log’
for details.


Installation output

benchdamic.Rcheck/00install.out

##############################################################################
##############################################################################
###
### Running command:
###
###   /home/biocbuild/bbs-3.23-bioc/R/bin/R CMD INSTALL benchdamic
###
##############################################################################
##############################################################################


* installing to library ‘/home/biocbuild/bbs-3.23-bioc/R/site-library’
* installing *source* package ‘benchdamic’ ...
** this is package ‘benchdamic’ version ‘1.17.0’
** using staged installation
** R
** data
*** moving datasets to lazyload DB
** inst
** byte-compile and prepare package for lazy loading
Found more than one class "dist" in cache; using the first, from namespace 'BiocGenerics'
Also defined by ‘spam’
** help
*** installing help indices
** building package indices
** installing vignettes
** testing if installed package can be loaded from temporary location
Found more than one class "dist" in cache; using the first, from namespace 'BiocGenerics'
Also defined by ‘spam’
** testing if installed package can be loaded from final location
Found more than one class "dist" in cache; using the first, from namespace 'BiocGenerics'
Also defined by ‘spam’
** testing if installed package keeps a record of temporary installation path
* DONE (benchdamic)

Tests output

benchdamic.Rcheck/tests/testthat.Rout


R Under development (unstable) (2025-10-20 r88955) -- "Unsuffered Consequences"
Copyright (C) 2025 The R Foundation for Statistical Computing
Platform: x86_64-pc-linux-gnu

R is free software and comes with ABSOLUTELY NO WARRANTY.
You are welcome to redistribute it under certain conditions.
Type 'license()' or 'licence()' for distribution details.

R is a collaborative project with many contributors.
Type 'contributors()' for more information and
'citation()' on how to cite R or R packages in publications.

Type 'demo()' for some demos, 'help()' for on-line help, or
'help.start()' for an HTML browser interface to help.
Type 'q()' to quit R.

> library(testthat)
> library(benchdamic)
Found more than one class "dist" in cache; using the first, from namespace 'BiocGenerics'
Also defined by 'spam'
> 
> test_check("benchdamic")
|------------(25%)----------(50%)----------(75%)----------|
|------------(25%)----------(50%)----------(75%)----------|
|------------(25%)----------(50%)----------(75%)----------|
|------------(25%)----------(50%)----------(75%)----------|
|------------(25%)----------(50%)----------(75%)----------|
[ FAIL 0 | WARN 0 | SKIP 0 | PASS 334 ]
> 
> proc.time()
   user  system elapsed 
 67.000   3.076  78.276 

Example timings

benchdamic.Rcheck/benchdamic-Ex.timings

nameusersystemelapsed
CAT0.0040.0000.003
DA_ALDEx27.1020.4419.087
DA_ANCOM1.4660.0531.521
DA_DESeq25.6690.1948.001
DA_MAST2.3230.0543.494
DA_Maaslin20.4310.0740.894
DA_NOISeq2.6860.4493.686
DA_Seurat2.9500.2243.174
DA_ZicoSeq1.1230.0691.192
DA_basic0.0510.0030.055
DA_corncob0.8920.1031.005
DA_dearseq0.0590.0070.066
DA_edgeR0.2030.0270.231
DA_limma0.0820.0060.088
DA_linda0.0450.0080.054
DA_maaslin30.5030.0480.552
DA_metagenomeSeq0.3710.0180.395
DA_mixMC0.7350.0650.807
RMSE0.0000.0010.001
addKnowledge0.2100.0230.233
areaCAT4.5250.4915.876
checkNormalization000
createColors0.0040.0010.004
createConcordance4.5320.2964.829
createEnrichment0.2320.0050.237
createMocks0.0010.0030.003
createPositives0.9500.0551.004
createSplits0.0290.0020.030
createTIEC2.8040.0622.866
enrichmentTest0.1060.0060.112
extractDA0.1930.0150.209
extractStatistics0.1560.0000.156
fitDM0.0270.0010.028
fitHURDLE0.5850.0250.610
fitModels2.1420.1012.243
fitNB0.0370.0040.041
fitZIG0.0490.0030.052
fitZINB0.4250.0190.444
getDA0.0630.0120.076
getPositives0.070.010.08
getStatistics0.0620.0040.066
get_counts_metadata0.1000.0040.104
iterative_ordering0.0090.0000.009
meanDifferences0.0020.0000.002
norm_CSS0.0630.0020.065
norm_DESeq20.4280.0300.458
norm_TSS0.0360.0020.037
norm_edgeR0.0410.0010.042
plotConcordance4.7500.1214.870
plotContingency1.3230.0091.333
plotEnrichment1.3180.0121.330
plotFDR2.5970.0632.660
plotFPR2.4310.0442.475
plotKS2.4260.0652.492
plotLogP2.4640.0552.519
plotMD3.4000.0293.429
plotMutualFindings1.3250.0141.339
plotPositives0.8180.0110.829
plotQQ2.3650.0102.376
plotRMSE2.6800.0192.699
prepareObserved0.0020.0000.002
runDA0.4650.0020.467
runMocks0.6740.0030.677
runNormalizations0.4190.0000.419
runSplits3.340.063.40
setNormalizations0.0010.0000.001
set_ALDEx20.0060.0000.007
set_ANCOM0.0060.0010.007
set_DESeq20.0070.0000.007
set_MAST0.0030.0000.003
set_Maaslin20.0020.0020.004
set_NOISeq0.0030.0000.003
set_Seurat0.0050.0000.005
set_ZicoSeq0.0060.0000.006
set_basic0.0010.0000.001
set_corncob0.0040.0000.004
set_dearseq0.0010.0010.002
set_edgeR0.010.000.01
set_limma0.0070.0000.007
set_linda0.0050.0000.005
set_maaslin30.0050.0010.006
set_metagenomeSeq0.0040.0000.004
set_mixMC0.0020.0010.003
weights_ZINB0.3850.0010.386