| Back to Multiple platform build/check report for BioC 3.23: simplified long |
|
This page was generated on 2025-11-18 11:38 -0500 (Tue, 18 Nov 2025).
| Hostname | OS | Arch (*) | R version | Installed pkgs |
|---|---|---|---|---|
| nebbiolo1 | Linux (Ubuntu 24.04.3 LTS) | x86_64 | R Under development (unstable) (2025-10-20 r88955) -- "Unsuffered Consequences" | 4826 |
| lconway | macOS 12.7.6 Monterey | x86_64 | R Under development (unstable) (2025-10-21 r88958) -- "Unsuffered Consequences" | 4561 |
| kjohnson3 | macOS 13.7.7 Ventura | arm64 | R Under development (unstable) (2025-11-04 r88984) -- "Unsuffered Consequences" | 4562 |
| Click on any hostname to see more info about the system (e.g. compilers) (*) as reported by 'uname -p', except on Windows and Mac OS X | ||||
| Package 163/2325 | Hostname | OS / Arch | INSTALL | BUILD | CHECK | BUILD BIN | ||||||||
| bedbaser 1.3.0 (landing page) Andres Wokaty
| nebbiolo1 | Linux (Ubuntu 24.04.3 LTS) / x86_64 | OK | OK | OK | |||||||||
| lconway | macOS 12.7.6 Monterey / x86_64 | OK | OK | OK | OK | |||||||||
| kjohnson3 | macOS 13.7.7 Ventura / arm64 | OK | OK | OK | OK | |||||||||
|
To the developers/maintainers of the bedbaser package: - Allow up to 24 hours (and sometimes 48 hours) for your latest push to git@git.bioconductor.org:packages/bedbaser.git to reflect on this report. See Troubleshooting Build Report for more information. - Use the following Renviron settings to reproduce errors and warnings. - If 'R CMD check' started to fail recently on the Linux builder(s) over a missing dependency, add the missing dependency to 'Suggests:' in your DESCRIPTION file. See Renviron.bioc for more information. |
| Package: bedbaser |
| Version: 1.3.0 |
| Command: /Library/Frameworks/R.framework/Resources/bin/R CMD check --install=check:bedbaser.install-out.txt --library=/Library/Frameworks/R.framework/Resources/library --no-vignettes --timings bedbaser_1.3.0.tar.gz |
| StartedAt: 2025-11-17 20:28:54 -0500 (Mon, 17 Nov 2025) |
| EndedAt: 2025-11-17 20:32:19 -0500 (Mon, 17 Nov 2025) |
| EllapsedTime: 205.4 seconds |
| RetCode: 0 |
| Status: OK |
| CheckDir: bedbaser.Rcheck |
| Warnings: 0 |
##############################################################################
##############################################################################
###
### Running command:
###
### /Library/Frameworks/R.framework/Resources/bin/R CMD check --install=check:bedbaser.install-out.txt --library=/Library/Frameworks/R.framework/Resources/library --no-vignettes --timings bedbaser_1.3.0.tar.gz
###
##############################################################################
##############################################################################
* using log directory ‘/Users/biocbuild/bbs-3.23-bioc/meat/bedbaser.Rcheck’
* using R Under development (unstable) (2025-10-21 r88958)
* using platform: x86_64-apple-darwin20
* R was compiled by
Apple clang version 14.0.0 (clang-1400.0.29.202)
GNU Fortran (GCC) 14.2.0
* running under: macOS Ventura 13.7.8
* using session charset: UTF-8
* using option ‘--no-vignettes’
* checking for file ‘bedbaser/DESCRIPTION’ ... OK
* this is package ‘bedbaser’ version ‘1.3.0’
* package encoding: UTF-8
* checking package namespace information ... OK
* checking package dependencies ... OK
* checking if this is a source package ... OK
* checking if there is a namespace ... OK
* checking for hidden files and directories ... OK
* checking for portable file names ... OK
* checking for sufficient/correct file permissions ... OK
* checking whether package ‘bedbaser’ can be installed ... OK
* checking installed package size ... OK
* checking package directory ... OK
* checking ‘build’ directory ... OK
* checking DESCRIPTION meta-information ... OK
* checking top-level files ... OK
* checking for left-over files ... OK
* checking index information ... OK
* checking package subdirectories ... OK
* checking code files for non-ASCII characters ... OK
* checking R files for syntax errors ... OK
* checking whether the package can be loaded ... OK
* checking whether the package can be loaded with stated dependencies ... OK
* checking whether the package can be unloaded cleanly ... OK
* checking whether the namespace can be loaded with stated dependencies ... OK
* checking whether the namespace can be unloaded cleanly ... OK
* checking dependencies in R code ... OK
* checking S3 generic/method consistency ... OK
* checking replacement functions ... OK
* checking foreign function calls ... OK
* checking R code for possible problems ... NOTE
.get_url: no visible binding for global variable ‘access_methods’
.get_url: no visible binding for global variable ‘access_url’
.get_url: no visible binding for global variable ‘name’
.get_url: no visible binding for global variable ‘access_id’
bb_list_bedsets: no visible binding for global variable ‘bed_ids’
bb_list_bedsets: no visible binding for global variable ‘id’
bb_list_bedsets: no visible binding for global variable ‘name’
bb_list_bedsets: no visible binding for global variable ‘md5sum’
bb_list_bedsets: no visible binding for global variable
‘submission_date’
bb_list_bedsets: no visible binding for global variable
‘last_update_date’
bb_list_bedsets: no visible binding for global variable ‘description’
bb_list_bedsets: no visible binding for global variable ‘author’
Undefined global functions or variables:
access_id access_methods access_url author bed_ids description id
last_update_date md5sum name submission_date
* checking Rd files ... OK
* checking Rd metadata ... OK
* checking Rd cross-references ... OK
* checking for missing documentation entries ... OK
* checking for code/documentation mismatches ... OK
* checking Rd \usage sections ... OK
* checking Rd contents ... OK
* checking for unstated dependencies in examples ... OK
* checking files in ‘vignettes’ ... OK
* checking examples ... OK
Examples with CPU (user + system) or elapsed time > 5s
user system elapsed
bb_to_granges 15.645 2.330 21.275
bb_to_grangeslist 14.162 1.386 29.300
bb_list_bedsets 0.346 0.024 5.586
* checking for unstated dependencies in ‘tests’ ... OK
* checking tests ...
Running ‘testthat.R’
OK
* checking for unstated dependencies in vignettes ... OK
* checking package vignettes ... OK
* checking running R code from vignettes ... SKIPPED
* checking re-building of vignette outputs ... SKIPPED
* checking PDF version of manual ... OK
* DONE
Status: 1 NOTE
See
‘/Users/biocbuild/bbs-3.23-bioc/meat/bedbaser.Rcheck/00check.log’
for details.
bedbaser.Rcheck/00install.out
############################################################################## ############################################################################## ### ### Running command: ### ### /Library/Frameworks/R.framework/Resources/bin/R CMD INSTALL bedbaser ### ############################################################################## ############################################################################## * installing to library ‘/Library/Frameworks/R.framework/Versions/4.6-x86_64/Resources/library’ * installing *source* package ‘bedbaser’ ... ** this is package ‘bedbaser’ version ‘1.3.0’ ** using staged installation ** R ** inst ** byte-compile and prepare package for lazy loading Creating a generic function for ‘tags’ from package ‘AnVIL’ in package ‘bedbaser’ ** help *** installing help indices ** building package indices ** installing vignettes ** testing if installed package can be loaded from temporary location ** testing if installed package can be loaded from final location ** testing if installed package keeps a record of temporary installation path * DONE (bedbaser)
bedbaser.Rcheck/tests/testthat.Rout
R Under development (unstable) (2025-10-21 r88958) -- "Unsuffered Consequences"
Copyright (C) 2025 The R Foundation for Statistical Computing
Platform: x86_64-apple-darwin20
R is free software and comes with ABSOLUTELY NO WARRANTY.
You are welcome to redistribute it under certain conditions.
Type 'license()' or 'licence()' for distribution details.
R is a collaborative project with many contributors.
Type 'contributors()' for more information and
'citation()' on how to cite R or R packages in publications.
Type 'demo()' for some demos, 'help()' for on-line help, or
'help.start()' for an HTML browser interface to help.
Type 'q()' to quit R.
> # This file is part of the standard setup for testthat.
> # It is recommended that you do not modify it.
> #
> # Where should you do additional test configuration?
> # Learn more about the roles of various files in:
> # * https://r-pkgs.org/testing-design.html#sec-tests-files-overview
> # * https://testthat.r-lib.org/articles/special-files.html
>
> library(testthat)
> library(bedbaser)
>
> test_check("bedbaser")
trying URL 'https://api.bedbase.org/v1/files/files/1/e/1e565ba29c290577200fb00ed0e0fece.bed.gz'
Content type 'binary/octet-stream' length 143738 bytes (140 KB)
==================================================
downloaded 140 KB
Attaching package: 'generics'
The following objects are masked from 'package:base':
as.difftime, as.factor, as.ordered, intersect, is.element, setdiff,
setequal, union
Attaching package: 'BiocGenerics'
The following objects are masked from 'package:stats':
IQR, mad, sd, var, xtabs
The following objects are masked from 'package:base':
Filter, Find, Map, Position, Reduce, anyDuplicated, aperm, append,
as.data.frame, basename, cbind, colnames, dirname, do.call,
duplicated, eval, evalq, get, grep, grepl, is.unsorted, lapply,
mapply, match, mget, order, paste, pmax, pmax.int, pmin, pmin.int,
rank, rbind, rownames, sapply, saveRDS, table, tapply, unique,
unsplit, which.max, which.min
Attaching package: 'S4Vectors'
The following object is masked from 'package:utils':
findMatches
The following objects are masked from 'package:base':
I, expand.grid, unname
Attaching package: 'Biostrings'
The following object is masked from 'package:base':
strsplit
trying URL 'https://api.bedbase.org/v1/files/files/e/b/eba168010027d949c43dacb87bbae7fa.bed.gz'
Content type 'binary/octet-stream' length 1717762 bytes (1.6 MB)
==================================================
downloaded 1.6 MB
trying URL 'https://api.bedbase.org/v1/files/files/5/e/5e6171d695d1deeaad4894658a8dc240.bed.gz'
Content type 'binary/octet-stream' length 21977 bytes (21 KB)
==================================================
downloaded 21 KB
trying URL 'https://api.bedbase.org/v1/files/files/2/8/28cbd7ce5c7c61f37509bfa71208a68d.bed.gz'
Content type 'binary/octet-stream' length 779925 bytes (761 KB)
==================================================
downloaded 761 KB
trying URL 'https://api.bedbase.org/v1/files/files/b/b/bbad85f21962bb8d972444f7f9a3a932.bed.gz'
Content type 'binary/octet-stream' length 641053 bytes (626 KB)
==================================================
downloaded 626 KB
trying URL 'https://api.bedbase.org/v1/files/files/3/e/3e0d4fd708feebd372c652e07d8a36a3.bed.gz'
Content type 'binary/octet-stream' length 1195282 bytes (1.1 MB)
==================================================
downloaded 1.1 MB
trying URL 'https://api.bedbase.org/v1/files/files/0/6/0692dfe199d26353af23dcbf354a6548.bed.gz'
Content type 'binary/octet-stream' length 478938 bytes (467 KB)
==================================================
downloaded 467 KB
[ FAIL 0 | WARN 0 | SKIP 0 | PASS 51 ]
>
> proc.time()
user system elapsed
37.941 4.065 67.082
bedbaser.Rcheck/bedbaser-Ex.timings
| name | user | system | elapsed | |
| BEDbase | 0.965 | 0.064 | 4.378 | |
| bb_bed_text_search | 0.196 | 0.029 | 0.787 | |
| bb_beds_in_bedset | 0.158 | 0.007 | 0.396 | |
| bb_example | 0.171 | 0.011 | 0.460 | |
| bb_list_beds | 0.319 | 0.020 | 0.942 | |
| bb_list_bedsets | 0.346 | 0.024 | 5.586 | |
| bb_metadata | 0.161 | 0.007 | 0.537 | |
| bb_save | 0.207 | 0.038 | 1.882 | |
| bb_stats | 0.088 | 0.005 | 0.416 | |
| bb_to_granges | 15.645 | 2.330 | 21.275 | |
| bb_to_grangeslist | 14.162 | 1.386 | 29.300 | |
| getCache-BEDbase-method | 0.176 | 0.018 | 0.631 | |
| operations-BEDbase-method | 0.123 | 0.011 | 0.299 | |
| schemas-BEDbase-method | 0.101 | 0.007 | 0.272 | |
| setCache-BEDbase-method | 0.131 | 0.008 | 0.308 | |
| tags-BEDbase-method | 0.132 | 0.006 | 0.305 | |