Back to Multiple platform build/check report for BioC 3.22:   simplified   long
[A]BCDEFGHIJKLMNOPQRSTUVWXYZ

This page was generated on 2025-07-15 12:04 -0400 (Tue, 15 Jul 2025).

HostnameOSArch (*)R versionInstalled pkgs
nebbiolo2Linux (Ubuntu 24.04.2 LTS)x86_644.5.1 (2025-06-13) -- "Great Square Root" 4785
palomino8Windows Server 2022 Datacenterx644.5.1 (2025-06-13 ucrt) -- "Great Square Root" 4524
lconwaymacOS 12.7.1 Montereyx86_644.5.1 (2025-06-13) -- "Great Square Root" 4565
kjohnson3macOS 13.7.1 Venturaarm644.5.1 Patched (2025-06-14 r88325) -- "Great Square Root" 4508
taishanLinux (openEuler 24.03 LTS)aarch644.5.0 (2025-04-11) -- "How About a Twenty-Six" 4509
Click on any hostname to see more info about the system (e.g. compilers)      (*) as reported by 'uname -p', except on Windows and Mac OS X

Package 70/2311HostnameOS / ArchINSTALLBUILDCHECKBUILD BIN
annotate 1.87.0  (landing page)
Bioconductor Package Maintainer
Snapshot Date: 2025-07-14 13:25 -0400 (Mon, 14 Jul 2025)
git_url: https://git.bioconductor.org/packages/annotate
git_branch: devel
git_last_commit: 22204b6
git_last_commit_date: 2025-06-18 13:57:32 -0400 (Wed, 18 Jun 2025)
nebbiolo2Linux (Ubuntu 24.04.2 LTS) / x86_64  OK    OK    OK  UNNEEDED, same version is already published
palomino8Windows Server 2022 Datacenter / x64  OK    OK    ERROR    OK  
lconwaymacOS 12.7.1 Monterey / x86_64  OK    OK    OK    OK  UNNEEDED, same version is already published
kjohnson3macOS 13.7.1 Ventura / arm64  OK    OK    OK    OK  UNNEEDED, same version is already published
taishanLinux (openEuler 24.03 LTS) / aarch64  OK    OK    OK  


CHECK results for annotate on nebbiolo2

To the developers/maintainers of the annotate package:
- Allow up to 24 hours (and sometimes 48 hours) for your latest push to git@git.bioconductor.org:packages/annotate.git to reflect on this report. See Troubleshooting Build Report for more information.
- Use the following Renviron settings to reproduce errors and warnings.
- If 'R CMD check' started to fail recently on the Linux builder(s) over a missing dependency, add the missing dependency to 'Suggests:' in your DESCRIPTION file. See Renviron.bioc for more information.

raw results


Summary

Package: annotate
Version: 1.87.0
Command: /home/biocbuild/bbs-3.22-bioc/R/bin/R CMD check --install=check:annotate.install-out.txt --library=/home/biocbuild/bbs-3.22-bioc/R/site-library --timings annotate_1.87.0.tar.gz
StartedAt: 2025-07-14 19:58:58 -0400 (Mon, 14 Jul 2025)
EndedAt: 2025-07-14 20:03:00 -0400 (Mon, 14 Jul 2025)
EllapsedTime: 241.4 seconds
RetCode: 0
Status:   OK  
CheckDir: annotate.Rcheck
Warnings: 0

Command output

##############################################################################
##############################################################################
###
### Running command:
###
###   /home/biocbuild/bbs-3.22-bioc/R/bin/R CMD check --install=check:annotate.install-out.txt --library=/home/biocbuild/bbs-3.22-bioc/R/site-library --timings annotate_1.87.0.tar.gz
###
##############################################################################
##############################################################################


* using log directory ‘/home/biocbuild/bbs-3.22-bioc/meat/annotate.Rcheck’
* using R version 4.5.1 (2025-06-13)
* using platform: x86_64-pc-linux-gnu
* R was compiled by
    gcc (Ubuntu 13.3.0-6ubuntu2~24.04) 13.3.0
    GNU Fortran (Ubuntu 13.3.0-6ubuntu2~24.04) 13.3.0
* running under: Ubuntu 24.04.2 LTS
* using session charset: UTF-8
* checking for file ‘annotate/DESCRIPTION’ ... OK
* this is package ‘annotate’ version ‘1.87.0’
* checking package namespace information ... OK
* checking package dependencies ... OK
* checking if this is a source package ... OK
* checking if there is a namespace ... OK
* checking for hidden files and directories ... OK
* checking for portable file names ... OK
* checking for sufficient/correct file permissions ... OK
* checking whether package ‘annotate’ can be installed ... OK
* checking installed package size ... OK
* checking package directory ... OK
* checking ‘build’ directory ... OK
* checking DESCRIPTION meta-information ... OK
* checking top-level files ... OK
* checking for left-over files ... OK
* checking index information ... OK
* checking package subdirectories ... OK
* checking code files for non-ASCII characters ... OK
* checking R files for syntax errors ... OK
* checking whether the package can be loaded ... OK
* checking whether the package can be loaded with stated dependencies ... OK
* checking whether the package can be unloaded cleanly ... OK
* checking whether the namespace can be loaded with stated dependencies ... OK
* checking whether the namespace can be unloaded cleanly ... OK
* checking loading without being on the library search path ... OK
* checking whether startup messages can be suppressed ... OK
* checking dependencies in R code ... NOTE
Unexported object imported by a ':::' call: ‘BiocGenerics:::testPackage’
  See the note in ?`:::` about the use of this operator.
* checking S3 generic/method consistency ... OK
* checking replacement functions ... OK
* checking foreign function calls ... OK
* checking R code for possible problems ... OK
* checking Rd files ... OK
* checking Rd metadata ... OK
* checking Rd cross-references ... OK
* checking for missing documentation entries ... OK
* checking for code/documentation mismatches ... OK
* checking Rd \usage sections ... OK
* checking Rd contents ... OK
* checking for unstated dependencies in examples ... OK
* checking contents of ‘data’ directory ... OK
* checking data for non-ASCII characters ... OK
* checking data for ASCII and uncompressed saves ... OK
* checking files in ‘vignettes’ ... OK
* checking examples ... OK
Examples with CPU (user + system) or elapsed time > 5s
                user system elapsed
chrCats        8.613  0.254   8.868
blastSequences 0.288  0.031  32.385
* checking for unstated dependencies in ‘tests’ ... OK
* checking tests ...
  Running ‘annotate_unit_tests.R’
 OK
* checking for unstated dependencies in vignettes ... OK
* checking package vignettes ... OK
* checking re-building of vignette outputs ... OK
* checking PDF version of manual ... OK
* DONE

Status: 1 NOTE
See
  ‘/home/biocbuild/bbs-3.22-bioc/meat/annotate.Rcheck/00check.log’
for details.


Installation output

annotate.Rcheck/00install.out

##############################################################################
##############################################################################
###
### Running command:
###
###   /home/biocbuild/bbs-3.22-bioc/R/bin/R CMD INSTALL annotate
###
##############################################################################
##############################################################################


* installing to library ‘/home/biocbuild/bbs-3.22-bioc/R/site-library’
* installing *source* package ‘annotate’ ...
** this is package ‘annotate’ version ‘1.87.0’
** using staged installation
** R
** data
** inst
** byte-compile and prepare package for lazy loading
** help
*** installing help indices
** building package indices
** installing vignettes
** testing if installed package can be loaded from temporary location
** testing if installed package can be loaded from final location
** testing if installed package keeps a record of temporary installation path
* DONE (annotate)

Tests output

annotate.Rcheck/tests/annotate_unit_tests.Rout


R version 4.5.1 (2025-06-13) -- "Great Square Root"
Copyright (C) 2025 The R Foundation for Statistical Computing
Platform: x86_64-pc-linux-gnu

R is free software and comes with ABSOLUTELY NO WARRANTY.
You are welcome to redistribute it under certain conditions.
Type 'license()' or 'licence()' for distribution details.

R is a collaborative project with many contributors.
Type 'contributors()' for more information and
'citation()' on how to cite R or R packages in publications.

Type 'demo()' for some demos, 'help()' for on-line help, or
'help.start()' for an HTML browser interface to help.
Type 'q()' to quit R.

> BiocGenerics:::testPackage("annotate")

Attaching package: 'generics'

The following objects are masked from 'package:base':

    as.difftime, as.factor, as.ordered, intersect, is.element, setdiff,
    setequal, union


Attaching package: 'BiocGenerics'

The following objects are masked from 'package:stats':

    IQR, mad, sd, var, xtabs

The following objects are masked from 'package:base':

    Filter, Find, Map, Position, Reduce, anyDuplicated, aperm, append,
    as.data.frame, basename, cbind, colnames, dirname, do.call,
    duplicated, eval, evalq, get, grep, grepl, is.unsorted, lapply,
    mapply, match, mget, order, paste, pmax, pmax.int, pmin, pmin.int,
    rank, rbind, rownames, sapply, saveRDS, table, tapply, unique,
    unsplit, which.max, which.min

Welcome to Bioconductor

    Vignettes contain introductory material; view with
    'browseVignettes()'. To cite Bioconductor, see
    'citation("Biobase")', and for packages 'citation("pkgname")'.


Attaching package: 'S4Vectors'

The following object is masked from 'package:utils':

    findMatches

The following objects are masked from 'package:base':

    I, expand.grid, unname

Loading required package: org.Hs.eg.db

'select()' returned 1:many mapping between keys and columns


RUNIT TEST PROTOCOL -- Mon Jul 14 20:01:43 2025 
*********************************************** 
Number of test functions: 1 
Number of errors: 0 
Number of failures: 0 

 
1 Test Suite : 
annotate RUnit Tests - 1 test function, 0 errors, 0 failures
Number of test functions: 1 
Number of errors: 0 
Number of failures: 0 
> 
> proc.time()
   user  system elapsed 
  8.142   0.442   8.575 

Example timings

annotate.Rcheck/annotate-Ex.timings

nameusersystemelapsed
ACCNUMStats1.2670.0381.305
GO2heatmap0.1040.0000.104
GOmnplot0.0380.0010.039
HTMLPage-class000
LL2homology000
PMIDAmat0.0770.0000.079
PWAmat1.3740.0221.397
UniGeneQuery0.0020.0000.002
accessionToUID0.5690.0342.057
annPkgName000
aqListGOIDs0.1060.0140.120
blastSequences 0.288 0.03132.385
buildChromLocation0.6990.0660.765
buildPubMedAbst0.0860.0050.369
chrCats8.6130.2548.868
chromLocation-class0.5330.0280.561
compatibleVersions0.0260.0000.026
dropECode0.0340.0000.035
entrezGeneByID000
entrezGeneQuery000
filterGOByOntology0.0470.0000.047
findNeighbors0.0160.0020.021
genbank0.3100.0070.771
getAnnMap0.0180.0000.018
getEvidence0.0390.0000.038
getGOTerm0.1660.0020.169
getOntology0.0280.0000.028
getPMInfo0.2930.0000.600
getSYMBOL0.0830.0030.087
getSeq4Acc0.0420.0000.356
hasGOannote0.0240.0000.024
hgByChroms0.0160.0010.017
hgCLengths0.0010.0000.001
hgu95Achroloc0.0590.0020.061
hgu95Achrom0.0470.0000.048
hgu95All0.0530.0020.056
hgu95Asym0.0550.0020.057
homoData-class0.0020.0000.002
htmlpage0.0160.0000.016
isValidkey000
makeAnchor0.0000.0000.001
organism0.5370.0040.541
pm.abstGrep0.9050.0411.751
pm.getabst0.8790.0681.973
pm.titles1.4030.4123.743
pmAbst2HTML0.0660.0100.381
pmid2MIAME000
pmidQuery0.0010.0000.001
pubMedAbst-class0.0590.0040.576
pubmed0.0530.0020.368
readGEOAnn000
serializeEnv0.0010.0000.001
setRepository000
updateSymbolsToValidKeys000
usedChromGenes0.0720.0080.080