Back to Build/check report for BioC 3.23:   simplified   long
[A]BCDEFGHIJKLMNOPQRSTUVWXYZ

This page was generated on 2025-11-10 11:32 -0500 (Mon, 10 Nov 2025).

HostnameOSArch (*)R versionInstalled pkgs
nebbiolo1Linux (Ubuntu 24.04.3 LTS)x86_64R Under development (unstable) (2025-10-20 r88955) -- "Unsuffered Consequences" 4821
Click on any hostname to see more info about the system (e.g. compilers)      (*) as reported by 'uname -p', except on Windows and Mac OS X

Package 69/2323HostnameOS / ArchINSTALLBUILDCHECKBUILD BIN
animalcules 1.27.0  (landing page)
Jessica McClintock
Snapshot Date: 2025-11-09 13:40 -0500 (Sun, 09 Nov 2025)
git_url: https://git.bioconductor.org/packages/animalcules
git_branch: devel
git_last_commit: 30597c8
git_last_commit_date: 2025-10-29 10:52:04 -0500 (Wed, 29 Oct 2025)
nebbiolo1Linux (Ubuntu 24.04.3 LTS) / x86_64  OK    OK    OK  UNNEEDED, same version is already published


CHECK results for animalcules on nebbiolo1

To the developers/maintainers of the animalcules package:
- Allow up to 24 hours (and sometimes 48 hours) for your latest push to git@git.bioconductor.org:packages/animalcules.git to reflect on this report. See Troubleshooting Build Report for more information.
- Use the following Renviron settings to reproduce errors and warnings.
- If 'R CMD check' started to fail recently on the Linux builder(s) over a missing dependency, add the missing dependency to 'Suggests:' in your DESCRIPTION file. See Renviron.bioc for more information.

raw results


Summary

Package: animalcules
Version: 1.27.0
Command: /home/biocbuild/bbs-3.23-bioc/R/bin/R CMD check --install=check:animalcules.install-out.txt --library=/home/biocbuild/bbs-3.23-bioc/R/site-library --timings animalcules_1.27.0.tar.gz
StartedAt: 2025-11-09 20:56:20 -0500 (Sun, 09 Nov 2025)
EndedAt: 2025-11-09 21:01:22 -0500 (Sun, 09 Nov 2025)
EllapsedTime: 301.5 seconds
RetCode: 0
Status:   OK  
CheckDir: animalcules.Rcheck
Warnings: 0

Command output

##############################################################################
##############################################################################
###
### Running command:
###
###   /home/biocbuild/bbs-3.23-bioc/R/bin/R CMD check --install=check:animalcules.install-out.txt --library=/home/biocbuild/bbs-3.23-bioc/R/site-library --timings animalcules_1.27.0.tar.gz
###
##############################################################################
##############################################################################


* using log directory ‘/home/biocbuild/bbs-3.23-bioc/meat/animalcules.Rcheck’
* using R Under development (unstable) (2025-10-20 r88955)
* using platform: x86_64-pc-linux-gnu
* R was compiled by
    gcc (Ubuntu 13.3.0-6ubuntu2~24.04) 13.3.0
    GNU Fortran (Ubuntu 13.3.0-6ubuntu2~24.04) 13.3.0
* running under: Ubuntu 24.04.3 LTS
* using session charset: UTF-8
* checking for file ‘animalcules/DESCRIPTION’ ... OK
* this is package ‘animalcules’ version ‘1.27.0’
* package encoding: UTF-8
* checking package namespace information ... OK
* checking package dependencies ... INFO
Imports includes 31 non-default packages.
Importing from so many packages makes the package vulnerable to any of
them becoming unavailable.  Move as many as possible to Suggests and
use conditionally.
* checking if this is a source package ... OK
* checking if there is a namespace ... OK
* checking for hidden files and directories ... OK
* checking for portable file names ... OK
* checking for sufficient/correct file permissions ... OK
* checking whether package ‘animalcules’ can be installed ... OK
* checking installed package size ... OK
* checking package directory ... OK
* checking ‘build’ directory ... OK
* checking DESCRIPTION meta-information ... OK
* checking top-level files ... OK
* checking for left-over files ... OK
* checking index information ... OK
* checking package subdirectories ... OK
* checking code files for non-ASCII characters ... OK
* checking R files for syntax errors ... OK
* checking whether the package can be loaded ... OK
* checking whether the package can be loaded with stated dependencies ... OK
* checking whether the package can be unloaded cleanly ... OK
* checking whether the namespace can be loaded with stated dependencies ... OK
* checking whether the namespace can be unloaded cleanly ... OK
* checking loading without being on the library search path ... OK
* checking dependencies in R code ... OK
* checking S3 generic/method consistency ... OK
* checking replacement functions ... OK
* checking foreign function calls ... OK
* checking R code for possible problems ... OK
* checking Rd files ... OK
* checking Rd metadata ... OK
* checking Rd cross-references ... OK
* checking for missing documentation entries ... OK
* checking for code/documentation mismatches ... OK
* checking Rd \usage sections ... OK
* checking Rd contents ... OK
* checking for unstated dependencies in examples ... OK
* checking files in ‘vignettes’ ... OK
* checking examples ... OK
Examples with CPU (user + system) or elapsed time > 5s
            user system elapsed
dimred_tsne 5.34  0.208    5.55
* checking for unstated dependencies in ‘tests’ ... OK
* checking tests ...
  Running ‘testthat.R’
 OK
* checking for unstated dependencies in vignettes ... OK
* checking package vignettes ... OK
* checking re-building of vignette outputs ... OK
* checking PDF version of manual ... OK
* DONE

Status: OK


Installation output

animalcules.Rcheck/00install.out

##############################################################################
##############################################################################
###
### Running command:
###
###   /home/biocbuild/bbs-3.23-bioc/R/bin/R CMD INSTALL animalcules
###
##############################################################################
##############################################################################


* installing to library ‘/home/biocbuild/bbs-3.23-bioc/R/site-library’
* installing *source* package ‘animalcules’ ...
** this is package ‘animalcules’ version ‘1.27.0’
** using staged installation
** R
** inst
** byte-compile and prepare package for lazy loading
** help
*** installing help indices
** building package indices
** installing vignettes
** testing if installed package can be loaded from temporary location
** testing if installed package can be loaded from final location
** testing if installed package keeps a record of temporary installation path
* DONE (animalcules)

Tests output

animalcules.Rcheck/tests/testthat.Rout


R Under development (unstable) (2025-10-20 r88955) -- "Unsuffered Consequences"
Copyright (C) 2025 The R Foundation for Statistical Computing
Platform: x86_64-pc-linux-gnu

R is free software and comes with ABSOLUTELY NO WARRANTY.
You are welcome to redistribute it under certain conditions.
Type 'license()' or 'licence()' for distribution details.

R is a collaborative project with many contributors.
Type 'contributors()' for more information and
'citation()' on how to cite R or R packages in publications.

Type 'demo()' for some demos, 'help()' for on-line help, or
'help.start()' for an HTML browser interface to help.
Type 'q()' to quit R.

> library(testthat)
> library(animalcules)
> 
> test_check("animalcules")
[ FAIL 0 | WARN 1 | SKIP 0 | PASS 38 ]

[ FAIL 0 | WARN 1 | SKIP 0 | PASS 38 ]
> 
> proc.time()
   user  system elapsed 
 27.151   1.046  28.660 

Example timings

animalcules.Rcheck/animalcules-Ex.timings

nameusersystemelapsed
alpha_div_boxplot0.6910.0790.771
alpha_div_test0.0040.0000.003
counts_to_logcpm0.0010.0000.001
counts_to_relabu0.0020.0000.002
df_char_to_factor0.0010.0000.000
differential_abundance4.6850.1634.847
dimred_pca0.1580.0060.163
dimred_pcoa0.1140.0070.121
dimred_tsne5.3400.2085.550
dimred_umap0.3880.0080.396
diversities0.0000.0000.001
diversities_help000
diversity_beta_boxplot0.2170.0070.225
diversity_beta_heatmap0.1890.0080.197
diversity_beta_test0.1680.0010.168
do_alpha_div_test0.0500.0010.051
filter_categorize0.2580.0170.275
filter_summary_bar_density0.2550.0050.260
filter_summary_pie_box0.1990.0090.208
find_biomarker4.2870.0624.351
find_taxon_mat0.1740.0080.722
find_taxonomy0.0220.0000.591
find_taxonomy_3000.0200.0010.481
gini_simpson0.0000.0010.000
grep_tid0.0000.0000.001
inverse_simpson0.0010.0000.001
is_categorical000
is_integer00.0000.0010.000
is_integer10.0000.0000.001
mae_pick_organisms0.1130.0010.114
mae_pick_samples0.1320.0000.133
pct2str000
percent000
relabu_barplot0.9650.0070.973
relabu_boxplot0.1020.0050.107
relabu_heatmap0.1210.0050.126
run_animalcules0.0000.0010.000
shannon0.0000.0000.001
simpson_index000
upsample_counts0.0100.0020.012