Back to Multiple platform build/check report for BioC 3.21:   simplified   long
ABCDEFGHIJKLMNOPQRSTUVW[X]YZ

This page was generated on 2025-02-03 12:37 -0500 (Mon, 03 Feb 2025).

HostnameOSArch (*)R versionInstalled pkgs
nebbiolo1Linux (Ubuntu 24.04.1 LTS)x86_64R Under development (unstable) (2025-01-20 r87609) -- "Unsuffered Consequences" 4704
palomino7Windows Server 2022 Datacenterx64R Under development (unstable) (2025-01-21 r87610 ucrt) -- "Unsuffered Consequences" 4467
lconwaymacOS 12.7.1 Montereyx86_64R Under development (unstable) (2025-01-22 r87618) -- "Unsuffered Consequences" 4478
Click on any hostname to see more info about the system (e.g. compilers)      (*) as reported by 'uname -p', except on Windows and Mac OS X

Package 2278/2289HostnameOS / ArchINSTALLBUILDCHECKBUILD BIN
XNAString 1.15.0  (landing page)
Marianna Plucinska
Snapshot Date: 2025-02-02 13:40 -0500 (Sun, 02 Feb 2025)
git_url: https://git.bioconductor.org/packages/XNAString
git_branch: devel
git_last_commit: 6cd7edb
git_last_commit_date: 2024-10-29 11:00:11 -0500 (Tue, 29 Oct 2024)
nebbiolo1Linux (Ubuntu 24.04.1 LTS) / x86_64  OK    OK    WARNINGS  UNNEEDED, same version is already published
palomino7Windows Server 2022 Datacenter / x64  OK    OK    OK    OK  UNNEEDED, same version is already published
lconwaymacOS 12.7.1 Monterey / x86_64  OK    OK    WARNINGS    OK  UNNEEDED, same version is already published


INSTALL results for XNAString on nebbiolo1

To the developers/maintainers of the XNAString package:
- Allow up to 24 hours (and sometimes 48 hours) for your latest push to git@git.bioconductor.org:packages/XNAString.git to reflect on this report. See Troubleshooting Build Report for more information.
- Use the following Renviron settings to reproduce errors and warnings.
- If 'R CMD check' started to fail recently on the Linux builder(s) over a missing dependency, add the missing dependency to 'Suggests:' in your DESCRIPTION file. See Renviron.bioc for more information.

raw results


Summary

Package: XNAString
Version: 1.15.0
Command: /home/biocbuild/bbs-3.21-bioc/R/bin/R CMD INSTALL XNAString
StartedAt: 2025-02-02 15:29:26 -0500 (Sun, 02 Feb 2025)
EndedAt: 2025-02-02 15:31:06 -0500 (Sun, 02 Feb 2025)
EllapsedTime: 100.5 seconds
RetCode: 0
Status:   OK  

Command output

##############################################################################
##############################################################################
###
### Running command:
###
###   /home/biocbuild/bbs-3.21-bioc/R/bin/R CMD INSTALL XNAString
###
##############################################################################
##############################################################################


* installing to library ‘/home/biocbuild/bbs-3.21-bioc/R/site-library’
* installing *source* package ‘XNAString’ ...
** this is package ‘XNAString’ version ‘1.15.0’
** using staged installation
** libs
using C++ compiler: ‘g++ (Ubuntu 13.3.0-6ubuntu2~24.04) 13.3.0’
using C++11
gcc -I"/home/biocbuild/bbs-3.21-bioc/R/include" -DNDEBUG -Dlibcaf_core_shared_EXPORTS -I../src -I../src -I'/home/biocbuild/bbs-3.21-bioc/R/site-library/Rcpp/include' -I/usr/local/include    -fpic  -g -O2  -c ViennaRNA/utils/cpu.c -o ViennaRNA/utils/cpu.o
gcc -I"/home/biocbuild/bbs-3.21-bioc/R/include" -DNDEBUG -Dlibcaf_core_shared_EXPORTS -I../src -I../src -I'/home/biocbuild/bbs-3.21-bioc/R/site-library/Rcpp/include' -I/usr/local/include    -fpic  -g -O2  -c ViennaRNA/utils/msa_utils.c -o ViennaRNA/utils/msa_utils.o
gcc -I"/home/biocbuild/bbs-3.21-bioc/R/include" -DNDEBUG -Dlibcaf_core_shared_EXPORTS -I../src -I../src -I'/home/biocbuild/bbs-3.21-bioc/R/site-library/Rcpp/include' -I/usr/local/include    -fpic  -g -O2  -c ViennaRNA/utils/structure_tree.c -o ViennaRNA/utils/structure_tree.o
gcc -I"/home/biocbuild/bbs-3.21-bioc/R/include" -DNDEBUG -Dlibcaf_core_shared_EXPORTS -I../src -I../src -I'/home/biocbuild/bbs-3.21-bioc/R/site-library/Rcpp/include' -I/usr/local/include    -fpic  -g -O2  -c ViennaRNA/utils/higher_order_functions.c -o ViennaRNA/utils/higher_order_functions.o
gcc -I"/home/biocbuild/bbs-3.21-bioc/R/include" -DNDEBUG -Dlibcaf_core_shared_EXPORTS -I../src -I../src -I'/home/biocbuild/bbs-3.21-bioc/R/site-library/Rcpp/include' -I/usr/local/include    -fpic  -g -O2  -c ViennaRNA/utils/string_utils.c -o ViennaRNA/utils/string_utils.o
gcc -I"/home/biocbuild/bbs-3.21-bioc/R/include" -DNDEBUG -Dlibcaf_core_shared_EXPORTS -I../src -I../src -I'/home/biocbuild/bbs-3.21-bioc/R/site-library/Rcpp/include' -I/usr/local/include    -fpic  -g -O2  -c ViennaRNA/utils/structure_utils.c -o ViennaRNA/utils/structure_utils.o
gcc -I"/home/biocbuild/bbs-3.21-bioc/R/include" -DNDEBUG -Dlibcaf_core_shared_EXPORTS -I../src -I../src -I'/home/biocbuild/bbs-3.21-bioc/R/site-library/Rcpp/include' -I/usr/local/include    -fpic  -g -O2  -c ViennaRNA/utils/utils.c -o ViennaRNA/utils/utils.o
gcc -I"/home/biocbuild/bbs-3.21-bioc/R/include" -DNDEBUG -Dlibcaf_core_shared_EXPORTS -I../src -I../src -I'/home/biocbuild/bbs-3.21-bioc/R/site-library/Rcpp/include' -I/usr/local/include    -fpic  -g -O2  -c ViennaRNA/constraints/SHAPE.c -o ViennaRNA/constraints/SHAPE.o
ViennaRNA/constraints/SHAPE.c: In function ‘vrna_constraints_add_SHAPE’:
ViennaRNA/constraints/SHAPE.c:202:10: warning: assignment discards ‘const’ qualifier from pointer target type [-Wdiscarded-qualifiers]
  202 |   method = shape_method;
      |          ^
ViennaRNA/constraints/SHAPE.c:206:51: warning: comparison between pointer and integer
  206 |   vrna_file_SHAPE_read(shape_file, length, method == 'W' ? 0 : -1, sequence, values);
      |                                                   ^~
ViennaRNA/constraints/SHAPE.c:208:14: warning: comparison between pointer and integer
  208 |   if (method == 'D') {
      |              ^~
ViennaRNA/constraints/SHAPE.c:210:21: warning: comparison between pointer and integer
  210 |   } else if (method == 'Z') {
      |                     ^~
gcc -I"/home/biocbuild/bbs-3.21-bioc/R/include" -DNDEBUG -Dlibcaf_core_shared_EXPORTS -I../src -I../src -I'/home/biocbuild/bbs-3.21-bioc/R/site-library/Rcpp/include' -I/usr/local/include    -fpic  -g -O2  -c ViennaRNA/constraints/constraints.c -o ViennaRNA/constraints/constraints.o
gcc -I"/home/biocbuild/bbs-3.21-bioc/R/include" -DNDEBUG -Dlibcaf_core_shared_EXPORTS -I../src -I../src -I'/home/biocbuild/bbs-3.21-bioc/R/site-library/Rcpp/include' -I/usr/local/include    -fpic  -g -O2  -c ViennaRNA/constraints/soft.c -o ViennaRNA/constraints/soft.o
gcc -I"/home/biocbuild/bbs-3.21-bioc/R/include" -DNDEBUG -Dlibcaf_core_shared_EXPORTS -I../src -I../src -I'/home/biocbuild/bbs-3.21-bioc/R/site-library/Rcpp/include' -I/usr/local/include    -fpic  -g -O2  -c ViennaRNA/constraints/hard.c -o ViennaRNA/constraints/hard.o
gcc -I"/home/biocbuild/bbs-3.21-bioc/R/include" -DNDEBUG -Dlibcaf_core_shared_EXPORTS -I../src -I../src -I'/home/biocbuild/bbs-3.21-bioc/R/site-library/Rcpp/include' -I/usr/local/include    -fpic  -g -O2  -c ViennaRNA/constraints/ligand.c -o ViennaRNA/constraints/ligand.o
gcc -I"/home/biocbuild/bbs-3.21-bioc/R/include" -DNDEBUG -Dlibcaf_core_shared_EXPORTS -I../src -I../src -I'/home/biocbuild/bbs-3.21-bioc/R/site-library/Rcpp/include' -I/usr/local/include    -fpic  -g -O2  -c ViennaRNA/datastructures/basic_datastructures.c -o ViennaRNA/datastructures/basic_datastructures.o
gcc -I"/home/biocbuild/bbs-3.21-bioc/R/include" -DNDEBUG -Dlibcaf_core_shared_EXPORTS -I../src -I../src -I'/home/biocbuild/bbs-3.21-bioc/R/site-library/Rcpp/include' -I/usr/local/include    -fpic  -g -O2  -c ViennaRNA/datastructures/lists.c -o ViennaRNA/datastructures/lists.o
gcc -I"/home/biocbuild/bbs-3.21-bioc/R/include" -DNDEBUG -Dlibcaf_core_shared_EXPORTS -I../src -I../src -I'/home/biocbuild/bbs-3.21-bioc/R/site-library/Rcpp/include' -I/usr/local/include    -fpic  -g -O2  -c ViennaRNA/datastructures/char_stream.c -o ViennaRNA/datastructures/char_stream.o
gcc -I"/home/biocbuild/bbs-3.21-bioc/R/include" -DNDEBUG -Dlibcaf_core_shared_EXPORTS -I../src -I../src -I'/home/biocbuild/bbs-3.21-bioc/R/site-library/Rcpp/include' -I/usr/local/include    -fpic  -g -O2  -c ViennaRNA/datastructures/heap.c -o ViennaRNA/datastructures/heap.o
gcc -I"/home/biocbuild/bbs-3.21-bioc/R/include" -DNDEBUG -Dlibcaf_core_shared_EXPORTS -I../src -I../src -I'/home/biocbuild/bbs-3.21-bioc/R/site-library/Rcpp/include' -I/usr/local/include    -fpic  -g -O2  -c ViennaRNA/datastructures/stream_output.c -o ViennaRNA/datastructures/stream_output.o
gcc -I"/home/biocbuild/bbs-3.21-bioc/R/include" -DNDEBUG -Dlibcaf_core_shared_EXPORTS -I../src -I../src -I'/home/biocbuild/bbs-3.21-bioc/R/site-library/Rcpp/include' -I/usr/local/include    -fpic  -g -O2  -c ViennaRNA/io/file_formats.c -o ViennaRNA/io/file_formats.o
gcc -I"/home/biocbuild/bbs-3.21-bioc/R/include" -DNDEBUG -Dlibcaf_core_shared_EXPORTS -I../src -I../src -I'/home/biocbuild/bbs-3.21-bioc/R/site-library/Rcpp/include' -I/usr/local/include    -fpic  -g -O2  -c ViennaRNA/landscape/findpath.c -o ViennaRNA/landscape/findpath.o
gcc -I"/home/biocbuild/bbs-3.21-bioc/R/include" -DNDEBUG -Dlibcaf_core_shared_EXPORTS -I../src -I../src -I'/home/biocbuild/bbs-3.21-bioc/R/site-library/Rcpp/include' -I/usr/local/include    -fpic  -g -O2  -c ViennaRNA/landscape/move.c -o ViennaRNA/landscape/move.o
gcc -I"/home/biocbuild/bbs-3.21-bioc/R/include" -DNDEBUG -Dlibcaf_core_shared_EXPORTS -I../src -I../src -I'/home/biocbuild/bbs-3.21-bioc/R/site-library/Rcpp/include' -I/usr/local/include    -fpic  -g -O2  -c ViennaRNA/landscape/neighbor.c -o ViennaRNA/landscape/neighbor.o
gcc -I"/home/biocbuild/bbs-3.21-bioc/R/include" -DNDEBUG -Dlibcaf_core_shared_EXPORTS -I../src -I../src -I'/home/biocbuild/bbs-3.21-bioc/R/site-library/Rcpp/include' -I/usr/local/include    -fpic  -g -O2  -c ViennaRNA/io/io_utils.c -o ViennaRNA/io/io_utils.o
gcc -I"/home/biocbuild/bbs-3.21-bioc/R/include" -DNDEBUG -Dlibcaf_core_shared_EXPORTS -I../src -I../src -I'/home/biocbuild/bbs-3.21-bioc/R/site-library/Rcpp/include' -I/usr/local/include    -fpic  -g -O2  -c ViennaRNA/loops/external.c -o ViennaRNA/loops/external.o
gcc -I"/home/biocbuild/bbs-3.21-bioc/R/include" -DNDEBUG -Dlibcaf_core_shared_EXPORTS -I../src -I../src -I'/home/biocbuild/bbs-3.21-bioc/R/site-library/Rcpp/include' -I/usr/local/include    -fpic  -g -O2  -c ViennaRNA/loops/internal.c -o ViennaRNA/loops/internal.o
gcc -I"/home/biocbuild/bbs-3.21-bioc/R/include" -DNDEBUG -Dlibcaf_core_shared_EXPORTS -I../src -I../src -I'/home/biocbuild/bbs-3.21-bioc/R/site-library/Rcpp/include' -I/usr/local/include    -fpic  -g -O2  -c ViennaRNA/loops/external_bt.c -o ViennaRNA/loops/external_bt.o
gcc -I"/home/biocbuild/bbs-3.21-bioc/R/include" -DNDEBUG -Dlibcaf_core_shared_EXPORTS -I../src -I../src -I'/home/biocbuild/bbs-3.21-bioc/R/site-library/Rcpp/include' -I/usr/local/include    -fpic  -g -O2  -c ViennaRNA/loops/hairpin_pf.c -o ViennaRNA/loops/hairpin_pf.o
gcc -I"/home/biocbuild/bbs-3.21-bioc/R/include" -DNDEBUG -Dlibcaf_core_shared_EXPORTS -I../src -I../src -I'/home/biocbuild/bbs-3.21-bioc/R/site-library/Rcpp/include' -I/usr/local/include    -fpic  -g -O2  -c ViennaRNA/loops/internal_bt.c -o ViennaRNA/loops/internal_bt.o
gcc -I"/home/biocbuild/bbs-3.21-bioc/R/include" -DNDEBUG -Dlibcaf_core_shared_EXPORTS -I../src -I../src -I'/home/biocbuild/bbs-3.21-bioc/R/site-library/Rcpp/include' -I/usr/local/include    -fpic  -g -O2  -c ViennaRNA/loops/multibranch_pf.c -o ViennaRNA/loops/multibranch_pf.o
gcc -I"/home/biocbuild/bbs-3.21-bioc/R/include" -DNDEBUG -Dlibcaf_core_shared_EXPORTS -I../src -I../src -I'/home/biocbuild/bbs-3.21-bioc/R/site-library/Rcpp/include' -I/usr/local/include    -fpic  -g -O2  -c ViennaRNA/loops/hairpin.c -o ViennaRNA/loops/hairpin.o
gcc -I"/home/biocbuild/bbs-3.21-bioc/R/include" -DNDEBUG -Dlibcaf_core_shared_EXPORTS -I../src -I../src -I'/home/biocbuild/bbs-3.21-bioc/R/site-library/Rcpp/include' -I/usr/local/include    -fpic  -g -O2  -c ViennaRNA/loops/multibranch.c -o ViennaRNA/loops/multibranch.o
gcc -I"/home/biocbuild/bbs-3.21-bioc/R/include" -DNDEBUG -Dlibcaf_core_shared_EXPORTS -I../src -I../src -I'/home/biocbuild/bbs-3.21-bioc/R/site-library/Rcpp/include' -I/usr/local/include    -fpic  -g -O2  -c ViennaRNA/loops/external_pf.c -o ViennaRNA/loops/external_pf.o
gcc -I"/home/biocbuild/bbs-3.21-bioc/R/include" -DNDEBUG -Dlibcaf_core_shared_EXPORTS -I../src -I../src -I'/home/biocbuild/bbs-3.21-bioc/R/site-library/Rcpp/include' -I/usr/local/include    -fpic  -g -O2  -c ViennaRNA/loops/hairpin_bt.c -o ViennaRNA/loops/hairpin_bt.o
gcc -I"/home/biocbuild/bbs-3.21-bioc/R/include" -DNDEBUG -Dlibcaf_core_shared_EXPORTS -I../src -I../src -I'/home/biocbuild/bbs-3.21-bioc/R/site-library/Rcpp/include' -I/usr/local/include    -fpic  -g -O2  -c ViennaRNA/loops/internal_pf.c -o ViennaRNA/loops/internal_pf.o
gcc -I"/home/biocbuild/bbs-3.21-bioc/R/include" -DNDEBUG -Dlibcaf_core_shared_EXPORTS -I../src -I../src -I'/home/biocbuild/bbs-3.21-bioc/R/site-library/Rcpp/include' -I/usr/local/include    -fpic  -g -O2  -c ViennaRNA/loops/multibranch_bt.c -o ViennaRNA/loops/multibranch_bt.o
gcc -I"/home/biocbuild/bbs-3.21-bioc/R/include" -DNDEBUG -Dlibcaf_core_shared_EXPORTS -I../src -I../src -I'/home/biocbuild/bbs-3.21-bioc/R/site-library/Rcpp/include' -I/usr/local/include    -fpic  -g -O2  -c ViennaRNA/params/default.c -o ViennaRNA/params/default.o
gcc -I"/home/biocbuild/bbs-3.21-bioc/R/include" -DNDEBUG -Dlibcaf_core_shared_EXPORTS -I../src -I../src -I'/home/biocbuild/bbs-3.21-bioc/R/site-library/Rcpp/include' -I/usr/local/include    -fpic  -g -O2  -c ViennaRNA/params/io.c -o ViennaRNA/params/io.o
gcc -I"/home/biocbuild/bbs-3.21-bioc/R/include" -DNDEBUG -Dlibcaf_core_shared_EXPORTS -I../src -I../src -I'/home/biocbuild/bbs-3.21-bioc/R/site-library/Rcpp/include' -I/usr/local/include    -fpic  -g -O2  -c ViennaRNA/params/params.c -o ViennaRNA/params/params.o
gcc -I"/home/biocbuild/bbs-3.21-bioc/R/include" -DNDEBUG -Dlibcaf_core_shared_EXPORTS -I../src -I../src -I'/home/biocbuild/bbs-3.21-bioc/R/site-library/Rcpp/include' -I/usr/local/include    -fpic  -g -O2  -c ViennaRNA/search/BoyerMoore.c -o ViennaRNA/search/BoyerMoore.o
gcc -I"/home/biocbuild/bbs-3.21-bioc/R/include" -DNDEBUG -Dlibcaf_core_shared_EXPORTS -I../src -I../src -I'/home/biocbuild/bbs-3.21-bioc/R/site-library/Rcpp/include' -I/usr/local/include    -fpic  -g -O2  -c ViennaRNA/2Dfold.c -o ViennaRNA/2Dfold.o
gcc -I"/home/biocbuild/bbs-3.21-bioc/R/include" -DNDEBUG -Dlibcaf_core_shared_EXPORTS -I../src -I../src -I'/home/biocbuild/bbs-3.21-bioc/R/site-library/Rcpp/include' -I/usr/local/include    -fpic  -g -O2  -c ViennaRNA/concentrations.c -o ViennaRNA/concentrations.o
gcc -I"/home/biocbuild/bbs-3.21-bioc/R/include" -DNDEBUG -Dlibcaf_core_shared_EXPORTS -I../src -I../src -I'/home/biocbuild/bbs-3.21-bioc/R/site-library/Rcpp/include' -I/usr/local/include    -fpic  -g -O2  -c ViennaRNA/gquad.c -o ViennaRNA/gquad.o
gcc -I"/home/biocbuild/bbs-3.21-bioc/R/include" -DNDEBUG -Dlibcaf_core_shared_EXPORTS -I../src -I../src -I'/home/biocbuild/bbs-3.21-bioc/R/site-library/Rcpp/include' -I/usr/local/include    -fpic  -g -O2  -c ViennaRNA/part_func.c -o ViennaRNA/part_func.o
gcc -I"/home/biocbuild/bbs-3.21-bioc/R/include" -DNDEBUG -Dlibcaf_core_shared_EXPORTS -I../src -I../src -I'/home/biocbuild/bbs-3.21-bioc/R/site-library/Rcpp/include' -I/usr/local/include    -fpic  -g -O2  -c ViennaRNA/snofold.c -o ViennaRNA/snofold.o
gcc -I"/home/biocbuild/bbs-3.21-bioc/R/include" -DNDEBUG -Dlibcaf_core_shared_EXPORTS -I../src -I../src -I'/home/biocbuild/bbs-3.21-bioc/R/site-library/Rcpp/include' -I/usr/local/include    -fpic  -g -O2  -c ViennaRNA/2Dpfold.c -o ViennaRNA/2Dpfold.o
gcc -I"/home/biocbuild/bbs-3.21-bioc/R/include" -DNDEBUG -Dlibcaf_core_shared_EXPORTS -I../src -I../src -I'/home/biocbuild/bbs-3.21-bioc/R/site-library/Rcpp/include' -I/usr/local/include    -fpic  -g -O2  -c ViennaRNA/alphabet.c -o ViennaRNA/alphabet.o
gcc -I"/home/biocbuild/bbs-3.21-bioc/R/include" -DNDEBUG -Dlibcaf_core_shared_EXPORTS -I../src -I../src -I'/home/biocbuild/bbs-3.21-bioc/R/site-library/Rcpp/include' -I/usr/local/include    -fpic  -g -O2  -c ViennaRNA/grammar.c -o ViennaRNA/grammar.o
gcc -I"/home/biocbuild/bbs-3.21-bioc/R/include" -DNDEBUG -Dlibcaf_core_shared_EXPORTS -I../src -I../src -I'/home/biocbuild/bbs-3.21-bioc/R/site-library/Rcpp/include' -I/usr/local/include    -fpic  -g -O2  -c ViennaRNA/boltzmann_sampling.c -o ViennaRNA/boltzmann_sampling.o
gcc -I"/home/biocbuild/bbs-3.21-bioc/R/include" -DNDEBUG -Dlibcaf_core_shared_EXPORTS -I../src -I../src -I'/home/biocbuild/bbs-3.21-bioc/R/site-library/Rcpp/include' -I/usr/local/include    -fpic  -g -O2  -c ViennaRNA/dist_vars.c -o ViennaRNA/dist_vars.o
gcc -I"/home/biocbuild/bbs-3.21-bioc/R/include" -DNDEBUG -Dlibcaf_core_shared_EXPORTS -I../src -I../src -I'/home/biocbuild/bbs-3.21-bioc/R/site-library/Rcpp/include' -I/usr/local/include    -fpic  -g -O2  -c ViennaRNA/part_func_up.c -o ViennaRNA/part_func_up.o
gcc -I"/home/biocbuild/bbs-3.21-bioc/R/include" -DNDEBUG -Dlibcaf_core_shared_EXPORTS -I../src -I../src -I'/home/biocbuild/bbs-3.21-bioc/R/site-library/Rcpp/include' -I/usr/local/include    -fpic  -g -O2  -c ViennaRNA/special_const.c -o ViennaRNA/special_const.o
gcc -I"/home/biocbuild/bbs-3.21-bioc/R/include" -DNDEBUG -Dlibcaf_core_shared_EXPORTS -I../src -I../src -I'/home/biocbuild/bbs-3.21-bioc/R/site-library/Rcpp/include' -I/usr/local/include    -fpic  -g -O2  -c ViennaRNA/Lfold.c -o ViennaRNA/Lfold.o
gcc -I"/home/biocbuild/bbs-3.21-bioc/R/include" -DNDEBUG -Dlibcaf_core_shared_EXPORTS -I../src -I../src -I'/home/biocbuild/bbs-3.21-bioc/R/site-library/Rcpp/include' -I/usr/local/include    -fpic  -g -O2  -c ViennaRNA/bs_wrappers.c -o ViennaRNA/bs_wrappers.o
gcc -I"/home/biocbuild/bbs-3.21-bioc/R/include" -DNDEBUG -Dlibcaf_core_shared_EXPORTS -I../src -I../src -I'/home/biocbuild/bbs-3.21-bioc/R/site-library/Rcpp/include' -I/usr/local/include    -fpic  -g -O2  -c ViennaRNA/dp_matrices.c -o ViennaRNA/dp_matrices.o
gcc -I"/home/biocbuild/bbs-3.21-bioc/R/include" -DNDEBUG -Dlibcaf_core_shared_EXPORTS -I../src -I../src -I'/home/biocbuild/bbs-3.21-bioc/R/site-library/Rcpp/include' -I/usr/local/include    -fpic  -g -O2  -c ViennaRNA/mfe.c -o ViennaRNA/mfe.o
gcc -I"/home/biocbuild/bbs-3.21-bioc/R/include" -DNDEBUG -Dlibcaf_core_shared_EXPORTS -I../src -I../src -I'/home/biocbuild/bbs-3.21-bioc/R/site-library/Rcpp/include' -I/usr/local/include    -fpic  -g -O2  -c ViennaRNA/MEA.c -o ViennaRNA/MEA.o
gcc -I"/home/biocbuild/bbs-3.21-bioc/R/include" -DNDEBUG -Dlibcaf_core_shared_EXPORTS -I../src -I../src -I'/home/biocbuild/bbs-3.21-bioc/R/site-library/Rcpp/include' -I/usr/local/include    -fpic  -g -O2  -c ViennaRNA/c_plex.c -o ViennaRNA/c_plex.o
gcc -I"/home/biocbuild/bbs-3.21-bioc/R/include" -DNDEBUG -Dlibcaf_core_shared_EXPORTS -I../src -I../src -I'/home/biocbuild/bbs-3.21-bioc/R/site-library/Rcpp/include' -I/usr/local/include    -fpic  -g -O2  -c ViennaRNA/duplex.c -o ViennaRNA/duplex.o
gcc -I"/home/biocbuild/bbs-3.21-bioc/R/include" -DNDEBUG -Dlibcaf_core_shared_EXPORTS -I../src -I../src -I'/home/biocbuild/bbs-3.21-bioc/R/site-library/Rcpp/include' -I/usr/local/include    -fpic  -g -O2  -c ViennaRNA/mfe_window.c -o ViennaRNA/mfe_window.o
gcc -I"/home/biocbuild/bbs-3.21-bioc/R/include" -DNDEBUG -Dlibcaf_core_shared_EXPORTS -I../src -I../src -I'/home/biocbuild/bbs-3.21-bioc/R/site-library/Rcpp/include' -I/usr/local/include    -fpic  -g -O2  -c ViennaRNA/perturbation_fold.c -o ViennaRNA/perturbation_fold.o
gcc -I"/home/biocbuild/bbs-3.21-bioc/R/include" -DNDEBUG -Dlibcaf_core_shared_EXPORTS -I../src -I../src -I'/home/biocbuild/bbs-3.21-bioc/R/site-library/Rcpp/include' -I/usr/local/include    -fpic  -g -O2  -c ViennaRNA/subopt.c -o ViennaRNA/subopt.o
gcc -I"/home/biocbuild/bbs-3.21-bioc/R/include" -DNDEBUG -Dlibcaf_core_shared_EXPORTS -I../src -I../src -I'/home/biocbuild/bbs-3.21-bioc/R/site-library/Rcpp/include' -I/usr/local/include    -fpic  -g -O2  -c ViennaRNA/ProfileAln.c -o ViennaRNA/ProfileAln.o
gcc -I"/home/biocbuild/bbs-3.21-bioc/R/include" -DNDEBUG -Dlibcaf_core_shared_EXPORTS -I../src -I../src -I'/home/biocbuild/bbs-3.21-bioc/R/site-library/Rcpp/include' -I/usr/local/include    -fpic  -g -O2  -c ViennaRNA/centroid.c -o ViennaRNA/centroid.o
gcc -I"/home/biocbuild/bbs-3.21-bioc/R/include" -DNDEBUG -Dlibcaf_core_shared_EXPORTS -I../src -I../src -I'/home/biocbuild/bbs-3.21-bioc/R/site-library/Rcpp/include' -I/usr/local/include    -fpic  -g -O2  -c ViennaRNA/equilibrium_probs.c -o ViennaRNA/equilibrium_probs.o
gcc -I"/home/biocbuild/bbs-3.21-bioc/R/include" -DNDEBUG -Dlibcaf_core_shared_EXPORTS -I../src -I../src -I'/home/biocbuild/bbs-3.21-bioc/R/site-library/Rcpp/include' -I/usr/local/include    -fpic  -g -O2  -c ViennaRNA/mfe_window_wrappers.c -o ViennaRNA/mfe_window_wrappers.o
gcc -I"/home/biocbuild/bbs-3.21-bioc/R/include" -DNDEBUG -Dlibcaf_core_shared_EXPORTS -I../src -I../src -I'/home/biocbuild/bbs-3.21-bioc/R/site-library/Rcpp/include' -I/usr/local/include    -fpic  -g -O2  -c ViennaRNA/pf_fold.c -o ViennaRNA/pf_fold.o
gcc -I"/home/biocbuild/bbs-3.21-bioc/R/include" -DNDEBUG -Dlibcaf_core_shared_EXPORTS -I../src -I../src -I'/home/biocbuild/bbs-3.21-bioc/R/site-library/Rcpp/include' -I/usr/local/include    -fpic  -g -O2  -c ViennaRNA/cofold.c -o ViennaRNA/cofold.o
gcc -I"/home/biocbuild/bbs-3.21-bioc/R/include" -DNDEBUG -Dlibcaf_core_shared_EXPORTS -I../src -I../src -I'/home/biocbuild/bbs-3.21-bioc/R/site-library/Rcpp/include' -I/usr/local/include    -fpic  -g -O2  -c ViennaRNA/eval.c -o ViennaRNA/eval.o
gcc -I"/home/biocbuild/bbs-3.21-bioc/R/include" -DNDEBUG -Dlibcaf_core_shared_EXPORTS -I../src -I../src -I'/home/biocbuild/bbs-3.21-bioc/R/site-library/Rcpp/include' -I/usr/local/include    -fpic  -g -O2  -c ViennaRNA/mfe_wrappers.c -o ViennaRNA/mfe_wrappers.o
gcc -I"/home/biocbuild/bbs-3.21-bioc/R/include" -DNDEBUG -Dlibcaf_core_shared_EXPORTS -I../src -I../src -I'/home/biocbuild/bbs-3.21-bioc/R/site-library/Rcpp/include' -I/usr/local/include    -fpic  -g -O2  -c ViennaRNA/plex.c -o ViennaRNA/plex.o
gcc -I"/home/biocbuild/bbs-3.21-bioc/R/include" -DNDEBUG -Dlibcaf_core_shared_EXPORTS -I../src -I../src -I'/home/biocbuild/bbs-3.21-bioc/R/site-library/Rcpp/include' -I/usr/local/include    -fpic  -g -O2  -c ViennaRNA/RNAstruct.c -o ViennaRNA/RNAstruct.o
gcc -I"/home/biocbuild/bbs-3.21-bioc/R/include" -DNDEBUG -Dlibcaf_core_shared_EXPORTS -I../src -I../src -I'/home/biocbuild/bbs-3.21-bioc/R/site-library/Rcpp/include' -I/usr/local/include    -fpic  -g -O2  -c ViennaRNA/eval_wrappers.c -o ViennaRNA/eval_wrappers.o
gcc -I"/home/biocbuild/bbs-3.21-bioc/R/include" -DNDEBUG -Dlibcaf_core_shared_EXPORTS -I../src -I../src -I'/home/biocbuild/bbs-3.21-bioc/R/site-library/Rcpp/include' -I/usr/local/include    -fpic  -g -O2  -c ViennaRNA/mm.c -o ViennaRNA/mm.o
gcc -I"/home/biocbuild/bbs-3.21-bioc/R/include" -DNDEBUG -Dlibcaf_core_shared_EXPORTS -I../src -I../src -I'/home/biocbuild/bbs-3.21-bioc/R/site-library/Rcpp/include' -I/usr/local/include    -fpic  -g -O2  -c ViennaRNA/plex_functions.c -o ViennaRNA/plex_functions.o
gcc -I"/home/biocbuild/bbs-3.21-bioc/R/include" -DNDEBUG -Dlibcaf_core_shared_EXPORTS -I../src -I../src -I'/home/biocbuild/bbs-3.21-bioc/R/site-library/Rcpp/include' -I/usr/local/include    -fpic  -g -O2  -c ViennaRNA/units.c -o ViennaRNA/units.o
gcc -I"/home/biocbuild/bbs-3.21-bioc/R/include" -DNDEBUG -Dlibcaf_core_shared_EXPORTS -I../src -I../src -I'/home/biocbuild/bbs-3.21-bioc/R/site-library/Rcpp/include' -I/usr/local/include    -fpic  -g -O2  -c ViennaRNA/ali_plex.c -o ViennaRNA/ali_plex.o
gcc -I"/home/biocbuild/bbs-3.21-bioc/R/include" -DNDEBUG -Dlibcaf_core_shared_EXPORTS -I../src -I../src -I'/home/biocbuild/bbs-3.21-bioc/R/site-library/Rcpp/include' -I/usr/local/include    -fpic  -g -O2  -c ViennaRNA/combinatorics.c -o ViennaRNA/combinatorics.o
gcc -I"/home/biocbuild/bbs-3.21-bioc/R/include" -DNDEBUG -Dlibcaf_core_shared_EXPORTS -I../src -I../src -I'/home/biocbuild/bbs-3.21-bioc/R/site-library/Rcpp/include' -I/usr/local/include    -fpic  -g -O2  -c ViennaRNA/fold.c -o ViennaRNA/fold.o
gcc -I"/home/biocbuild/bbs-3.21-bioc/R/include" -DNDEBUG -Dlibcaf_core_shared_EXPORTS -I../src -I../src -I'/home/biocbuild/bbs-3.21-bioc/R/site-library/Rcpp/include' -I/usr/local/include    -fpic  -g -O2  -c ViennaRNA/model.c -o ViennaRNA/model.o
gcc -I"/home/biocbuild/bbs-3.21-bioc/R/include" -DNDEBUG -Dlibcaf_core_shared_EXPORTS -I../src -I../src -I'/home/biocbuild/bbs-3.21-bioc/R/site-library/Rcpp/include' -I/usr/local/include    -fpic  -g -O2  -c ViennaRNA/ribo.c -o ViennaRNA/ribo.o
gcc -I"/home/biocbuild/bbs-3.21-bioc/R/include" -DNDEBUG -Dlibcaf_core_shared_EXPORTS -I../src -I../src -I'/home/biocbuild/bbs-3.21-bioc/R/site-library/Rcpp/include' -I/usr/local/include    -fpic  -g -O2  -c ViennaRNA/commands.c -o ViennaRNA/commands.o
gcc -I"/home/biocbuild/bbs-3.21-bioc/R/include" -DNDEBUG -Dlibcaf_core_shared_EXPORTS -I../src -I../src -I'/home/biocbuild/bbs-3.21-bioc/R/site-library/Rcpp/include' -I/usr/local/include    -fpic  -g -O2  -c ViennaRNA/fold_compound.c -o ViennaRNA/fold_compound.o
gcc -I"/home/biocbuild/bbs-3.21-bioc/R/include" -DNDEBUG -Dlibcaf_core_shared_EXPORTS -I../src -I../src -I'/home/biocbuild/bbs-3.21-bioc/R/site-library/Rcpp/include' -I/usr/local/include    -fpic  -g -O2  -c ViennaRNA/sequence.c -o ViennaRNA/sequence.o
gcc -I"/home/biocbuild/bbs-3.21-bioc/R/include" -DNDEBUG -Dlibcaf_core_shared_EXPORTS -I../src -I../src -I'/home/biocbuild/bbs-3.21-bioc/R/site-library/Rcpp/include' -I/usr/local/include    -fpic  -g -O2  -c ViennaRNA/unstructured_domains.c -o ViennaRNA/unstructured_domains.o
g++ -std=gnu++11 -I"/home/biocbuild/bbs-3.21-bioc/R/include" -DNDEBUG -Dlibcaf_core_shared_EXPORTS -I../src -I../src -I'/home/biocbuild/bbs-3.21-bioc/R/site-library/Rcpp/include' -I/usr/local/include    -fpic  -g -O2  -DR_NO_REMAP -c predict_mfe.cpp -o predict_mfe.o
g++ -std=gnu++11 -I"/home/biocbuild/bbs-3.21-bioc/R/include" -DNDEBUG -Dlibcaf_core_shared_EXPORTS -I../src -I../src -I'/home/biocbuild/bbs-3.21-bioc/R/site-library/Rcpp/include' -I/usr/local/include    -fpic  -g -O2  -DR_NO_REMAP -c RcppExports.cpp -o RcppExports.o
g++ -std=gnu++11 -shared -L/home/biocbuild/bbs-3.21-bioc/R/lib -L/usr/local/lib -o XNAString.so ./ViennaRNA/utils/cpu.o ./ViennaRNA/utils/msa_utils.o ./ViennaRNA/utils/structure_tree.o ./ViennaRNA/utils/higher_order_functions.o ./ViennaRNA/utils/string_utils.o ./ViennaRNA/utils/structure_utils.o ./ViennaRNA/utils/utils.o ./ViennaRNA/constraints/SHAPE.o ./ViennaRNA/constraints/constraints.o ./ViennaRNA/constraints/soft.o ./ViennaRNA/constraints/hard.o ./ViennaRNA/constraints/ligand.o ./ViennaRNA/datastructures/basic_datastructures.o ./ViennaRNA/datastructures/lists.o ./ViennaRNA/datastructures/char_stream.o ./ViennaRNA/datastructures/heap.o ./ViennaRNA/datastructures/stream_output.o ./ViennaRNA/io/file_formats.o ./ViennaRNA/landscape/findpath.o ./ViennaRNA/landscape/move.o ./ViennaRNA/landscape/neighbor.o ./ViennaRNA/io/io_utils.o ./ViennaRNA/loops/external.o ./ViennaRNA/loops/internal.o ./ViennaRNA/loops/external_bt.o ./ViennaRNA/loops/hairpin_pf.o ./ViennaRNA/loops/internal_bt.o ./ViennaRNA/loops/multibranch_pf.o ./ViennaRNA/loops/hairpin.o ./ViennaRNA/loops/multibranch.o ./ViennaRNA/loops/external_pf.o ./ViennaRNA/loops/hairpin_bt.o ./ViennaRNA/loops/internal_pf.o ./ViennaRNA/loops/multibranch_bt.o ./ViennaRNA/params/default.o ./ViennaRNA/params/io.o ./ViennaRNA/params/params.o ./ViennaRNA/search/BoyerMoore.o ./ViennaRNA/2Dfold.o ./ViennaRNA/concentrations.o ./ViennaRNA/gquad.o ./ViennaRNA/part_func.o ./ViennaRNA/snofold.o ./ViennaRNA/2Dpfold.o ./ViennaRNA/alphabet.o ./ViennaRNA/grammar.o ./ViennaRNA/boltzmann_sampling.o ./ViennaRNA/dist_vars.o ./ViennaRNA/part_func_up.o ./ViennaRNA/special_const.o ./ViennaRNA/Lfold.o ./ViennaRNA/bs_wrappers.o ./ViennaRNA/dp_matrices.o ./ViennaRNA/mfe.o ./ViennaRNA/MEA.o ./ViennaRNA/c_plex.o ./ViennaRNA/duplex.o ./ViennaRNA/mfe_window.o ./ViennaRNA/perturbation_fold.o ./ViennaRNA/subopt.o ./ViennaRNA/ProfileAln.o ./ViennaRNA/centroid.o ./ViennaRNA/equilibrium_probs.o ./ViennaRNA/mfe_window_wrappers.o ./ViennaRNA/pf_fold.o ./ViennaRNA/cofold.o ./ViennaRNA/eval.o ./ViennaRNA/mfe_wrappers.o ./ViennaRNA/plex.o ./ViennaRNA/RNAstruct.o ./ViennaRNA/eval_wrappers.o ./ViennaRNA/mm.o ./ViennaRNA/plex_functions.o ./ViennaRNA/units.o ./ViennaRNA/ali_plex.o ./ViennaRNA/combinatorics.o ./ViennaRNA/fold.o ./ViennaRNA/model.o ./ViennaRNA/ribo.o ./ViennaRNA/commands.o ./ViennaRNA/fold_compound.o ./ViennaRNA/sequence.o ./ViennaRNA/unstructured_domains.o predict_mfe.o RcppExports.o -L../src -L/home/biocbuild/bbs-3.21-bioc/R/lib -lR
installing to /home/biocbuild/bbs-3.21-bioc/R/site-library/00LOCK-XNAString/00new/XNAString/libs
** R
** data
*** moving datasets to lazyload DB
** byte-compile and prepare package for lazy loading
in method for ‘name’ with signature ‘"XNAString"’: no definition for class “XNAString”
in method for ‘name<-’ with signature ‘"XNAString"’: no definition for class “XNAString”
in method for ‘base’ with signature ‘"XNAString"’: no definition for class “XNAString”
in method for ‘base<-’ with signature ‘"XNAString"’: no definition for class “XNAString”
in method for ‘sugar’ with signature ‘"XNAString"’: no definition for class “XNAString”
in method for ‘sugar<-’ with signature ‘"XNAString"’: no definition for class “XNAString”
in method for ‘backbone’ with signature ‘"XNAString"’: no definition for class “XNAString”
in method for ‘backbone<-’ with signature ‘"XNAString"’: no definition for class “XNAString”
in method for ‘target’ with signature ‘"XNAString"’: no definition for class “XNAString”
in method for ‘target<-’ with signature ‘"XNAString"’: no definition for class “XNAString”
in method for ‘conjugate5’ with signature ‘"XNAString"’: no definition for class “XNAString”
in method for ‘conjugate5<-’ with signature ‘"XNAString"’: no definition for class “XNAString”
in method for ‘conjugate3’ with signature ‘"XNAString"’: no definition for class “XNAString”
in method for ‘conjugate3<-’ with signature ‘"XNAString"’: no definition for class “XNAString”
in method for ‘dictionary’ with signature ‘"XNAString"’: no definition for class “XNAString”
in method for ‘dictionary<-’ with signature ‘"XNAString"’: no definition for class “XNAString”
in method for ‘secondary_structure’ with signature ‘"XNAString"’: no definition for class “XNAString”
in method for ‘secondary_structure<-’ with signature ‘"XNAString"’: no definition for class “XNAString”
in method for ‘compl_dictionary’ with signature ‘"XNAString"’: no definition for class “XNAString”
in method for ‘compl_dictionary<-’ with signature ‘"XNAString"’: no definition for class “XNAString”
in method for ‘duplex_structure’ with signature ‘"XNAString"’: no definition for class “XNAString”
in method for ‘duplex_structure<-’ with signature ‘"XNAString"’: no definition for class “XNAString”
in method for ‘default_sugar’ with signature ‘"XNAString"’: no definition for class “XNAString”
in method for ‘default_sugar<-’ with signature ‘"XNAString"’: no definition for class “XNAString”
in method for ‘default_backbone’ with signature ‘"XNAString"’: no definition for class “XNAString”
in method for ‘default_backbone<-’ with signature ‘"XNAString"’: no definition for class “XNAString”
Creating a new generic function for ‘objects’ in package ‘XNAString’
** help
*** installing help indices
** building package indices
** installing vignettes
** testing if installed package can be loaded from temporary location
** checking absolute paths in shared objects and dynamic libraries
** testing if installed package can be loaded from final location
** testing if installed package keeps a record of temporary installation path
* DONE (XNAString)