| Back to Multiple platform build/check report for BioC 3.22: simplified long |
|
This page was generated on 2025-10-23 12:07 -0400 (Thu, 23 Oct 2025).
| Hostname | OS | Arch (*) | R version | Installed pkgs |
|---|---|---|---|---|
| nebbiolo2 | Linux (Ubuntu 24.04.3 LTS) | x86_64 | 4.5.1 Patched (2025-08-23 r88802) -- "Great Square Root" | 4894 |
| lconway | macOS 12.7.6 Monterey | x86_64 | 4.5.1 Patched (2025-09-10 r88807) -- "Great Square Root" | 4684 |
| kjohnson3 | macOS 13.7.7 Ventura | arm64 | 4.5.1 Patched (2025-09-10 r88807) -- "Great Square Root" | 4629 |
| taishan | Linux (openEuler 24.03 LTS) | aarch64 | 4.5.0 (2025-04-11) -- "How About a Twenty-Six" | 4642 |
| Click on any hostname to see more info about the system (e.g. compilers) (*) as reported by 'uname -p', except on Windows and Mac OS X | ||||
| Package 2295/2355 | Hostname | OS / Arch | INSTALL | BUILD | CHECK | BUILD BIN | ||||||||
| VanillaICE 1.71.0 (landing page) Robert Scharpf
| nebbiolo2 | Linux (Ubuntu 24.04.3 LTS) / x86_64 | OK | OK | OK | |||||||||
| lconway | macOS 12.7.6 Monterey / x86_64 | OK | OK | OK | OK | |||||||||
| kjohnson3 | macOS 13.7.7 Ventura / arm64 | OK | OK | OK | OK | |||||||||
| taishan | Linux (openEuler 24.03 LTS) / aarch64 | OK | OK | NA | ||||||||||
|
To the developers/maintainers of the VanillaICE package: - Allow up to 24 hours (and sometimes 48 hours) for your latest push to git@git.bioconductor.org:packages/VanillaICE.git to reflect on this report. See Troubleshooting Build Report for more information. - Use the following Renviron settings to reproduce errors and warnings. - If 'R CMD check' started to fail recently on the Linux builder(s) over a missing dependency, add the missing dependency to 'Suggests:' in your DESCRIPTION file. See Renviron.bioc for more information. |
| Package: VanillaICE |
| Version: 1.71.0 |
| Command: /Library/Frameworks/R.framework/Resources/bin/R CMD check --install=check:VanillaICE.install-out.txt --library=/Library/Frameworks/R.framework/Resources/library --no-vignettes --timings VanillaICE_1.71.0.tar.gz |
| StartedAt: 2025-10-22 22:37:27 -0400 (Wed, 22 Oct 2025) |
| EndedAt: 2025-10-22 22:39:12 -0400 (Wed, 22 Oct 2025) |
| EllapsedTime: 104.2 seconds |
| RetCode: 0 |
| Status: OK |
| CheckDir: VanillaICE.Rcheck |
| Warnings: 0 |
##############################################################################
##############################################################################
###
### Running command:
###
### /Library/Frameworks/R.framework/Resources/bin/R CMD check --install=check:VanillaICE.install-out.txt --library=/Library/Frameworks/R.framework/Resources/library --no-vignettes --timings VanillaICE_1.71.0.tar.gz
###
##############################################################################
##############################################################################
* using log directory ‘/Users/biocbuild/bbs-3.22-bioc/meat/VanillaICE.Rcheck’
* using R version 4.5.1 Patched (2025-09-10 r88807)
* using platform: aarch64-apple-darwin20
* R was compiled by
Apple clang version 16.0.0 (clang-1600.0.26.6)
GNU Fortran (GCC) 14.2.0
* running under: macOS Ventura 13.7.7
* using session charset: UTF-8
* using option ‘--no-vignettes’
* checking for file ‘VanillaICE/DESCRIPTION’ ... OK
* this is package ‘VanillaICE’ version ‘1.71.0’
* package encoding: UTF-8
* checking package namespace information ... OK
* checking package dependencies ... INFO
Packages which this enhances but not available for checking:
'doMPI', 'doRedis'
* checking if this is a source package ... OK
* checking if there is a namespace ... OK
* checking for hidden files and directories ... OK
* checking for portable file names ... OK
* checking for sufficient/correct file permissions ... OK
* checking whether package ‘VanillaICE’ can be installed ... OK
* used C compiler: ‘Apple clang version 15.0.0 (clang-1500.1.0.2.5)’
* used SDK: ‘MacOSX11.3.1.sdk’
* checking installed package size ... OK
* checking package directory ... OK
* checking ‘build’ directory ... OK
* checking DESCRIPTION meta-information ... OK
* checking top-level files ... OK
* checking for left-over files ... OK
* checking index information ... OK
* checking package subdirectories ... OK
* checking code files for non-ASCII characters ... OK
* checking R files for syntax errors ... OK
* checking whether the package can be loaded ... OK
* checking whether the package can be loaded with stated dependencies ... OK
* checking whether the package can be unloaded cleanly ... OK
* checking whether the namespace can be loaded with stated dependencies ... OK
* checking whether the namespace can be unloaded cleanly ... OK
* checking whether startup messages can be suppressed ... NOTE
No methods found in package ‘oligoClasses’ for request: ‘mean’ when loading ‘crlmm’
It looks like this package (or a package it requires) has a startup
message which cannot be suppressed: see ?packageStartupMessage.
* checking dependencies in R code ... NOTE
Namespaces in Imports field not imported from:
‘BSgenome.Hsapiens.UCSC.hg18’ ‘MatrixGenerics’
All declared Imports should be used.
* checking S3 generic/method consistency ... OK
* checking replacement functions ... OK
* checking foreign function calls ... OK
* checking R code for possible problems ... OK
* checking Rd files ... NOTE
checkRd: (-1) TransitionParam.Rd:27: Lost braces; missing escapes or markup?
27 | computed as e^{-2*d/taup}, where d is the distance between markers
| ^
* checking Rd metadata ... OK
* checking Rd cross-references ... NOTE
Found the following Rd file(s) with Rd \link{} targets missing package
anchors:
CopyNumScanParams.Rd: fread
FilterParam-class.Rd: GRanges
robust-statistics.Rd: rowMedians
Please provide package anchors for all Rd \link{} targets not in the
package itself and the base packages.
* checking for missing documentation entries ... OK
* checking for code/documentation mismatches ... OK
* checking Rd \usage sections ... OK
* checking Rd contents ... OK
* checking for unstated dependencies in examples ... OK
* checking contents of ‘data’ directory ... OK
* checking data for non-ASCII characters ... OK
* checking data for ASCII and uncompressed saves ... OK
* checking line endings in C/C++/Fortran sources/headers ... OK
* checking line endings in Makefiles ... OK
* checking compilation flags in Makevars ... OK
* checking for GNU extensions in Makefiles ... OK
* checking for portable use of $(BLAS_LIBS) and $(LAPACK_LIBS) ... OK
* checking use of PKG_*FLAGS in Makefiles ... OK
* checking include directives in Makefiles ... OK
* checking compiled code ... NOTE
Note: information on .o files is not available
* checking sizes of PDF files under ‘inst/doc’ ... OK
* checking files in ‘vignettes’ ... OK
* checking examples ... OK
* checking for unstated dependencies in ‘tests’ ... OK
* checking tests ...
Running ‘doRUnit.R’
OK
* checking for unstated dependencies in vignettes ... OK
* checking package vignettes ... OK
* checking running R code from vignettes ... SKIPPED
* checking re-building of vignette outputs ... SKIPPED
* checking PDF version of manual ... OK
* DONE
Status: 5 NOTEs
See
‘/Users/biocbuild/bbs-3.22-bioc/meat/VanillaICE.Rcheck/00check.log’
for details.
VanillaICE.Rcheck/00install.out
############################################################################## ############################################################################## ### ### Running command: ### ### /Library/Frameworks/R.framework/Resources/bin/R CMD INSTALL VanillaICE ### ############################################################################## ############################################################################## * installing to library ‘/Library/Frameworks/R.framework/Versions/4.5-arm64/Resources/library’ * installing *source* package ‘VanillaICE’ ... ** this is package ‘VanillaICE’ version ‘1.71.0’ ** using staged installation ** libs using C compiler: ‘Apple clang version 15.0.0 (clang-1500.1.0.2.5)’ using SDK: ‘MacOSX11.3.1.sdk’ clang -arch arm64 -std=gnu2x -I"/Library/Frameworks/R.framework/Resources/include" -DNDEBUG -I/opt/R/arm64/include -fPIC -falign-functions=64 -Wall -g -O2 -c rinit.c -o rinit.o clang -arch arm64 -std=gnu2x -I"/Library/Frameworks/R.framework/Resources/include" -DNDEBUG -I/opt/R/arm64/include -fPIC -falign-functions=64 -Wall -g -O2 -c viterbi.c -o viterbi.o clang -arch arm64 -std=gnu2x -dynamiclib -Wl,-headerpad_max_install_names -undefined dynamic_lookup -L/Library/Frameworks/R.framework/Resources/lib -L/opt/R/arm64/lib -o VanillaICE.so rinit.o viterbi.o -lm -F/Library/Frameworks/R.framework/.. -framework R installing to /Library/Frameworks/R.framework/Versions/4.5-arm64/Resources/library/00LOCK-VanillaICE/00new/VanillaICE/libs ** R ** data ** inst ** byte-compile and prepare package for lazy loading No methods found in package ‘oligoClasses’ for request: ‘mean’ when loading ‘crlmm’ Creating a new generic function for ‘distance’ in package ‘VanillaICE’ ** help *** installing help indices ** building package indices ** installing vignettes ** testing if installed package can be loaded from temporary location No methods found in package ‘oligoClasses’ for request: ‘mean’ when loading ‘crlmm’ ** checking absolute paths in shared objects and dynamic libraries ** testing if installed package can be loaded from final location No methods found in package ‘oligoClasses’ for request: ‘mean’ when loading ‘crlmm’ ** testing if installed package keeps a record of temporary installation path * DONE (VanillaICE)
VanillaICE.Rcheck/tests/doRUnit.Rout
R version 4.5.1 Patched (2025-09-10 r88807) -- "Great Square Root"
Copyright (C) 2025 The R Foundation for Statistical Computing
Platform: aarch64-apple-darwin20
R is free software and comes with ABSOLUTELY NO WARRANTY.
You are welcome to redistribute it under certain conditions.
Type 'license()' or 'licence()' for distribution details.
R is a collaborative project with many contributors.
Type 'contributors()' for more information and
'citation()' on how to cite R or R packages in publications.
Type 'demo()' for some demos, 'help()' for on-line help, or
'help.start()' for an HTML browser interface to help.
Type 'q()' to quit R.
> ## from xmapcore package
> if( require( "RUnit", quietly=TRUE ) ) {
+ pkg <- "VanillaICE"
+
+ if( Sys.getenv( "RCMDCHECK" ) == "FALSE" ) {
+ path <- file.path( getwd(), "..", "inst", "unitTests" )
+ } else {
+ path <- system.file( package=pkg, "unitTests" )
+ }
+
+ cat( "\nRunning unit tests\n" )
+ print( list( pkg=pkg, getwd=getwd(), pathToUnitTests=path ) )
+ library( package=pkg, character.only=TRUE )
+
+ ##xmap.clear.cache()
+
+ ##Fail on warnings
+ options( warn=2 )
+
+ ## Get the pattern (if there is one?)
+ patt <- Sys.getenv( "RUNITFILEPATTERN" )
+ if( is.null( patt ) || nchar( patt ) == 0 ) {
+ testSuite <- defineTestSuite(name=paste( pkg, "unit testing" ),
+ rngKind="Mersenne-Twister",
+ dirs=path,
+ testFileRegexp=paste( "^test.+", patt, "\\.[rR]$", sep="" ))
+ } else {
+ ##testSuite <- defineTestSuite( name=paste( pkg, "unit testing" ), testFileRegexp=paste( "^runit\\.", patt, "\\.[rR]$", sep="" ), dirs=path )
+ testSuite <- defineTestSuite(name=paste( pkg, "unit testing" ),
+ rngKind="Mersenne-Twister",
+ testFileRegexp=paste( "^test.+", patt, "\\.[rR]$", sep="" ),
+ dirs=path )
+ }
+ tests <- runTestSuite( testSuite )
+
+ pathReport <- file.path( path, "report" )
+
+ cat( "------------------- UNIT TEST SUMMARY ---------------------\n\n" )
+ printTextProtocol( tests, showDetails=FALSE )
+ printTextProtocol( tests, showDetails=FALSE, fileName=paste( pathReport, "Summary.txt", sep="" ) )
+ printTextProtocol( tests, showDetails=TRUE, fileName=paste( pathReport, ".txt", sep="" ) )
+
+ printHTMLProtocol( tests, fileName=paste( pathReport, ".html", sep="" ) )
+
+ tmp <- getErrors( tests )
+ if( tmp$nFail > 0 | tmp$nErr > 0 ){
+ stop( paste( "\n\nunit testing failed (#test failures: ", tmp$nFail, ", #R errors: ", tmp$nErr, ")\n\n", sep=""))
+ }
+ } else {
+ warning( "cannot run unit tests -- package RUnit is not available" )
+ }
Running unit tests
$pkg
[1] "VanillaICE"
$getwd
[1] "/Users/biocbuild/bbs-3.22-bioc/meat/VanillaICE.Rcheck/tests"
$pathToUnitTests
[1] "/private/var/folders/r0/l4fjk6cj5xj0j3brt4bplpl40000gt/T/RtmpUgvhyM/RLIBS_110771736c316/VanillaICE/unitTests"
Loading required package: BiocGenerics
Loading required package: generics
Attaching package: 'generics'
The following objects are masked from 'package:base':
as.difftime, as.factor, as.ordered, intersect, is.element, setdiff,
setequal, union
Attaching package: 'BiocGenerics'
The following objects are masked from 'package:stats':
IQR, mad, sd, var, xtabs
The following objects are masked from 'package:base':
Filter, Find, Map, Position, Reduce, anyDuplicated, aperm, append,
as.data.frame, basename, cbind, colnames, dirname, do.call,
duplicated, eval, evalq, get, grep, grepl, is.unsorted, lapply,
mapply, match, mget, order, paste, pmax, pmax.int, pmin, pmin.int,
rank, rbind, rownames, sapply, saveRDS, table, tapply, unique,
unsplit, which.max, which.min
Loading required package: GenomicRanges
Loading required package: stats4
Loading required package: S4Vectors
Attaching package: 'S4Vectors'
The following object is masked from 'package:utils':
findMatches
The following objects are masked from 'package:base':
I, expand.grid, unname
Loading required package: IRanges
Loading required package: Seqinfo
Loading required package: SummarizedExperiment
Loading required package: MatrixGenerics
Loading required package: matrixStats
Attaching package: 'MatrixGenerics'
The following objects are masked from 'package:matrixStats':
colAlls, colAnyNAs, colAnys, colAvgsPerRowSet, colCollapse,
colCounts, colCummaxs, colCummins, colCumprods, colCumsums,
colDiffs, colIQRDiffs, colIQRs, colLogSumExps, colMadDiffs,
colMads, colMaxs, colMeans2, colMedians, colMins, colOrderStats,
colProds, colQuantiles, colRanges, colRanks, colSdDiffs, colSds,
colSums2, colTabulates, colVarDiffs, colVars, colWeightedMads,
colWeightedMeans, colWeightedMedians, colWeightedSds,
colWeightedVars, rowAlls, rowAnyNAs, rowAnys, rowAvgsPerColSet,
rowCollapse, rowCounts, rowCummaxs, rowCummins, rowCumprods,
rowCumsums, rowDiffs, rowIQRDiffs, rowIQRs, rowLogSumExps,
rowMadDiffs, rowMads, rowMaxs, rowMeans2, rowMedians, rowMins,
rowOrderStats, rowProds, rowQuantiles, rowRanges, rowRanks,
rowSdDiffs, rowSds, rowSums2, rowTabulates, rowVarDiffs, rowVars,
rowWeightedMads, rowWeightedMeans, rowWeightedMedians,
rowWeightedSds, rowWeightedVars
Loading required package: Biobase
Welcome to Bioconductor
Vignettes contain introductory material; view with
'browseVignettes()'. To cite Bioconductor, see
'citation("Biobase")', and for packages 'citation("pkgname")'.
Attaching package: 'Biobase'
The following object is masked from 'package:MatrixGenerics':
rowMedians
The following objects are masked from 'package:matrixStats':
anyMissing, rowMedians
No methods found in package 'oligoClasses' for request: 'mean' when loading 'crlmm'
Welcome to VanillaICE version 1.71.0
Loading required package: BSgenome.Hsapiens.UCSC.hg18
Loading required package: BSgenome
Loading required package: Biostrings
Loading required package: XVector
Attaching package: 'Biostrings'
The following object is masked from 'package:VanillaICE':
deletion
The following object is masked from 'package:base':
strsplit
Loading required package: BiocIO
Loading required package: rtracklayer
Loading required package: data.table
Attaching package: 'data.table'
The following object is masked from 'package:SummarizedExperiment':
shift
The following object is masked from 'package:GenomicRanges':
shift
The following object is masked from 'package:IRanges':
shift
The following objects are masked from 'package:S4Vectors':
first, second
Loading required package: foreach
Loading required package: oligoClasses
Welcome to oligoClasses version 1.71.0
Executing test function test_ArrayViews ... done successfully.
Executing test function test_columnSubset ... Writing parsed files to /var/folders/r0/l4fjk6cj5xj0j3brt4bplpl40000gt/T//RtmpEn0Q3q
done successfully.
Executing test function test_FilterParam ... done successfully.
Executing test function test_EmissionParam ... done successfully.
Executing test function test_SnpArrayExperiment ... Error : unable to find an inherited method for function 'SnpDataFrame' for signature 'x = "numeric"'
Error in VanillaICE:::SnpDataFrame(DataFrame(x = 3)) :
isSnp must be specified
Error in .local(object, isSnp, ...) : isSnp must be specified
Error in validObject(.Object) :
invalid class "RangedSummarizedExperiment" object:
'x@assays' is not parallel to 'x'
Error in SnpArrayExperiment(x, y, rowRanges = rowranges) :
isSnp must be the same length as rowRanges
done successfully.
Executing test function test_SnpArrayExperiment2 ... done successfully.
Executing test function test_SnpGRanges ... done successfully.
Executing test function test_acf2 ... done successfully.
Executing test function test_hmm_cnset ... Loading required package: crlmm
Loading required package: preprocessCore
Welcome to crlmm version 1.67.0
Attaching package: 'crlmm'
The following object is masked from 'package:VanillaICE':
genotypes
done successfully.
Executing test function test_state4 ... done successfully.
Executing test function test_rowMAD ... done successfully.
Executing test function test_scaleBy ... done successfully.
Executing test function test_duplicatedMapLocs ... done successfully.
Executing test function test_sweepMode.R ... done successfully.
Executing test function test_Viterbi ... done successfully.
Executing test function test_baf_emission ... done successfully.
Executing test function test_cn_NAs ... done successfully.
Executing test function test_emission_for_list ... done successfully.
Executing test function test_emission_update ... done successfully.
Executing test function test_multiple_chromosomes ... done successfully.
Executing test function test_null_assignment ... done successfully.
Executing test function test_oligoset_comparison ... done successfully.
Executing test function test_summarized_exp ... done successfully.
Executing test function test_updating ... done successfully.
------------------- UNIT TEST SUMMARY ---------------------
RUNIT TEST PROTOCOL -- Wed Oct 22 22:39:07 2025
***********************************************
Number of test functions: 24
Number of errors: 0
Number of failures: 0
1 Test Suite :
VanillaICE unit testing - 24 test functions, 0 errors, 0 failures
>
> proc.time()
user system elapsed
7.779 0.451 8.431
VanillaICE.Rcheck/VanillaICE-Ex.timings
| name | user | system | elapsed | |
| ArrayViews-class | 1.332 | 0.060 | 1.405 | |
| CopyNumScanParams | 0.000 | 0.000 | 0.001 | |
| EmissionParam-methods | 0.002 | 0.000 | 0.002 | |
| FilterParam-class | 0.000 | 0.000 | 0.001 | |
| HMM | 0.508 | 0.011 | 0.525 | |
| HMMList-class | 0.232 | 0.015 | 0.249 | |
| HmmParam | 0.001 | 0.001 | 0.001 | |
| IO | 0.003 | 0.000 | 0.003 | |
| IdiogramParams-class | 0.045 | 0.006 | 0.051 | |
| SnpArrayExperiment-class | 0.023 | 0.002 | 0.026 | |
| SnpExperiment | 0.027 | 0.002 | 0.030 | |
| SnpGRanges | 0.016 | 0.002 | 0.017 | |
| TransitionParam | 0 | 0 | 0 | |
| cnvFilter | 0.445 | 0.043 | 0.490 | |
| dropDuplicatedMapLocs | 0.040 | 0.004 | 0.044 | |
| emissionParam | 0.001 | 0.000 | 0.001 | |
| getExampleSnpExperiment | 0 | 0 | 0 | |
| getHmmParams | 0.003 | 0.000 | 0.003 | |
| hmm2 | 0.291 | 0.009 | 0.301 | |
| isHeterozygous | 0.084 | 0.005 | 0.091 | |
| parseSourceFile | 0.163 | 0.014 | 0.183 | |
| plotting | 0.248 | 0.018 | 0.270 | |
| robust-statistics | 0 | 0 | 0 | |
| snpArrayAssays | 0.004 | 0.000 | 0.005 | |
| sourcePaths | 0.003 | 0.000 | 0.003 | |
| sweepMode | 0.066 | 0.004 | 0.070 | |
| threshold | 0 | 0 | 0 | |
| viewports | 0.001 | 0.000 | 0.000 | |