| Back to Multiple platform build/check report for BioC 3.22: simplified long |
|
This page was generated on 2025-08-15 12:07 -0400 (Fri, 15 Aug 2025).
| Hostname | OS | Arch (*) | R version | Installed pkgs |
|---|---|---|---|---|
| nebbiolo2 | Linux (Ubuntu 24.04.3 LTS) | x86_64 | 4.5.1 (2025-06-13) -- "Great Square Root" | 4818 |
| palomino8 | Windows Server 2022 Datacenter | x64 | 4.5.1 (2025-06-13 ucrt) -- "Great Square Root" | 4554 |
| lconway | macOS 12.7.1 Monterey | x86_64 | 4.5.1 (2025-06-13) -- "Great Square Root" | 4595 |
| kjohnson3 | macOS 13.7.7 Ventura | arm64 | 4.5.1 Patched (2025-06-14 r88325) -- "Great Square Root" | 4537 |
| taishan | Linux (openEuler 24.03 LTS) | aarch64 | 4.5.0 (2025-04-11) -- "How About a Twenty-Six" | 4535 |
| Click on any hostname to see more info about the system (e.g. compilers) (*) as reported by 'uname -p', except on Windows and Mac OS X | ||||
| Package 2250/2317 | Hostname | OS / Arch | INSTALL | BUILD | CHECK | BUILD BIN | ||||||||
| UniProt.ws 2.49.3 (landing page) Marcel Ramos
| nebbiolo2 | Linux (Ubuntu 24.04.3 LTS) / x86_64 | OK | OK | OK | |||||||||
| palomino8 | Windows Server 2022 Datacenter / x64 | OK | OK | OK | OK | |||||||||
| lconway | macOS 12.7.1 Monterey / x86_64 | OK | OK | OK | OK | |||||||||
| kjohnson3 | macOS 13.7.7 Ventura / arm64 | OK | OK | OK | OK | |||||||||
| taishan | Linux (openEuler 24.03 LTS) / aarch64 | OK | OK | OK | ||||||||||
|
To the developers/maintainers of the UniProt.ws package: - Allow up to 24 hours (and sometimes 48 hours) for your latest push to git@git.bioconductor.org:packages/UniProt.ws.git to reflect on this report. See Troubleshooting Build Report for more information. - Use the following Renviron settings to reproduce errors and warnings. - If 'R CMD check' started to fail recently on the Linux builder(s) over a missing dependency, add the missing dependency to 'Suggests:' in your DESCRIPTION file. See Renviron.bioc for more information. |
| Package: UniProt.ws |
| Version: 2.49.3 |
| Command: F:\biocbuild\bbs-3.22-bioc\R\bin\R.exe CMD check --no-multiarch --install=check:UniProt.ws.install-out.txt --library=F:\biocbuild\bbs-3.22-bioc\R\library --no-vignettes --timings UniProt.ws_2.49.3.tar.gz |
| StartedAt: 2025-08-15 09:04:09 -0400 (Fri, 15 Aug 2025) |
| EndedAt: 2025-08-15 09:07:00 -0400 (Fri, 15 Aug 2025) |
| EllapsedTime: 171.0 seconds |
| RetCode: 0 |
| Status: OK |
| CheckDir: UniProt.ws.Rcheck |
| Warnings: 0 |
##############################################################################
##############################################################################
###
### Running command:
###
### F:\biocbuild\bbs-3.22-bioc\R\bin\R.exe CMD check --no-multiarch --install=check:UniProt.ws.install-out.txt --library=F:\biocbuild\bbs-3.22-bioc\R\library --no-vignettes --timings UniProt.ws_2.49.3.tar.gz
###
##############################################################################
##############################################################################
* using log directory 'F:/biocbuild/bbs-3.22-bioc/meat/UniProt.ws.Rcheck'
* using R version 4.5.1 (2025-06-13 ucrt)
* using platform: x86_64-w64-mingw32
* R was compiled by
gcc.exe (GCC) 14.2.0
GNU Fortran (GCC) 14.2.0
* running under: Windows Server 2022 x64 (build 20348)
* using session charset: UTF-8
* using option '--no-vignettes'
* checking for file 'UniProt.ws/DESCRIPTION' ... OK
* checking extension type ... Package
* this is package 'UniProt.ws' version '2.49.3'
* package encoding: UTF-8
* checking package namespace information ... OK
* checking package dependencies ... OK
* checking if this is a source package ... OK
* checking if there is a namespace ... OK
* checking for hidden files and directories ... OK
* checking for portable file names ... OK
* checking whether package 'UniProt.ws' can be installed ... OK
* checking installed package size ... OK
* checking package directory ... OK
* checking 'build' directory ... OK
* checking DESCRIPTION meta-information ... OK
* checking top-level files ... OK
* checking for left-over files ... OK
* checking index information ... OK
* checking package subdirectories ... OK
* checking code files for non-ASCII characters ... OK
* checking R files for syntax errors ... OK
* checking whether the package can be loaded ... OK
* checking whether the package can be loaded with stated dependencies ... OK
* checking whether the package can be unloaded cleanly ... OK
* checking whether the namespace can be loaded with stated dependencies ... OK
* checking whether the namespace can be unloaded cleanly ... OK
* checking dependencies in R code ... OK
* checking S3 generic/method consistency ... OK
* checking replacement functions ... OK
* checking foreign function calls ... OK
* checking R code for possible problems ... OK
* checking Rd files ... OK
* checking Rd metadata ... OK
* checking Rd cross-references ... OK
* checking for missing documentation entries ... OK
* checking for code/documentation mismatches ... OK
* checking Rd \usage sections ... OK
* checking Rd contents ... OK
* checking for unstated dependencies in examples ... OK
* checking files in 'vignettes' ... OK
* checking examples ... OK
Examples with CPU (user + system) or elapsed time > 5s
user system elapsed
mapUniProt 0.63 0.03 7.76
UniProt.ws-methods 0.32 0.02 5.25
* checking for unstated dependencies in 'tests' ... OK
* checking tests ...
Running 'tinytest.R'
OK
* checking for unstated dependencies in vignettes ... OK
* checking package vignettes ... OK
* checking running R code from vignettes ... SKIPPED
* checking re-building of vignette outputs ... SKIPPED
* checking PDF version of manual ... OK
* DONE
Status: OK
UniProt.ws.Rcheck/00install.out
############################################################################## ############################################################################## ### ### Running command: ### ### F:\biocbuild\bbs-3.22-bioc\R\bin\R.exe CMD INSTALL UniProt.ws ### ############################################################################## ############################################################################## * installing to library 'F:/biocbuild/bbs-3.22-bioc/R/library' * installing *source* package 'UniProt.ws' ... ** this is package 'UniProt.ws' version '2.49.3' ** using staged installation ** R ** inst ** byte-compile and prepare package for lazy loading ** help *** installing help indices ** building package indices ** installing vignettes ** testing if installed package can be loaded from temporary location ** testing if installed package can be loaded from final location ** testing if installed package keeps a record of temporary installation path * DONE (UniProt.ws)
UniProt.ws.Rcheck/tests/tinytest.Rout
R version 4.5.1 (2025-06-13 ucrt) -- "Great Square Root"
Copyright (C) 2025 The R Foundation for Statistical Computing
Platform: x86_64-w64-mingw32/x64
R is free software and comes with ABSOLUTELY NO WARRANTY.
You are welcome to redistribute it under certain conditions.
Type 'license()' or 'licence()' for distribution details.
R is a collaborative project with many contributors.
Type 'contributors()' for more information and
'citation()' on how to cite R or R packages in publications.
Type 'demo()' for some demos, 'help()' for on-line help, or
'help.start()' for an HTML browser interface to help.
Type 'q()' to quit R.
> if (requireNamespace("tinytest", quietly = TRUE))
+ tinytest::test_package("UniProt.ws")
test_mapUniProt.R............. 0 tests
test_mapUniProt.R............. 0 tests
test_mapUniProt.R............. 1 tests [0;32mOK[0m
test_mapUniProt.R............. 2 tests [0;32mOK[0m
test_mapUniProt.R............. 3 tests [0;32mOK[0m
test_mapUniProt.R............. 3 tests [0;32mOK[0m
test_mapUniProt.R............. 3 tests [0;32mOK[0m
test_mapUniProt.R............. 4 tests [0;32mOK[0m
test_mapUniProt.R............. 5 tests [0;32mOK[0m
test_mapUniProt.R............. 6 tests [0;32mOK[0m
test_mapUniProt.R............. 6 tests [0;32mOK[0m
test_mapUniProt.R............. 7 tests [0;32mOK[0m
test_mapUniProt.R............. 8 tests [0;32mOK[0m
test_mapUniProt.R............. 9 tests [0;32mOK[0m
test_mapUniProt.R............. 10 tests [0;32mOK[0m
test_mapUniProt.R............. 10 tests [0;32mOK[0m
test_mapUniProt.R............. 10 tests [0;32mOK[0m
test_mapUniProt.R............. 11 tests [0;32mOK[0m
test_mapUniProt.R............. 12 tests [0;32mOK[0m
test_mapUniProt.R............. 13 tests [0;32mOK[0m [0;34m3.6s[0m
test_select.R................. 0 tests
test_select.R................. 0 tests
test_select.R................. 1 tests [0;32mOK[0m
test_select.R................. 1 tests [0;32mOK[0m
test_select.R................. 2 tests [0;32mOK[0m
test_select.R................. 3 tests [0;32mOK[0m
test_select.R................. 3 tests [0;32mOK[0m
test_select.R................. 4 tests [0;32mOK[0m
test_select.R................. 4 tests [0;32mOK[0m
test_select.R................. 4 tests [0;32mOK[0m
test_select.R................. 5 tests [0;32mOK[0m
test_select.R................. 5 tests [0;32mOK[0m
test_select.R................. 6 tests [0;32mOK[0m
test_select.R................. 6 tests [0;32mOK[0m
test_select.R................. 6 tests [0;32mOK[0m
test_select.R................. 6 tests [0;32mOK[0m
test_select.R................. 6 tests [0;32mOK[0m
test_select.R................. 7 tests [0;32mOK[0m
test_select.R................. 8 tests [0;32mOK[0m
test_select.R................. 9 tests [0;32mOK[0m
test_select.R................. 10 tests [0;32mOK[0m
test_select.R................. 10 tests [0;32mOK[0m
test_select.R................. 10 tests [0;32mOK[0m
test_select.R................. 10 tests [0;32mOK[0m
test_select.R................. 10 tests [0;32mOK[0m
test_select.R................. 11 tests [0;32mOK[0m
test_select.R................. 12 tests [0;32mOK[0m
test_select.R................. 13 tests [0;32mOK[0m
test_select.R................. 13 tests [0;32mOK[0m
test_select.R................. 13 tests [0;32mOK[0m
test_select.R................. 13 tests [0;32mOK[0m
test_select.R................. 13 tests [0;32mOK[0m
test_select.R................. 14 tests [0;32mOK[0m
test_select.R................. 15 tests [0;32mOK[0m
test_select.R................. 16 tests [0;32mOK[0m
test_select.R................. 17 tests [0;32mOK[0m
test_select.R................. 17 tests [0;32mOK[0m
test_select.R................. 17 tests [0;32mOK[0m
test_select.R................. 17 tests [0;32mOK[0m
test_select.R................. 17 tests [0;32mOK[0m
test_select.R................. 18 tests [0;32mOK[0m
test_select.R................. 19 tests [0;32mOK[0m
test_select.R................. 20 tests [0;32mOK[0m
test_select.R................. 20 tests [0;32mOK[0m
test_select.R................. 20 tests [0;32mOK[0m
test_select.R................. 20 tests [0;32mOK[0m
test_select.R................. 20 tests [0;32mOK[0m
test_select.R................. 21 tests [0;32mOK[0m
test_select.R................. 22 tests [0;32mOK[0m
test_select.R................. 23 tests [0;32mOK[0m
test_select.R................. 23 tests [0;32mOK[0m
test_select.R................. 23 tests [0;32mOK[0m
test_select.R................. 23 tests [0;32mOK[0m
test_select.R................. 23 tests [0;32mOK[0m
test_select.R................. 24 tests [0;32mOK[0m
test_select.R................. 25 tests [0;32mOK[0m
test_select.R................. 26 tests [0;32mOK[0m
test_select.R................. 26 tests [0;32mOK[0m
test_select.R................. 27 tests [0;32mOK[0m
test_select.R................. 27 tests [0;32mOK[0m
test_select.R................. 27 tests [0;32mOK[0m
test_select.R................. 27 tests [0;32mOK[0m
test_select.R................. 27 tests [0;32mOK[0m
test_select.R................. 28 tests [0;32mOK[0m
test_select.R................. 28 tests [0;32mOK[0m
test_select.R................. 28 tests [0;32mOK[0m
test_select.R................. 29 tests [0;32mOK[0m
test_select.R................. 29 tests [0;32mOK[0m
test_select.R................. 30 tests [0;32mOK[0m
test_select.R................. 30 tests [0;32mOK[0m
test_select.R................. 31 tests [0;32mOK[0m [0;34m18.4s[0m
test_serviceAccessors.R....... 0 tests
test_serviceAccessors.R....... 0 tests
test_serviceAccessors.R....... 1 tests [0;32mOK[0m
test_serviceAccessors.R....... 2 tests [0;32mOK[0m
test_serviceAccessors.R....... 3 tests [0;32mOK[0m
test_serviceAccessors.R....... 3 tests [0;32mOK[0m
test_serviceAccessors.R....... 4 tests [0;32mOK[0m
test_serviceAccessors.R....... 5 tests [0;32mOK[0m
test_serviceAccessors.R....... 6 tests [0;32mOK[0m
test_serviceAccessors.R....... 6 tests [0;32mOK[0m
test_serviceAccessors.R....... 7 tests [0;32mOK[0m
test_serviceAccessors.R....... 8 tests [0;32mOK[0m
test_serviceAccessors.R....... 9 tests [0;32mOK[0m
test_serviceAccessors.R....... 9 tests [0;32mOK[0m
test_serviceAccessors.R....... 10 tests [0;32mOK[0m
test_serviceAccessors.R....... 11 tests [0;32mOK[0m
test_serviceAccessors.R....... 12 tests [0;32mOK[0m
test_serviceAccessors.R....... 13 tests [0;32mOK[0m
test_serviceAccessors.R....... 13 tests [0;32mOK[0m
test_serviceAccessors.R....... 14 tests [0;32mOK[0m
test_serviceAccessors.R....... 15 tests [0;32mOK[0m
test_serviceAccessors.R....... 16 tests [0;32mOK[0m [0;34m8.1s[0m
test_utilities.R.............. 0 tests
test_utilities.R.............. 1 tests [0;32mOK[0m
test_utilities.R.............. 1 tests [0;32mOK[0m
test_utilities.R.............. 1 tests [0;32mOK[0m
test_utilities.R.............. 2 tests [0;32mOK[0m
test_utilities.R.............. 2 tests [0;32mOK[0m
test_utilities.R.............. 3 tests [0;32mOK[0m
test_utilities.R.............. 3 tests [0;32mOK[0m
test_utilities.R.............. 3 tests [0;32mOK[0m
test_utilities.R.............. 4 tests [0;32mOK[0m
test_utilities.R.............. 4 tests [0;32mOK[0m
test_utilities.R.............. 5 tests [0;32mOK[0m
test_utilities.R.............. 5 tests [0;32mOK[0m
test_utilities.R.............. 5 tests [0;32mOK[0m
test_utilities.R.............. 6 tests [0;32mOK[0m [0;36m14ms[0m
All ok, 66 results (30.1s)
Warning messages:
1: IDs not mapped: 3
2: IDs not mapped: 3
3: IDs not mapped: P20806, Q17192
4: IDs not mapped: 3
>
> proc.time()
user system elapsed
9.70 0.57 35.70
UniProt.ws.Rcheck/UniProt.ws-Ex.timings
| name | user | system | elapsed | |
| UniProt.ws-class | 1.11 | 0.08 | 2.17 | |
| UniProt.ws-methods | 0.32 | 0.02 | 5.25 | |
| mapUniProt | 0.63 | 0.03 | 7.76 | |
| utilities | 0.01 | 0.00 | 0.02 | |