Back to Multiple platform build/check report for BioC 3.22:   simplified   long
ABCDEFGHIJKLMNOPQRS[T]UVWXYZ

This page was generated on 2025-04-09 11:56 -0400 (Wed, 09 Apr 2025).

HostnameOSArch (*)R versionInstalled pkgs
nebbiolo2Linux (Ubuntu 24.04.1 LTS)x86_644.5.0 beta (2025-04-02 r88102) -- "How About a Twenty-Six" 4737
palomino8Windows Server 2022 Datacenterx644.5.0 RC (2025-04-03 r88103 ucrt) -- "How About a Twenty-Six" 4524
Click on any hostname to see more info about the system (e.g. compilers)      (*) as reported by 'uname -p', except on Windows and Mac OS X

Package 2259/2335HostnameOS / ArchINSTALLBUILDCHECKBUILD BIN
TypeInfo 1.73.1  (landing page)
Duncan Temple Lang
Snapshot Date: 2025-04-08 13:00 -0400 (Tue, 08 Apr 2025)
git_url: https://git.bioconductor.org/packages/TypeInfo
git_branch: devel
git_last_commit: a41e1bc
git_last_commit_date: 2025-03-14 12:09:10 -0400 (Fri, 14 Mar 2025)
nebbiolo2Linux (Ubuntu 24.04.1 LTS) / x86_64  ERROR    ERROR  skipped
palomino8Windows Server 2022 Datacenter / x64  ERROR    ERROR  skippedskipped


BUILD results for TypeInfo on nebbiolo2

To the developers/maintainers of the TypeInfo package:
- Allow up to 24 hours (and sometimes 48 hours) for your latest push to git@git.bioconductor.org:packages/TypeInfo.git to reflect on this report. See Troubleshooting Build Report for more information.
- Use the following Renviron settings to reproduce errors and warnings.
- If 'R CMD check' started to fail recently on the Linux builder(s) over a missing dependency, add the missing dependency to 'Suggests:' in your DESCRIPTION file. See Renviron.bioc for more information.

raw results


Summary

Package: TypeInfo
Version: 1.73.1
Command: /home/biocbuild/bbs-3.22-bioc/R/bin/R CMD build --keep-empty-dirs --no-resave-data --md5 TypeInfo
StartedAt: 2025-04-08 19:45:08 -0400 (Tue, 08 Apr 2025)
EndedAt: 2025-04-08 19:45:09 -0400 (Tue, 08 Apr 2025)
EllapsedTime: 1.0 seconds
RetCode: 1
Status:   ERROR  
PackageFile: None
PackageFileSize: NA

Command output

##############################################################################
##############################################################################
###
### Running command:
###
###   /home/biocbuild/bbs-3.22-bioc/R/bin/R CMD build --keep-empty-dirs --no-resave-data --md5 TypeInfo
###
##############################################################################
##############################################################################


* checking for file ‘TypeInfo/DESCRIPTION’ ... OK
* preparing ‘TypeInfo’:
* checking DESCRIPTION meta-information ... OK
* installing the package to build vignettes
      -----------------------------------
* installing *source* package ‘TypeInfo’ ...
** this is package ‘TypeInfo’ version ‘1.73.1’
** using staged installation
** R
Error in .install_package_code_files(".", instdir) : 
files in 'Collate' field missing from '/tmp/RtmpVw1eFJ/Rbuild2a996d65277e63/TypeInfo/R':
  zzz.S
ERROR: unable to collate and parse R files for package ‘TypeInfo’
* removing ‘/tmp/RtmpVw1eFJ/Rinst2a996d96ecfea/TypeInfo’
      -----------------------------------
ERROR: package installation failed