| Back to Multiple platform build/check report for BioC 3.22: simplified long |
|
This page was generated on 2025-10-21 12:08 -0400 (Tue, 21 Oct 2025).
| Hostname | OS | Arch (*) | R version | Installed pkgs |
|---|---|---|---|---|
| nebbiolo2 | Linux (Ubuntu 24.04.3 LTS) | x86_64 | 4.5.1 Patched (2025-08-23 r88802) -- "Great Square Root" | 4887 |
| lconway | macOS 12.7.6 Monterey | x86_64 | 4.5.1 Patched (2025-09-10 r88807) -- "Great Square Root" | 4677 |
| kjohnson3 | macOS 13.7.7 Ventura | arm64 | 4.5.1 Patched (2025-09-10 r88807) -- "Great Square Root" | 4622 |
| taishan | Linux (openEuler 24.03 LTS) | aarch64 | 4.5.0 (2025-04-11) -- "How About a Twenty-Six" | 4642 |
| Click on any hostname to see more info about the system (e.g. compilers) (*) as reported by 'uname -p', except on Windows and Mac OS X | ||||
| Package 2199/2353 | Hostname | OS / Arch | INSTALL | BUILD | CHECK | BUILD BIN | ||||||||
| TFutils 1.29.1 (landing page) Vincent Carey
| nebbiolo2 | Linux (Ubuntu 24.04.3 LTS) / x86_64 | OK | OK | OK | |||||||||
| lconway | macOS 12.7.6 Monterey / x86_64 | OK | OK | OK | OK | |||||||||
| kjohnson3 | macOS 13.7.7 Ventura / arm64 | OK | OK | OK | OK | |||||||||
| taishan | Linux (openEuler 24.03 LTS) / aarch64 | OK | OK | OK | ||||||||||
|
To the developers/maintainers of the TFutils package: - Allow up to 24 hours (and sometimes 48 hours) for your latest push to git@git.bioconductor.org:packages/TFutils.git to reflect on this report. See Troubleshooting Build Report for more information. - Use the following Renviron settings to reproduce errors and warnings. - If 'R CMD check' started to fail recently on the Linux builder(s) over a missing dependency, add the missing dependency to 'Suggests:' in your DESCRIPTION file. See Renviron.bioc for more information. - See Martin Grigorov's blog post for how to debug Linux ARM64 related issues on a x86_64 host. |
| Package: TFutils |
| Version: 1.29.1 |
| Command: /home/biocbuild/R/R/bin/R CMD check --install=check:TFutils.install-out.txt --library=/home/biocbuild/R/R/site-library --no-vignettes --timings TFutils_1.29.1.tar.gz |
| StartedAt: 2025-10-17 14:26:45 -0000 (Fri, 17 Oct 2025) |
| EndedAt: 2025-10-17 14:35:48 -0000 (Fri, 17 Oct 2025) |
| EllapsedTime: 542.8 seconds |
| RetCode: 0 |
| Status: OK |
| CheckDir: TFutils.Rcheck |
| Warnings: 0 |
##############################################################################
##############################################################################
###
### Running command:
###
### /home/biocbuild/R/R/bin/R CMD check --install=check:TFutils.install-out.txt --library=/home/biocbuild/R/R/site-library --no-vignettes --timings TFutils_1.29.1.tar.gz
###
##############################################################################
##############################################################################
* using log directory ‘/home/biocbuild/bbs-3.22-bioc/meat/TFutils.Rcheck’
* using R version 4.5.0 (2025-04-11)
* using platform: aarch64-unknown-linux-gnu
* R was compiled by
aarch64-unknown-linux-gnu-gcc (GCC) 14.2.0
GNU Fortran (GCC) 14.2.0
* running under: openEuler 24.03 (LTS)
* using session charset: UTF-8
* using option ‘--no-vignettes’
* checking for file ‘TFutils/DESCRIPTION’ ... OK
* this is package ‘TFutils’ version ‘1.29.1’
* package encoding: UTF-8
* checking package namespace information ... OK
* checking package dependencies ... OK
* checking if this is a source package ... OK
* checking if there is a namespace ... OK
* checking for hidden files and directories ... OK
* checking for portable file names ... OK
* checking for sufficient/correct file permissions ... OK
* checking whether package ‘TFutils’ can be installed ... OK
* checking installed package size ... INFO
installed size is 5.5Mb
sub-directories of 1Mb or more:
data 3.5Mb
lambert 1.4Mb
* checking package directory ... OK
* checking ‘build’ directory ... OK
* checking DESCRIPTION meta-information ... OK
* checking top-level files ... OK
* checking for left-over files ... OK
* checking index information ... OK
* checking package subdirectories ... OK
* checking code files for non-ASCII characters ... OK
* checking R files for syntax errors ... OK
* checking whether the package can be loaded ... OK
* checking whether the package can be loaded with stated dependencies ... OK
* checking whether the package can be unloaded cleanly ... OK
* checking whether the namespace can be loaded with stated dependencies ... OK
* checking whether the namespace can be unloaded cleanly ... OK
* checking loading without being on the library search path ... OK
* checking dependencies in R code ... OK
* checking S3 generic/method consistency ... OK
* checking replacement functions ... OK
* checking foreign function calls ... OK
* checking R code for possible problems ... NOTE
fimo_granges : proctext: warning in read.delim(con, h = FALSE,
stringsAsFactors = FALSE, sep = "\t"): partial argument match of 'h'
to 'header'
setupHIZE: warning in read.delim(txtfn, sep = "\t", skip = 3, h =
FALSE, stringsAsFactors = FALSE): partial argument match of 'h' to
'header'
directHitsInCISBP: no visible binding for global variable
‘DISEASE.TRAIT’
directHitsInCISBP: no visible binding for global variable ‘MAPPED_GENE’
directHitsInCISBP: no visible binding for global variable ‘cisbpTFcat’
directHitsInCISBP: no visible binding for global variable ‘HGNC’
directHitsInCISBP: no visible binding for global variable ‘Family_Name’
tffamCirc.prep: no visible binding for global variable ‘TF family’
tffamCirc.prep: no visible binding for global variable ‘TFfamily’
tffamCirc.prep: no visible binding for global variable ‘Transcription
factor’
topTraitsOfTargets: no visible binding for global variable
‘DISEASE.TRAIT’
Undefined global functions or variables:
DISEASE.TRAIT Family_Name HGNC MAPPED_GENE TF family TFfamily
Transcription factor cisbpTFcat
Consider adding
importFrom("base", "factor")
importFrom("stats", "family")
to your NAMESPACE file.
* checking Rd files ... OK
* checking Rd metadata ... OK
* checking Rd cross-references ... OK
* checking for missing documentation entries ... OK
* checking for code/documentation mismatches ... OK
* checking Rd \usage sections ... OK
* checking Rd contents ... OK
* checking for unstated dependencies in examples ... OK
* checking contents of ‘data’ directory ... OK
* checking data for non-ASCII characters ... OK
* checking LazyData ... OK
* checking data for ASCII and uncompressed saves ... OK
* checking line endings in Makefiles ... OK
* checking for GNU extensions in Makefiles ... OK
* checking include directives in Makefiles ... OK
* checking files in ‘vignettes’ ... OK
* checking examples ... OK
Examples with CPU (user + system) or elapsed time > 5s
user system elapsed
tffamCirc.plot 30.730 1.037 35.659
topTraitsOfTargets 20.509 0.420 21.521
tffamCirc.prep 11.553 0.405 12.122
genemodForGviz 8.685 0.270 9.061
* checking for unstated dependencies in ‘tests’ ... OK
* checking tests ...
Running ‘testthat.R’
OK
* checking for unstated dependencies in vignettes ... OK
* checking package vignettes ... OK
* checking running R code from vignettes ... SKIPPED
* checking re-building of vignette outputs ... SKIPPED
* checking PDF version of manual ... OK
* DONE
Status: 1 NOTE
See
‘/home/biocbuild/bbs-3.22-bioc/meat/TFutils.Rcheck/00check.log’
for details.
TFutils.Rcheck/00install.out
############################################################################## ############################################################################## ### ### Running command: ### ### /home/biocbuild/R/R/bin/R CMD INSTALL TFutils ### ############################################################################## ############################################################################## * installing to library ‘/home/biocbuild/R/R-4.5.0/site-library’ * installing *source* package ‘TFutils’ ... ** this is package ‘TFutils’ version ‘1.29.1’ ** using staged installation ** R ** data *** moving datasets to lazyload DB ** inst ** byte-compile and prepare package for lazy loading ** help *** installing help indices ** building package indices ** installing vignettes ** testing if installed package can be loaded from temporary location ** testing if installed package can be loaded from final location ** testing if installed package keeps a record of temporary installation path * DONE (TFutils)
TFutils.Rcheck/tests/testthat.Rout
R version 4.5.0 (2025-04-11) -- "How About a Twenty-Six"
Copyright (C) 2025 The R Foundation for Statistical Computing
Platform: aarch64-unknown-linux-gnu
R is free software and comes with ABSOLUTELY NO WARRANTY.
You are welcome to redistribute it under certain conditions.
Type 'license()' or 'licence()' for distribution details.
R is a collaborative project with many contributors.
Type 'contributors()' for more information and
'citation()' on how to cite R or R packages in publications.
Type 'demo()' for some demos, 'help()' for on-line help, or
'help.start()' for an HTML browser interface to help.
Type 'q()' to quit R.
> library(testthat)
> library(TFutils)
>
> test_check("TFutils")
[ FAIL 0 | WARN 0 | SKIP 0 | PASS 5 ]
>
>
> proc.time()
user system elapsed
21.592 0.806 23.650
TFutils.Rcheck/TFutils-Ex.timings
| name | user | system | elapsed | |
| HGNCmap | 0.001 | 0.000 | 0.000 | |
| TFCatalog | 0.262 | 0.020 | 0.283 | |
| TFtargs | 0 | 0 | 0 | |
| URL_s3_tf | 0.000 | 0.000 | 0.001 | |
| anchor_pmids | 0.005 | 0.000 | 0.005 | |
| browse_gotf_main | 0.001 | 0.000 | 0.000 | |
| browse_humantfs_main | 0 | 0 | 0 | |
| browse_lambert_gwaslinks | 0 | 0 | 0 | |
| browse_lambert_main | 0 | 0 | 0 | |
| cisbpTFcat | 0.033 | 0.004 | 0.038 | |
| cisbpTFcat_2.0 | 0.032 | 0.000 | 0.032 | |
| defaultCircosParms | 0.053 | 0.000 | 0.053 | |
| demo_fimo_granges | 0.01 | 0.00 | 0.01 | |
| directHitsInCISBP | 0.227 | 0.004 | 0.232 | |
| encode690 | 0.054 | 0.000 | 0.055 | |
| fimo16 | 0.02 | 0.00 | 0.02 | |
| fimoMap | 0.002 | 0.000 | 0.002 | |
| fimo_granges | 0.001 | 0.000 | 0.001 | |
| genemodForGviz | 8.685 | 0.270 | 9.061 | |
| genemodelDF | 0.13 | 0.00 | 0.13 | |
| get_rslocs_38 | 0 | 0 | 0 | |
| grabTab | 0.322 | 0.004 | 0.420 | |
| gwascat_hg19_chr17 | 0.049 | 0.000 | 0.052 | |
| hocomoco.mono | 0.004 | 0.000 | 0.004 | |
| hocomoco.mono.sep2018 | 0.004 | 0.000 | 0.004 | |
| importFIMO | 0.047 | 0.000 | 0.080 | |
| importFIMO_local_split | 0.013 | 0.005 | 0.033 | |
| lambert_snps | 0.204 | 0.003 | 0.217 | |
| metadata_tf | 0.007 | 0.000 | 0.006 | |
| named_tf | 0.006 | 0.000 | 0.006 | |
| retrieve_gotf_main | 0 | 0 | 0 | |
| retrieve_humantfs_main | 0 | 0 | 0 | |
| retrieve_lambert_main | 0 | 0 | 0 | |
| seqinfo_hg19_chr17 | 0.004 | 0.000 | 0.004 | |
| tffamCirc.plot | 30.730 | 1.037 | 35.659 | |
| tffamCirc.prep | 11.553 | 0.405 | 12.122 | |
| tfhash | 0.386 | 0.111 | 0.514 | |
| tftColl | 0.228 | 0.028 | 0.273 | |
| tftCollMap | 0.001 | 0.000 | 0.001 | |
| topTraitsOfTargets | 20.509 | 0.420 | 21.521 | |