Back to Multiple platform build/check report for BioC 3.22: simplified long |
|
This page was generated on 2025-05-07 12:11 -0400 (Wed, 07 May 2025).
Hostname | OS | Arch (*) | R version | Installed pkgs |
---|---|---|---|---|
nebbiolo2 | Linux (Ubuntu 24.04.1 LTS) | x86_64 | 4.5.0 (2025-04-11) -- "How About a Twenty-Six" | 4745 |
palomino8 | Windows Server 2022 Datacenter | x64 | 4.5.0 (2025-04-11 ucrt) -- "How About a Twenty-Six" | 4506 |
lconway | macOS 12.7.1 Monterey | x86_64 | 4.5.0 Patched (2025-04-21 r88169) -- "How About a Twenty-Six" | 4546 |
kjohnson3 | macOS 13.7.1 Ventura | arm64 | 4.5.0 Patched (2025-04-21 r88169) -- "How About a Twenty-Six" | 4487 |
taishan | Linux (openEuler 24.03 LTS) | aarch64 | 4.5.0 (2025-04-11) -- "How About a Twenty-Six" | 4441 |
Click on any hostname to see more info about the system (e.g. compilers) (*) as reported by 'uname -p', except on Windows and Mac OS X |
Package 2086/2304 | Hostname | OS / Arch | INSTALL | BUILD | CHECK | BUILD BIN | ||||||||
Streamer 1.55.0 (landing page) Martin Morgan
| nebbiolo2 | Linux (Ubuntu 24.04.1 LTS) / x86_64 | OK | OK | OK | ![]() | ||||||||
palomino8 | Windows Server 2022 Datacenter / x64 | OK | OK | OK | OK | ![]() | ||||||||
lconway | macOS 12.7.1 Monterey / x86_64 | OK | OK | OK | OK | ![]() | ||||||||
kjohnson3 | macOS 13.7.1 Ventura / arm64 | OK | OK | OK | OK | ![]() | ||||||||
taishan | Linux (openEuler 24.03 LTS) / aarch64 | OK | OK | OK | ||||||||||
To the developers/maintainers of the Streamer package: - Allow up to 24 hours (and sometimes 48 hours) for your latest push to git@git.bioconductor.org:packages/Streamer.git to reflect on this report. See Troubleshooting Build Report for more information. - Use the following Renviron settings to reproduce errors and warnings. - If 'R CMD check' started to fail recently on the Linux builder(s) over a missing dependency, add the missing dependency to 'Suggests:' in your DESCRIPTION file. See Renviron.bioc for more information. |
Package: Streamer |
Version: 1.55.0 |
Command: rm -rf Streamer.buildbin-libdir && mkdir Streamer.buildbin-libdir && /Users/biocbuild/BBS/utils/build-universal.sh Streamer_1.55.0.tar.gz /Library/Frameworks/R.framework/Resources/bin/R Streamer.buildbin-libdir |
StartedAt: 2025-05-06 23:18:09 -0400 (Tue, 06 May 2025) |
EndedAt: 2025-05-06 23:18:13 -0400 (Tue, 06 May 2025) |
EllapsedTime: 4.1 seconds |
RetCode: 0 |
Status: OK |
PackageFile: Streamer_1.55.0.tgz |
PackageFileSize: 551.6 KiB |
############################################################################## ############################################################################## ### ### Running command: ### ### rm -rf Streamer.buildbin-libdir && mkdir Streamer.buildbin-libdir && /Users/biocbuild/BBS/utils/build-universal.sh Streamer_1.55.0.tar.gz /Library/Frameworks/R.framework/Resources/bin/R Streamer.buildbin-libdir ### ############################################################################## ############################################################################## >>>>>>> >>>>>>> INSTALLATION WITH 'R CMD INSTALL --preclean --no-multiarch --library=Streamer.buildbin-libdir Streamer_1.55.0.tar.gz' >>>>>>> * installing *source* package ‘Streamer’ ... ** this is package ‘Streamer’ version ‘1.55.0’ ** using staged installation ** libs using C compiler: ‘Apple clang version 15.0.0 (clang-1500.1.0.2.5)’ using SDK: ‘MacOSX11.3.sdk’ clang -arch arm64 -std=gnu2x -I"/Library/Frameworks/R.framework/Resources/include" -DNDEBUG -I/opt/R/arm64/include -fPIC -falign-functions=64 -Wall -g -O2 -c R_init_Streamer.c -o R_init_Streamer.o clang -arch arm64 -std=gnu2x -I"/Library/Frameworks/R.framework/Resources/include" -DNDEBUG -I/opt/R/arm64/include -fPIC -falign-functions=64 -Wall -g -O2 -c raw_input.c -o raw_input.o clang -arch arm64 -std=gnu2x -dynamiclib -Wl,-headerpad_max_install_names -undefined dynamic_lookup -L/Library/Frameworks/R.framework/Resources/lib -L/opt/R/arm64/lib -o Streamer.so R_init_Streamer.o raw_input.o -F/Library/Frameworks/R.framework/.. -framework R installing to /Users/biocbuild/bbs-3.22-bioc/meat/Streamer.buildbin-libdir/00LOCK-Streamer/00new/Streamer/libs ** R ** inst ** byte-compile and prepare package for lazy loading ** help *** installing help indices ** building package indices ** installing vignettes ** testing if installed package can be loaded from temporary location ** checking absolute paths in shared objects and dynamic libraries ** testing if installed package can be loaded from final location ** testing if installed package keeps a record of temporary installation path * DONE (Streamer) >>>>>>> >>>>>>> FIXING PATHS TO DYNAMIC LIBRARIES FOR Streamer.buildbin-libdir/Streamer/libs/Streamer.so >>>>>>> >>>>>>> Paths before fix: Streamer.buildbin-libdir/Streamer/libs/Streamer.so: Streamer.so (compatibility version 0.0.0, current version 0.0.0) /Library/Frameworks/R.framework/Versions/4.5-arm64/Resources/lib/libR.dylib (compatibility version 4.5.0, current version 4.5.0) /usr/lib/libSystem.B.dylib (compatibility version 1.0.0, current version 1292.100.5) >>>>>>> Fix with install_name_tool: install_name_tool -change "/usr/local/lib/libgcc_s.1.1.dylib" "/Library/Frameworks/R.framework/Versions/4.5-arm64/Resources/lib/libgcc_s.1.1.dylib" "Streamer.buildbin-libdir/Streamer/libs/Streamer.so" install_name_tool -change "/usr/local/lib/libgfortran.5.dylib" "/Library/Frameworks/R.framework/Versions/4.5-arm64/Resources/lib/libgfortran.5.dylib" "Streamer.buildbin-libdir/Streamer/libs/Streamer.so" install_name_tool -change "/usr/local/lib/libquadmath.0.dylib" "/Library/Frameworks/R.framework/Versions/4.5-arm64/Resources/lib/libquadmath.0.dylib" "Streamer.buildbin-libdir/Streamer/libs/Streamer.so" >>>>>>> Paths after fix: Streamer.buildbin-libdir/Streamer/libs/Streamer.so: Streamer.so (compatibility version 0.0.0, current version 0.0.0) /Library/Frameworks/R.framework/Versions/4.5-arm64/Resources/lib/libR.dylib (compatibility version 4.5.0, current version 4.5.0) /usr/lib/libSystem.B.dylib (compatibility version 1.0.0, current version 1292.100.5)