Back to Build/check report for BioC 3.23:   simplified   long
ABCDEFGHIJKLMNOPQR[S]TUVWXYZ

This page was generated on 2025-11-04 11:32 -0500 (Tue, 04 Nov 2025).

HostnameOSArch (*)R versionInstalled pkgs
nebbiolo1Linux (Ubuntu 24.04.3 LTS)x86_64R Under development (unstable) (2025-10-20 r88955) -- "Unsuffered Consequences" 4788
Click on any hostname to see more info about the system (e.g. compilers)      (*) as reported by 'uname -p', except on Windows and Mac OS X

Package 2074/2323HostnameOS / ArchINSTALLBUILDCHECKBUILD BIN
SplicingGraphs 1.51.1  (landing page)
H. Pagès
Snapshot Date: 2025-11-03 13:40 -0500 (Mon, 03 Nov 2025)
git_url: https://git.bioconductor.org/packages/SplicingGraphs
git_branch: devel
git_last_commit: 8abbef9
git_last_commit_date: 2025-11-02 12:50:45 -0500 (Sun, 02 Nov 2025)
nebbiolo1Linux (Ubuntu 24.04.3 LTS) / x86_64  OK    OK    WARNINGS  NO, package depends on 'GenomicFeatures' which is not available


BUILD results for SplicingGraphs on nebbiolo1

To the developers/maintainers of the SplicingGraphs package:
- Allow up to 24 hours (and sometimes 48 hours) for your latest push to git@git.bioconductor.org:packages/SplicingGraphs.git to reflect on this report. See Troubleshooting Build Report for more information.
- Use the following Renviron settings to reproduce errors and warnings.
- If 'R CMD check' started to fail recently on the Linux builder(s) over a missing dependency, add the missing dependency to 'Suggests:' in your DESCRIPTION file. See Renviron.bioc for more information.

raw results


Summary

Package: SplicingGraphs
Version: 1.51.1
Command: /home/biocbuild/bbs-3.23-bioc/R/bin/R CMD build --keep-empty-dirs --no-resave-data SplicingGraphs
StartedAt: 2025-11-03 20:08:14 -0500 (Mon, 03 Nov 2025)
EndedAt: 2025-11-03 20:12:16 -0500 (Mon, 03 Nov 2025)
EllapsedTime: 242.2 seconds
RetCode: 0
Status:   OK  
PackageFile: SplicingGraphs_1.51.1.tar.gz
PackageFileSize: 4.474 MiB

Command output

##############################################################################
##############################################################################
###
### Running command:
###
###   /home/biocbuild/bbs-3.23-bioc/R/bin/R CMD build --keep-empty-dirs --no-resave-data SplicingGraphs
###
##############################################################################
##############################################################################


* checking for file ‘SplicingGraphs/DESCRIPTION’ ... OK
* preparing ‘SplicingGraphs’:
* checking DESCRIPTION meta-information ... OK
* installing the package (it is needed to build vignettes)
* creating vignettes ... OK
* checking for LF line-endings in source and make files and shell scripts
* checking for empty or unneeded directories
  NB: this package now depends on R (>= 3.5.0)
  WARNING: Added dependency on R >= 3.5.0 because serialized objects in
  serialize/load version 3 cannot be read in older versions of R.
  File(s) containing such objects:
    ‘SplicingGraphs/inst/extdata/TSPCsg.rda’
    ‘SplicingGraphs/vignettes/precomputed_results/sg_with_bubbles.rds’
* building ‘SplicingGraphs_1.51.1.tar.gz’