Back to Multiple platform build/check report for BioC 3.21:   simplified   long
ABCDEFGHIJKLMNOPQR[S]TUVWXYZ

This page was generated on 2025-02-01 11:45 -0500 (Sat, 01 Feb 2025).

HostnameOSArch (*)R versionInstalled pkgs
nebbiolo1Linux (Ubuntu 24.04.1 LTS)x86_64R Under development (unstable) (2025-01-20 r87609) -- "Unsuffered Consequences" 4704
palomino7Windows Server 2022 Datacenterx64R Under development (unstable) (2025-01-21 r87610 ucrt) -- "Unsuffered Consequences" 4467
lconwaymacOS 12.7.1 Montereyx86_64R Under development (unstable) (2025-01-22 r87618) -- "Unsuffered Consequences" 4478
kjohnson3macOS 13.7.1 Venturaarm64R Under development (unstable) (2025-01-20 r87609) -- "Unsuffered Consequences" 4431
Click on any hostname to see more info about the system (e.g. compilers)      (*) as reported by 'uname -p', except on Windows and Mac OS X

Package 2016/2289HostnameOS / ArchINSTALLBUILDCHECKBUILD BIN
SpatialFeatureExperiment 1.9.7  (landing page)
Lambda Moses
Snapshot Date: 2025-01-31 13:40 -0500 (Fri, 31 Jan 2025)
git_url: https://git.bioconductor.org/packages/SpatialFeatureExperiment
git_branch: devel
git_last_commit: 8f09582
git_last_commit_date: 2025-01-28 14:20:39 -0500 (Tue, 28 Jan 2025)
nebbiolo1Linux (Ubuntu 24.04.1 LTS) / x86_64  OK    OK    OK  UNNEEDED, same version is already published
palomino7Windows Server 2022 Datacenter / x64  OK    OK    OK    OK  UNNEEDED, same version is already published
lconwaymacOS 12.7.1 Monterey / x86_64  OK    OK    OK    OK  UNNEEDED, same version is already published
kjohnson3macOS 13.7.1 Ventura / arm64  OK    OK    ERROR    OK  


CHECK results for SpatialFeatureExperiment on kjohnson3

To the developers/maintainers of the SpatialFeatureExperiment package:
- Allow up to 24 hours (and sometimes 48 hours) for your latest push to git@git.bioconductor.org:packages/SpatialFeatureExperiment.git to reflect on this report. See Troubleshooting Build Report for more information.
- Use the following Renviron settings to reproduce errors and warnings.
- If 'R CMD check' started to fail recently on the Linux builder(s) over a missing dependency, add the missing dependency to 'Suggests:' in your DESCRIPTION file. See Renviron.bioc for more information.

raw results


Summary

Package: SpatialFeatureExperiment
Version: 1.9.7
Command: /Library/Frameworks/R.framework/Resources/bin/R CMD check --install=check:SpatialFeatureExperiment.install-out.txt --library=/Library/Frameworks/R.framework/Resources/library --no-vignettes --timings SpatialFeatureExperiment_1.9.7.tar.gz
StartedAt: 2025-01-31 21:33:21 -0500 (Fri, 31 Jan 2025)
EndedAt: 2025-01-31 21:40:23 -0500 (Fri, 31 Jan 2025)
EllapsedTime: 421.8 seconds
RetCode: 1
Status:   ERROR  
CheckDir: SpatialFeatureExperiment.Rcheck
Warnings: NA

Command output

##############################################################################
##############################################################################
###
### Running command:
###
###   /Library/Frameworks/R.framework/Resources/bin/R CMD check --install=check:SpatialFeatureExperiment.install-out.txt --library=/Library/Frameworks/R.framework/Resources/library --no-vignettes --timings SpatialFeatureExperiment_1.9.7.tar.gz
###
##############################################################################
##############################################################################


* using log directory ‘/Users/biocbuild/bbs-3.21-bioc/meat/SpatialFeatureExperiment.Rcheck’
* using R Under development (unstable) (2025-01-20 r87609)
* using platform: aarch64-apple-darwin20
* R was compiled by
    Apple clang version 14.0.0 (clang-1400.0.29.202)
    GNU Fortran (GCC) 14.2.0
* running under: macOS Ventura 13.7.1
* using session charset: UTF-8
* using option ‘--no-vignettes’
* checking for file ‘SpatialFeatureExperiment/DESCRIPTION’ ... OK
* checking extension type ... Package
* this is package ‘SpatialFeatureExperiment’ version ‘1.9.7’
* package encoding: UTF-8
* checking package namespace information ... OK
* checking package dependencies ... INFO
Imports includes 21 non-default packages.
Importing from so many packages makes the package vulnerable to any of
them becoming unavailable.  Move as many as possible to Suggests and
use conditionally.
* checking if this is a source package ... OK
* checking if there is a namespace ... OK
* checking for hidden files and directories ... OK
* checking for portable file names ... OK
* checking for sufficient/correct file permissions ... OK
* checking whether package ‘SpatialFeatureExperiment’ can be installed ... OK
* checking installed package size ... OK
* checking package directory ... OK
* checking ‘build’ directory ... OK
* checking DESCRIPTION meta-information ... OK
* checking top-level files ... OK
* checking for left-over files ... OK
* checking index information ... OK
* checking package subdirectories ... OK
* checking code files for non-ASCII characters ... OK
* checking R files for syntax errors ... OK
* checking whether the package can be loaded ... OK
* checking whether the package can be loaded with stated dependencies ... OK
* checking whether the package can be unloaded cleanly ... OK
* checking whether the namespace can be loaded with stated dependencies ... OK
* checking whether the namespace can be unloaded cleanly ... OK
* checking whether startup messages can be suppressed ... OK
* checking dependencies in R code ... NOTE
Unexported objects imported by ':::' calls:
  ‘S4Vectors:::disableValidity’ ‘spdep:::minmax.listw’
  See the note in ?`:::` about the use of this operator.
* checking S3 generic/method consistency ... OK
* checking replacement functions ... OK
* checking foreign function calls ... OK
* checking R code for possible problems ... NOTE
.seu_to_sfe: warning in do.call(setdiff, arg = assays_n): partial
  argument match of 'arg' to 'args'
.seu_to_sfe: warning in do.call(intersect, arg = assays_n): partial
  argument match of 'arg' to 'args'
.seu_to_sfe : <anonymous>: warning in do.call(setdiff, arg = assays_n):
  partial argument match of 'arg' to 'args'
.filter_polygons: no visible binding for global variable ‘ID_row’
.no_raw_bytes: no visible binding for global variable ‘xoa_version’
.no_raw_bytes: no visible binding for global variable ‘major_version’
.no_raw_bytes: no visible binding for global variable ‘minor_version’
.no_raw_bytes: no visible binding for global variable
  ‘instrument_version’
.read10xVisium: no visible global function definition for
  ‘spatialCoordsNames<-’
addTxTech: no visible binding for global variable ‘gene_col’
addTxTech: no visible binding for global variable ‘cell_col’
addTxTech: no visible binding for global variable ‘fn’
aggregateTx: no visible global function definition for ‘tail’
aggregateTxTech: no visible binding for global variable ‘gene_col’
aggregateTxTech: no visible binding for global variable ‘cell_col’
aggregateTxTech: no visible binding for global variable ‘fn’
aggregateTxTech: no visible binding for global variable ‘xoa_version’
aggregateTxTech: no visible binding for global variable ‘major_version’
aggregateTxTech: no visible binding for global variable ‘minor_version’
aggregateTxTech: no visible binding for global variable
  ‘instrument_version’
findVisiumHDGraph: no visible binding for global variable ‘..cols’
formatTxTech: no visible binding for global variable ‘gene_col’
formatTxTech: no visible binding for global variable ‘cell_col’
formatTxTech: no visible binding for global variable ‘fn’
readVizgen: no visible binding for global variable ‘img_df’
readXenium: no visible binding for global variable ‘xoa_version’
readXenium: no visible binding for global variable ‘major_version’
readXenium: no visible binding for global variable ‘minor_version’
readXenium: no visible binding for global variable ‘instrument_version’
readXenium: no visible binding for global variable ‘img_df’
Undefined global functions or variables:
  ..cols ID_row cell_col fn gene_col img_df instrument_version
  major_version minor_version spatialCoordsNames<- tail xoa_version
Consider adding
  importFrom("utils", "tail")
to your NAMESPACE file.
* checking Rd files ... OK
* checking Rd metadata ... OK
* checking Rd cross-references ... NOTE
Found the following Rd file(s) with Rd \link{} targets missing package
anchors:
  BioFormatsImage.Rd: Image
  ExtImage.Rd: Image
  Img-set-SpatialExperiment-method.Rd: addImg
  SpatRasterImage.Rd: rast, SpatRaster
  SpatialFeatureExperiment-class.Rd: SpatialExperiment,
    SingleCellExperiment
  SpatialFeatureExperiment-coercion.Rd: SpatialExperiment, DataFrame
  SpatialFeatureExperiment.Rd: DataFrame, SpatialExperiment,
    SingleCellExperiment
  aggregate-SpatialFeatureExperiment-method.Rd: BiocParallelParam
  annotOp.Rd: st_intersection
  annotPred.Rd: st_intersects
  annotSummary.Rd: st_intersects
  colFeatureData.Rd: reducedDimNames
  crop.Rd: st_intersection, st_difference
  findSpatialNeighbors-SpatialFeatureExperiment-method.Rd: nb2listw,
    BiocParallelParam, BiocNeighborParam, KmknnParam, VptreeParam
  formatTxSpots.Rd: BiocParallelParam
  formatTxTech.Rd: BiocParallelParam
  getParams.Rd: reducedDimNames
  readCosMX.Rd: BiocParallelParam
  readVizgen.Rd: SpatRaster, BiocParallelParam
  readXenium.Rd: BiocParallelParam
  saveRDS-SpatialFeatureExperiment-method.Rd: wrap
  spatialGraphs.Rd: SpatialExperiment
  st_any_pred.Rd: st_intersects
  updateObject.Rd: objectVersion
Please provide package anchors for all Rd \link{} targets not in the
package itself and the base packages.
* checking for missing documentation entries ... OK
* checking for code/documentation mismatches ... OK
* checking Rd \usage sections ... OK
* checking Rd contents ... OK
* checking for unstated dependencies in examples ... OK
* checking contents of ‘data’ directory ... OK
* checking data for non-ASCII characters ... OK
* checking data for ASCII and uncompressed saves ... OK
* checking R/sysdata.rda ... OK
* checking files in ‘vignettes’ ... OK
* checking examples ... OK
Examples with CPU (user + system) or elapsed time > 5s
                                  user system elapsed
Img-set-SpatialExperiment-method 6.745  0.662   6.754
formatTxSpots                    5.141  0.435   5.572
* checking for unstated dependencies in ‘tests’ ... OK
* checking tests ...
  Running ‘testthat.R’
 ERROR
Running the tests in ‘tests/testthat.R’ failed.
Last 13 lines of output:
  ══ Failed tests ════════════════════════════════════════════════════════════════
  ── Failure ('test-aggregate.R:75:5'): aggregateTxTech for Vizgen ───────────────
  all(st_area(colGeometry(sfe)) == 400) is not TRUE
  
  `actual`:   FALSE
  `expected`: TRUE 
  ── Failure ('test-formatTxSpots.R:13:5'): Read MERFISH transcript spots into rowGeometries ──
  sum(v$mosaic_PolyT_z3 < 30, na.rm = TRUE) < 10 is not TRUE
  
  `actual`:   FALSE
  `expected`: TRUE 
  
  [ FAIL 2 | WARN 0 | SKIP 10 | PASS 1255 ]
  Error: Test failures
  Execution halted
* checking for unstated dependencies in vignettes ... OK
* checking package vignettes ... OK
* checking running R code from vignettes ... SKIPPED
* checking re-building of vignette outputs ... SKIPPED
* checking PDF version of manual ... OK
* DONE

Status: 1 ERROR, 3 NOTEs
See
  ‘/Users/biocbuild/bbs-3.21-bioc/meat/SpatialFeatureExperiment.Rcheck/00check.log’
for details.


Installation output

SpatialFeatureExperiment.Rcheck/00install.out

##############################################################################
##############################################################################
###
### Running command:
###
###   /Library/Frameworks/R.framework/Resources/bin/R CMD INSTALL SpatialFeatureExperiment
###
##############################################################################
##############################################################################


* installing to library ‘/Library/Frameworks/R.framework/Versions/4.5-arm64/Resources/library’
* installing *source* package ‘SpatialFeatureExperiment’ ...
** this is package ‘SpatialFeatureExperiment’ version ‘1.9.7’
** using staged installation
** R
** data
** inst
** byte-compile and prepare package for lazy loading
in method for ‘toSpatialFeatureExperiment’ with signature ‘"Seurat"’: no definition for class “Seurat”
Creating a generic function for ‘NROW’ from package ‘base’ in package ‘SpatialFeatureExperiment’
Creating a generic function for ‘NCOL’ from package ‘base’ in package ‘SpatialFeatureExperiment’
Creating a generic function for ‘saveRDS’ from package ‘base’ in package ‘SpatialFeatureExperiment’
Creating a generic function for ‘readRDS’ from package ‘base’ in package ‘SpatialFeatureExperiment’
** help
*** installing help indices
** building package indices
** installing vignettes
** testing if installed package can be loaded from temporary location
** testing if installed package can be loaded from final location
** testing if installed package keeps a record of temporary installation path
* DONE (SpatialFeatureExperiment)

Tests output

SpatialFeatureExperiment.Rcheck/tests/testthat.Rout.fail


R Under development (unstable) (2025-01-20 r87609) -- "Unsuffered Consequences"
Copyright (C) 2025 The R Foundation for Statistical Computing
Platform: aarch64-apple-darwin20

R is free software and comes with ABSOLUTELY NO WARRANTY.
You are welcome to redistribute it under certain conditions.
Type 'license()' or 'licence()' for distribution details.

R is a collaborative project with many contributors.
Type 'contributors()' for more information and
'citation()' on how to cite R or R packages in publications.

Type 'demo()' for some demos, 'help()' for on-line help, or
'help.start()' for an HTML browser interface to help.
Type 'q()' to quit R.

> library(testthat)
> library(SpatialFeatureExperiment)

Attaching package: 'SpatialFeatureExperiment'

The following object is masked from 'package:base':

    scale

> 
> test_check("SpatialFeatureExperiment")
Linking to GEOS 3.11.0, GDAL 3.5.3, PROJ 9.1.0; sf_use_s2() is TRUE
Loading required package: SummarizedExperiment
Loading required package: MatrixGenerics
Loading required package: matrixStats

Attaching package: 'MatrixGenerics'

The following objects are masked from 'package:matrixStats':

    colAlls, colAnyNAs, colAnys, colAvgsPerRowSet, colCollapse,
    colCounts, colCummaxs, colCummins, colCumprods, colCumsums,
    colDiffs, colIQRDiffs, colIQRs, colLogSumExps, colMadDiffs,
    colMads, colMaxs, colMeans2, colMedians, colMins, colOrderStats,
    colProds, colQuantiles, colRanges, colRanks, colSdDiffs, colSds,
    colSums2, colTabulates, colVarDiffs, colVars, colWeightedMads,
    colWeightedMeans, colWeightedMedians, colWeightedSds,
    colWeightedVars, rowAlls, rowAnyNAs, rowAnys, rowAvgsPerColSet,
    rowCollapse, rowCounts, rowCummaxs, rowCummins, rowCumprods,
    rowCumsums, rowDiffs, rowIQRDiffs, rowIQRs, rowLogSumExps,
    rowMadDiffs, rowMads, rowMaxs, rowMeans2, rowMedians, rowMins,
    rowOrderStats, rowProds, rowQuantiles, rowRanges, rowRanks,
    rowSdDiffs, rowSds, rowSums2, rowTabulates, rowVarDiffs, rowVars,
    rowWeightedMads, rowWeightedMeans, rowWeightedMedians,
    rowWeightedSds, rowWeightedVars

Loading required package: GenomicRanges
Loading required package: stats4
Loading required package: BiocGenerics
Loading required package: generics

Attaching package: 'generics'

The following objects are masked from 'package:base':

    as.difftime, as.factor, as.ordered, intersect, is.element, setdiff,
    setequal, union


Attaching package: 'BiocGenerics'

The following object is masked from 'package:SpatialFeatureExperiment':

    saveRDS

The following objects are masked from 'package:stats':

    IQR, mad, sd, var, xtabs

The following objects are masked from 'package:base':

    Filter, Find, Map, Position, Reduce, anyDuplicated, aperm, append,
    as.data.frame, basename, cbind, colnames, dirname, do.call,
    duplicated, eval, evalq, get, grep, grepl, is.unsorted, lapply,
    mapply, match, mget, order, paste, pmax, pmax.int, pmin, pmin.int,
    rank, rbind, rownames, sapply, saveRDS, table, tapply, unique,
    unsplit, which.max, which.min

Loading required package: S4Vectors

Attaching package: 'S4Vectors'

The following objects are masked from 'package:Matrix':

    expand, unname

The following object is masked from 'package:utils':

    findMatches

The following objects are masked from 'package:base':

    I, expand.grid, unname

Loading required package: IRanges
Loading required package: GenomeInfoDb
Loading required package: Biobase
Welcome to Bioconductor

    Vignettes contain introductory material; view with
    'browseVignettes()'. To cite Bioconductor, see
    'citation("Biobase")', and for packages 'citation("pkgname")'.


Attaching package: 'Biobase'

The following object is masked from 'package:MatrixGenerics':

    rowMedians

The following objects are masked from 'package:matrixStats':

    anyMissing, rowMedians


Attaching package: 'arrow'

The following object is masked from 'package:BiocGenerics':

    type

The following object is masked from 'package:testthat':

    matches

The following object is masked from 'package:utils':

    timestamp

see ?SFEData and browseVignettes('SFEData') for documentation
loading from cache
The downloaded files are in /private/var/folders/r0/l4fjk6cj5xj0j3brt4bplpl40000gt/T/RtmpTLFL7s/file7b6f24cb47df/xenium2 
see ?SFEData and browseVignettes('SFEData') for documentation
loading from cache
The downloaded files are in /private/var/folders/r0/l4fjk6cj5xj0j3brt4bplpl40000gt/T/RtmpTLFL7s/file7b6f24cb47df/vizgen_cellbound_Cellpose 
>>> Must use gene symbols as row names when adding transcript spots.
>>> Cell segmentations are found in `.parquet` file(s)
>>> Reading cell and nucleus segmentations
>>> Making MULTIPOLYGON nuclei geometries
>>> Making POLYGON cell geometries
Sanity checks on cell segmentation polygons:
>>> ..found 132 cells with (nested) polygon lists
>>> ..applying filtering
>>> Checking polygon validity
>>> Saving geometries to parquet files
>>> Reading cell metadata -> `cells.parquet`
>>> Reading h5 gene count matrix
>>> filtering cellSeg geometries to match 6272 cells with counts > 0
>>> filtering nucSeg geometries to match 6158 cells with counts > 0
>>> Reading transcript coordinates
>>> Converting transcript spots to geometry
>>> Writing reformatted transcript spots to disk
>>> Total of 116 features/genes with no transcript detected or `min_phred` < 20 are removed from SFE object
>>> To keep all features -> set `min_phred = NULL`
>>> Must use gene symbols as row names when adding transcript spots.
>>> Preprocessed sf segmentations found
>>> Reading cell and nucleus segmentations
>>> Reading cell metadata -> `cells.parquet`
>>> Reading h5 gene count matrix
>>> filtering cellSeg geometries to match 6272 cells with counts > 0
>>> filtering nucSeg geometries to match 6158 cells with counts > 0
>>> Reading transcript coordinates
>>> Total of 116 features/genes with no transcript detected or `min_phred` < 20 are removed from SFE object
>>> To keep all features -> set `min_phred = NULL`
>>> 10X Visium data will be loaded: outs

>>> Adding spatial neighborhood graph to sample01

see ?SFEData and browseVignettes('SFEData') for documentation
loading from cache
The downloaded files are in /Users/biocbuild/bbs-3.21-bioc/meat/SpatialFeatureExperiment.Rcheck/tests/testthat/xenium_lr 
>>> Cell segmentations are found in `.csv` file(s)
>>> Reading cell and nucleus segmentations
>>> Making POLYGON geometries
>>> Checking polygon validity
>>> Saving geometries to parquet files
>>> Reading cell metadata -> `cells.csv`
>>> Reading h5 gene count matrix
>>> filtering cellSeg geometries to match 16324 cells with counts > 0
>>> filtering nucSeg geometries to match 16324 cells with counts > 0
Loading required package: scuttle
Loading required package: ggplot2

Attaching package: 'ggplot2'

The following object is masked from 'package:SpatialFeatureExperiment':

    unit

Loading required package: spData
To access larger datasets in this package, install the spDataLarge
package with: `install.packages('spDataLarge',
repos='https://nowosad.github.io/drat/', type='source')`
see ?SFEData and browseVignettes('SFEData') for documentation
loading from cache
see ?SFEData and browseVignettes('SFEData') for documentation
loading from cache
see ?SFEData and browseVignettes('SFEData') for documentation
loading from cache
The downloaded files are in /private/var/folders/r0/l4fjk6cj5xj0j3brt4bplpl40000gt/T/RtmpTLFL7s/file7b6f26aaa053/vizgen_cellbound 
>>> 1 `.parquet` files exist:
/private/var/folders/r0/l4fjk6cj5xj0j3brt4bplpl40000gt/T/RtmpTLFL7s/file7b6f26aaa053/vizgen_cellbound/cell_boundaries.parquet
>>> using -> /private/var/folders/r0/l4fjk6cj5xj0j3brt4bplpl40000gt/T/RtmpTLFL7s/file7b6f26aaa053/vizgen_cellbound/cell_boundaries.parquet
>>> Cell segmentations are found in `.parquet` file
>>> Checking polygon validity
>>> Reading transcript coordinates
>>> Converting transcript spots to geometry
>>> Writing reformatted transcript spots to disk
see ?SFEData and browseVignettes('SFEData') for documentation
loading from cache
The downloaded files are in /private/var/folders/r0/l4fjk6cj5xj0j3brt4bplpl40000gt/T/RtmpTLFL7s/file7b6f768431be/vizgen_cellbound 
>>> Converting transcript spots to geometry
>>> 1 `.parquet` files exist:
/private/var/folders/r0/l4fjk6cj5xj0j3brt4bplpl40000gt/T/RtmpTLFL7s/file7b6f768431be/vizgen_cellbound/cell_boundaries.parquet
>>> using -> /private/var/folders/r0/l4fjk6cj5xj0j3brt4bplpl40000gt/T/RtmpTLFL7s/file7b6f768431be/vizgen_cellbound/cell_boundaries.parquet
>>> Cell segmentations are found in `.parquet` file
>>> Checking polygon validity
>>> Converting transcript spots to geometry
>>> Writing reformatted transcript spots to disk

  |                                                                            
  |                                                                      |   0%
  |                                                                            
  |=                                                                     |   2%
  |                                                                            
  |==                                                                    |   3%
  |                                                                            
  |===                                                                   |   5%
  |                                                                            
  |=====                                                                 |   6%
  |                                                                            
  |======                                                                |   8%
  |                                                                            
  |=======                                                               |  10%
  |                                                                            
  |========                                                              |  11%
  |                                                                            
  |=========                                                             |  13%
  |                                                                            
  |==========                                                            |  15%
  |                                                                            
  |===========                                                           |  16%
  |                                                                            
  |============                                                          |  18%
  |                                                                            
  |==============                                                        |  19%
  |                                                                            
  |===============                                                       |  21%
  |                                                                            
  |================                                                      |  23%
  |                                                                            
  |=================                                                     |  24%
  |                                                                            
  |==================                                                    |  26%
  |                                                                            
  |===================                                                   |  27%
  |                                                                            
  |====================                                                  |  29%
  |                                                                            
  |=====================                                                 |  31%
  |                                                                            
  |=======================                                               |  32%
  |                                                                            
  |========================                                              |  34%
  |                                                                            
  |=========================                                             |  35%
  |                                                                            
  |==========================                                            |  37%
  |                                                                            
  |===========================                                           |  39%
  |                                                                            
  |============================                                          |  40%
  |                                                                            
  |=============================                                         |  42%
  |                                                                            
  |==============================                                        |  44%
  |                                                                            
  |================================                                      |  45%
  |                                                                            
  |=================================                                     |  47%
  |                                                                            
  |==================================                                    |  48%
  |                                                                            
  |===================================                                   |  50%
  |                                                                            
  |====================================                                  |  52%
  |                                                                            
  |=====================================                                 |  53%
  |                                                                            
  |======================================                                |  55%
  |                                                                            
  |========================================                              |  56%
  |                                                                            
  |=========================================                             |  58%
  |                                                                            
  |==========================================                            |  60%
  |                                                                            
  |===========================================                           |  61%
  |                                                                            
  |============================================                          |  63%
  |                                                                            
  |=============================================                         |  65%
  |                                                                            
  |==============================================                        |  66%
  |                                                                            
  |===============================================                       |  68%
  |                                                                            
  |=================================================                     |  69%
  |                                                                            
  |==================================================                    |  71%
  |                                                                            
  |===================================================                   |  73%
  |                                                                            
  |====================================================                  |  74%
  |                                                                            
  |=====================================================                 |  76%
  |                                                                            
  |======================================================                |  77%
  |                                                                            
  |=======================================================               |  79%
  |                                                                            
  |========================================================              |  81%
  |                                                                            
  |==========================================================            |  82%
  |                                                                            
  |===========================================================           |  84%
  |                                                                            
  |============================================================          |  85%
  |                                                                            
  |=============================================================         |  87%
  |                                                                            
  |==============================================================        |  89%
  |                                                                            
  |===============================================================       |  90%
  |                                                                            
  |================================================================      |  92%
  |                                                                            
  |=================================================================     |  94%
  |                                                                            
  |===================================================================   |  95%
  |                                                                            
  |====================================================================  |  97%
  |                                                                            
  |===================================================================== |  98%
  |                                                                            
  |======================================================================| 100%

see ?SFEData and browseVignettes('SFEData') for documentation
loading from cache
The downloaded files are in /private/var/folders/r0/l4fjk6cj5xj0j3brt4bplpl40000gt/T/RtmpTLFL7s/file7b6f1888292b/vizgen_cellbound 
>>> Converting transcript spots to geometry
see ?SFEData and browseVignettes('SFEData') for documentation
loading from cache
The downloaded files are in /private/var/folders/r0/l4fjk6cj5xj0j3brt4bplpl40000gt/T/RtmpTLFL7s/file7b6f24df8200/cosmx 
>>> Converting transcript spots to geometry
>>> Writing reformatted transcript spots to disk

  |                                                                            
  |                                                                      |   0%
  |                                                                            
  |                                                                      |   1%
  |                                                                            
  |=                                                                     |   1%
  |                                                                            
  |=                                                                     |   2%
  |                                                                            
  |==                                                                    |   2%
  |                                                                            
  |==                                                                    |   3%
  |                                                                            
  |==                                                                    |   4%
  |                                                                            
  |===                                                                   |   4%
  |                                                                            
  |===                                                                   |   5%
  |                                                                            
  |====                                                                  |   5%
  |                                                                            
  |====                                                                  |   6%
  |                                                                            
  |=====                                                                 |   6%
  |                                                                            
  |=====                                                                 |   7%
  |                                                                            
  |=====                                                                 |   8%
  |                                                                            
  |======                                                                |   8%
  |                                                                            
  |======                                                                |   9%
  |                                                                            
  |=======                                                               |   9%
  |                                                                            
  |=======                                                               |  10%
  |                                                                            
  |=======                                                               |  11%
  |                                                                            
  |========                                                              |  11%
  |                                                                            
  |========                                                              |  12%
  |                                                                            
  |=========                                                             |  12%
  |                                                                            
  |=========                                                             |  13%
  |                                                                            
  |=========                                                             |  14%
  |                                                                            
  |==========                                                            |  14%
  |                                                                            
  |==========                                                            |  15%
  |                                                                            
  |===========                                                           |  15%
  |                                                                            
  |===========                                                           |  16%
  |                                                                            
  |============                                                          |  16%
  |                                                                            
  |============                                                          |  17%
  |                                                                            
  |============                                                          |  18%
  |                                                                            
  |=============                                                         |  18%
  |                                                                            
  |=============                                                         |  19%
  |                                                                            
  |==============                                                        |  19%
  |                                                                            
  |==============                                                        |  20%
  |                                                                            
  |==============                                                        |  21%
  |                                                                            
  |===============                                                       |  21%
  |                                                                            
  |===============                                                       |  22%
  |                                                                            
  |================                                                      |  22%
  |                                                                            
  |================                                                      |  23%
  |                                                                            
  |================                                                      |  24%
  |                                                                            
  |=================                                                     |  24%
  |                                                                            
  |=================                                                     |  25%
  |                                                                            
  |==================                                                    |  25%
  |                                                                            
  |==================                                                    |  26%
  |                                                                            
  |===================                                                   |  26%
  |                                                                            
  |===================                                                   |  27%
  |                                                                            
  |===================                                                   |  28%
  |                                                                            
  |====================                                                  |  28%
  |                                                                            
  |====================                                                  |  29%
  |                                                                            
  |=====================                                                 |  29%
  |                                                                            
  |=====================                                                 |  30%
  |                                                                            
  |=====================                                                 |  31%
  |                                                                            
  |======================                                                |  31%
  |                                                                            
  |======================                                                |  32%
  |                                                                            
  |=======================                                               |  32%
  |                                                                            
  |=======================                                               |  33%
  |                                                                            
  |========================                                              |  34%
  |                                                                            
  |========================                                              |  35%
  |                                                                            
  |=========================                                             |  35%
  |                                                                            
  |=========================                                             |  36%
  |                                                                            
  |==========================                                            |  37%
  |                                                                            
  |==========================                                            |  38%
  |                                                                            
  |===========================                                           |  38%
  |                                                                            
  |===========================                                           |  39%
  |                                                                            
  |============================                                          |  39%
  |                                                                            
  |============================                                          |  40%
  |                                                                            
  |============================                                          |  41%
  |                                                                            
  |=============================                                         |  41%
  |                                                                            
  |=============================                                         |  42%
  |                                                                            
  |==============================                                        |  42%
  |                                                                            
  |==============================                                        |  43%
  |                                                                            
  |===============================                                       |  44%
  |                                                                            
  |===============================                                       |  45%
  |                                                                            
  |================================                                      |  45%
  |                                                                            
  |================================                                      |  46%
  |                                                                            
  |=================================                                     |  47%
  |                                                                            
  |=================================                                     |  48%
  |                                                                            
  |==================================                                    |  48%
  |                                                                            
  |==================================                                    |  49%
  |                                                                            
  |===================================                                   |  49%
  |                                                                            
  |===================================                                   |  50%
  |                                                                            
  |===================================                                   |  51%
  |                                                                            
  |====================================                                  |  51%
  |                                                                            
  |====================================                                  |  52%
  |                                                                            
  |=====================================                                 |  52%
  |                                                                            
  |=====================================                                 |  53%
  |                                                                            
  |======================================                                |  54%
  |                                                                            
  |======================================                                |  55%
  |                                                                            
  |=======================================                               |  55%
  |                                                                            
  |=======================================                               |  56%
  |                                                                            
  |========================================                              |  57%
  |                                                                            
  |========================================                              |  58%
  |                                                                            
  |=========================================                             |  58%
  |                                                                            
  |=========================================                             |  59%
  |                                                                            
  |==========================================                            |  59%
  |                                                                            
  |==========================================                            |  60%
  |                                                                            
  |==========================================                            |  61%
  |                                                                            
  |===========================================                           |  61%
  |                                                                            
  |===========================================                           |  62%
  |                                                                            
  |============================================                          |  62%
  |                                                                            
  |============================================                          |  63%
  |                                                                            
  |=============================================                         |  64%
  |                                                                            
  |=============================================                         |  65%
  |                                                                            
  |==============================================                        |  65%
  |                                                                            
  |==============================================                        |  66%
  |                                                                            
  |===============================================                       |  67%
  |                                                                            
  |===============================================                       |  68%
  |                                                                            
  |================================================                      |  68%
  |                                                                            
  |================================================                      |  69%
  |                                                                            
  |=================================================                     |  69%
  |                                                                            
  |=================================================                     |  70%
  |                                                                            
  |=================================================                     |  71%
  |                                                                            
  |==================================================                    |  71%
  |                                                                            
  |==================================================                    |  72%
  |                                                                            
  |===================================================                   |  72%
  |                                                                            
  |===================================================                   |  73%
  |                                                                            
  |===================================================                   |  74%
  |                                                                            
  |====================================================                  |  74%
  |                                                                            
  |====================================================                  |  75%
  |                                                                            
  |=====================================================                 |  75%
  |                                                                            
  |=====================================================                 |  76%
  |                                                                            
  |======================================================                |  76%
  |                                                                            
  |======================================================                |  77%
  |                                                                            
  |======================================================                |  78%
  |                                                                            
  |=======================================================               |  78%
  |                                                                            
  |=======================================================               |  79%
  |                                                                            
  |========================================================              |  79%
  |                                                                            
  |========================================================              |  80%
  |                                                                            
  |========================================================              |  81%
  |                                                                            
  |=========================================================             |  81%
  |                                                                            
  |=========================================================             |  82%
  |                                                                            
  |==========================================================            |  82%
  |                                                                            
  |==========================================================            |  83%
  |                                                                            
  |==========================================================            |  84%
  |                                                                            
  |===========================================================           |  84%
  |                                                                            
  |===========================================================           |  85%
  |                                                                            
  |============================================================          |  85%
  |                                                                            
  |============================================================          |  86%
  |                                                                            
  |=============================================================         |  86%
  |                                                                            
  |=============================================================         |  87%
  |                                                                            
  |=============================================================         |  88%
  |                                                                            
  |==============================================================        |  88%
  |                                                                            
  |==============================================================        |  89%
  |                                                                            
  |===============================================================       |  89%
  |                                                                            
  |===============================================================       |  90%
  |                                                                            
  |===============================================================       |  91%
  |                                                                            
  |================================================================      |  91%
  |                                                                            
  |================================================================      |  92%
  |                                                                            
  |=================================================================     |  92%
  |                                                                            
  |=================================================================     |  93%
  |                                                                            
  |=================================================================     |  94%
  |                                                                            
  |==================================================================    |  94%
  |                                                                            
  |==================================================================    |  95%
  |                                                                            
  |===================================================================   |  95%
  |                                                                            
  |===================================================================   |  96%
  |                                                                            
  |====================================================================  |  96%
  |                                                                            
  |====================================================================  |  97%
  |                                                                            
  |====================================================================  |  98%
  |                                                                            
  |===================================================================== |  98%
  |                                                                            
  |===================================================================== |  99%
  |                                                                            
  |======================================================================|  99%
  |                                                                            
  |======================================================================| 100%

see ?SFEData and browseVignettes('SFEData') for documentation
loading from cache
The downloaded files are in /private/var/folders/r0/l4fjk6cj5xj0j3brt4bplpl40000gt/T/RtmpTLFL7s/file7b6ffe88cca/xenium2 
>>> Converting transcript spots to geometry
>>> Writing reformatted transcript spots to disk
terra 1.8.15

Attaching package: 'terra'

The following object is masked from 'package:arrow':

    buffer

The following objects are masked from 'package:SummarizedExperiment':

    distance, nearest, shift, trim, values, values<-, width

The following objects are masked from 'package:GenomicRanges':

    distance, gaps, nearest, shift, trim, values, values<-, width

The following objects are masked from 'package:IRanges':

    distance, gaps, nearest, shift, trim, width

The following objects are masked from 'package:S4Vectors':

    values, values<-, width

The following object is masked from 'package:BiocGenerics':

    width

The following object is masked from 'package:generics':

    interpolate

The following objects are masked from 'package:SpatialFeatureExperiment':

    centroids, crop, origin, rotate

The following objects are masked from 'package:testthat':

    compare, describe

see ?SFEData and browseVignettes('SFEData') for documentation
loading from cache
The downloaded files are in /private/var/folders/r0/l4fjk6cj5xj0j3brt4bplpl40000gt/T/RtmpTLFL7s/file7b6f596833c8/cosmx 
>>> Constructing cell polygons
>>> Checking polygon validity
>>> Reading transcript coordinates
>>> Converting transcript spots to geometry
>>> Writing reformatted transcript spots to disk
see ?SFEData and browseVignettes('SFEData') for documentation
loading from cache
see ?SFEData and browseVignettes('SFEData') for documentation
loading from cache
trying URL 'https://cf.10xgenomics.com/samples/spatial-exp/2.0.0/Visium_Mouse_Olfactory_Bulb/Visium_Mouse_Olfactory_Bulb_filtered_feature_bc_matrix.h5'
Content type 'binary/octet-stream' length 7521734 bytes (7.2 MB)
==================================================
downloaded 7.2 MB

trying URL 'https://cf.10xgenomics.com/samples/spatial-exp/2.0.0/Visium_Mouse_Olfactory_Bulb/Visium_Mouse_Olfactory_Bulb_spatial.tar.gz'
Content type 'application/x-tar' length 7806681 bytes (7.4 MB)
==================================================
downloaded 7.4 MB

>>> 10X Visium data will be loaded: outs

>>> Adding spatial neighborhood graph to sample01

see ?SFEData and browseVignettes('SFEData') for documentation
loading from cache
The downloaded files are in /private/var/folders/r0/l4fjk6cj5xj0j3brt4bplpl40000gt/T/RtmpTLFL7s/file7b6f477380c2/cosmx 
>>> Constructing cell polygons
>>> Checking polygon validity
>>> Reading transcript coordinates
>>> Converting transcript spots to geometry
>>> Writing reformatted transcript spots to disk
BioFormats library version 7.3.0

Attaching package: 'EBImage'

The following objects are masked from 'package:terra':

    flip, rotate, watershed

The following object is masked from 'package:SummarizedExperiment':

    resize

The following object is masked from 'package:Biobase':

    channel

The following objects are masked from 'package:GenomicRanges':

    resize, tile

The following objects are masked from 'package:IRanges':

    resize, tile

The following objects are masked from 'package:SpatialFeatureExperiment':

    affine, rotate, translate, transpose

see ?SFEData and browseVignettes('SFEData') for documentation
loading from cache
The downloaded files are in /private/var/folders/r0/l4fjk6cj5xj0j3brt4bplpl40000gt/T/RtmpTLFL7s/file7b6f1ed5eec1/xenium_lr 
>>> Cell segmentations are found in `.csv` file(s)
>>> Reading cell and nucleus segmentations
>>> Making POLYGON geometries
>>> Checking polygon validity
>>> Saving geometries to parquet files
>>> Reading cell metadata -> `cells.csv`
>>> Reading h5 gene count matrix
>>> filtering cellSeg geometries to match 16324 cells with counts > 0
>>> filtering nucSeg geometries to match 16324 cells with counts > 0
>>> Must use gene symbols as row names when adding transcript spots.
>>> Preprocessed sf segmentations found
>>> Reading cell and nucleus segmentations
>>> Reading cell metadata -> `cells.csv`
>>> Reading h5 gene count matrix
>>> filtering cellSeg geometries to match 16324 cells with counts > 0
>>> filtering nucSeg geometries to match 16324 cells with counts > 0
>>> Reading transcript coordinates
>>> Converting transcript spots to geometry
>>> Writing reformatted transcript spots to disk
>>> Total of 484 features/genes with no transcript detected or `min_phred` < 20 are removed from SFE object
>>> To keep all features -> set `min_phred = NULL`
Actual mean:  0.9850527see ?SFEData and browseVignettes('SFEData') for documentation
loading from cache
see ?SFEData and browseVignettes('SFEData') for documentation
loading from cache
Testing dist_type none style W 
Testing dist_type idw style W 
Testing dist_type exp style W 
Testing dist_type dpd style W 
Testing dist_type idw style raw 
Testing dist_type idw style W 
Testing dist_type idw style B 
Testing dist_type idw style C 
Testing dist_type idw style U 
Testing dist_type idw style minmax 
Testing dist_type idw style S 
Testing dist_type none style W 
Testing dist_type idw style W 
Testing dist_type exp style W 
Testing dist_type dpd style W 
Testing dist_type idw style raw 
Testing dist_type idw style W 
Testing dist_type idw style B 
Testing dist_type idw style C 
Testing dist_type idw style U 
Testing dist_type idw style minmax 
Testing dist_type idw style S 
see ?SFEData and browseVignettes('SFEData') for documentation
loading from cache
see ?SFEData and browseVignettes('SFEData') for documentation
loading from cache
The downloaded files are in /private/var/folders/r0/l4fjk6cj5xj0j3brt4bplpl40000gt/T/RtmpTLFL7s/file7b6f6d279640/xenium_lr 
see ?SFEData and browseVignettes('SFEData') for documentation
loading from cache
The downloaded files are in /private/var/folders/r0/l4fjk6cj5xj0j3brt4bplpl40000gt/T/RtmpTLFL7s/file7b6f2b65d418/vizgen_cellbound 
see ?SFEData and browseVignettes('SFEData') for documentation
loading from cache
The downloaded files are in /private/var/folders/r0/l4fjk6cj5xj0j3brt4bplpl40000gt/T/RtmpTLFL7s/file7b6f438e89f8/xenium_lr 
see ?SFEData and browseVignettes('SFEData') for documentation
loading from cache
The downloaded files are in /private/var/folders/r0/l4fjk6cj5xj0j3brt4bplpl40000gt/T/RtmpTLFL7s/file7b6f3b34aa9b/xenium2 
>>> Cell segmentations are found in `.parquet` file(s)
>>> Reading cell and nucleus segmentations
>>> Making MULTIPOLYGON nuclei geometries
>>> Making POLYGON cell geometries
Sanity checks on cell segmentation polygons:
>>> ..found 132 cells with (nested) polygon lists
>>> ..applying filtering
>>> Checking polygon validity
>>> Saving geometries to parquet files
>>> Reading cell metadata -> `cells.parquet`
>>> Reading h5 gene count matrix
>>> filtering cellSeg geometries to match 6272 cells with counts > 0
>>> filtering nucSeg geometries to match 6158 cells with counts > 0
see ?SFEData and browseVignettes('SFEData') for documentation
loading from cache
The downloaded files are in /private/var/folders/r0/l4fjk6cj5xj0j3brt4bplpl40000gt/T/RtmpTLFL7s/file7b6f5573fa09/xenium2 
>>> Cell segmentations are found in `.parquet` file(s)
>>> Reading cell and nucleus segmentations
>>> Making MULTIPOLYGON nuclei geometries
>>> Making POLYGON cell geometries
Sanity checks on cell segmentation polygons:
>>> ..found 132 cells with (nested) polygon lists
>>> ..applying filtering
>>> Checking polygon validity
>>> Saving geometries to parquet files
>>> Reading cell metadata -> `cells.parquet`
>>> Reading h5 gene count matrix
>>> filtering cellSeg geometries to match 6272 cells with counts > 0
>>> filtering nucSeg geometries to match 6158 cells with counts > 0
see ?SFEData and browseVignettes('SFEData') for documentation
loading from cache
see ?SFEData and browseVignettes('SFEData') for documentation
loading from cache
>>> 10X Visium data will be loaded: outs

>>> Adding spatial neighborhood graph to sample01

>>> 10X Visium data will be loaded: outs

>>> Adding spatial neighborhood graph to sample02

>>> 10X Visium data will be loaded: outs

>>> Adding spatial neighborhood graph to sample01

trying URL 'https://cf.10xgenomics.com/samples/spatial-exp/1.0.0/V1_Mouse_Kidney/V1_Mouse_Kidney_filtered_feature_bc_matrix.h5'
Content type 'binary/octet-stream' length 10785331 bytes (10.3 MB)
==================================================
downloaded 10.3 MB

trying URL 'https://cf.10xgenomics.com/samples/spatial-exp/1.0.0/V1_Mouse_Kidney/V1_Mouse_Kidney_spatial.tar.gz'
Content type 'application/x-tar' length 8531653 bytes (8.1 MB)
==================================================
downloaded 8.1 MB

>>> 10X Visium data will be loaded: outs

>>> Adding spatial neighborhood graph to sample01

>>> 10X Visium data will be loaded: outs

>>> Adding spatial neighborhood graph to sample01

>>> 10X Visium data will be loaded: outs

>>> Converting pixels to microns
>>> Adding spatial neighborhood graph to sample01

>>> 10X Visium data will be loaded: outs

>>> Converting pixels to microns
>>> Adding spatial neighborhood graph to sample01

see ?SFEData and browseVignettes('SFEData') for documentation
loading from cache
The downloaded files are in /private/var/folders/r0/l4fjk6cj5xj0j3brt4bplpl40000gt/T/RtmpTLFL7s/file7b6f720bf2cc/vizgen_cellbound 
>>> 1 `.parquet` files exist:
/private/var/folders/r0/l4fjk6cj5xj0j3brt4bplpl40000gt/T/RtmpTLFL7s/file7b6f720bf2cc/vizgen_cellbound/cell_boundaries.parquet
>>> using -> /private/var/folders/r0/l4fjk6cj5xj0j3brt4bplpl40000gt/T/RtmpTLFL7s/file7b6f720bf2cc/vizgen_cellbound/cell_boundaries.parquet
>>> Cell segmentations are found in `.parquet` file
>>> Checking polygon validity
see ?SFEData and browseVignettes('SFEData') for documentation
loading from cache
The downloaded files are in /private/var/folders/r0/l4fjk6cj5xj0j3brt4bplpl40000gt/T/RtmpTLFL7s/file7b6f403f440e/vizgen_cellbound 
>>> Reading '.hdf5' files..
>>> Checking polygon validity
>>> 1 `.parquet` files exist:
/private/var/folders/r0/l4fjk6cj5xj0j3brt4bplpl40000gt/T/RtmpTLFL7s/file7b6f403f440e/vizgen_cellbound/hdf5s_micron_space.parquet
>>> using -> /private/var/folders/r0/l4fjk6cj5xj0j3brt4bplpl40000gt/T/RtmpTLFL7s/file7b6f403f440e/vizgen_cellbound/hdf5s_micron_space.parquet
>>> Checking polygon validity
see ?SFEData and browseVignettes('SFEData') for documentation
loading from cache
The downloaded files are in /private/var/folders/r0/l4fjk6cj5xj0j3brt4bplpl40000gt/T/RtmpTLFL7s/file7b6f786cf12b/vizgen_cellbound 
>>> Reading '.hdf5' files..
>>> Checking polygon validity
see ?SFEData and browseVignettes('SFEData') for documentation
loading from cache
The downloaded files are in /private/var/folders/r0/l4fjk6cj5xj0j3brt4bplpl40000gt/T/RtmpTLFL7s/file7b6f2a1335ee/vizgen_cellbound 
>>> Reading '.hdf5' files..
>>> Checking polygon validity
see ?SFEData and browseVignettes('SFEData') for documentation
loading from cache
The downloaded files are in /private/var/folders/r0/l4fjk6cj5xj0j3brt4bplpl40000gt/T/RtmpTLFL7s/file7b6f4a6ab6c0/vizgen_cellbound 
>>> Reading '.hdf5' files..
>>> Checking polygon validity
see ?SFEData and browseVignettes('SFEData') for documentation
loading from cache
The downloaded files are in /private/var/folders/r0/l4fjk6cj5xj0j3brt4bplpl40000gt/T/RtmpTLFL7s/file7b6f258288e1/vizgen_cellbound 
>>> Reading '.hdf5' files..
>>> Checking polygon validity
>>> Reading '.hdf5' files..
>>> Checking polygon validity
see ?SFEData and browseVignettes('SFEData') for documentation
loading from cache
The downloaded files are in /private/var/folders/r0/l4fjk6cj5xj0j3brt4bplpl40000gt/T/RtmpTLFL7s/file7b6f6f0f8aab/vizgen_cellbound 
>>> 1 `.parquet` files exist:
/private/var/folders/r0/l4fjk6cj5xj0j3brt4bplpl40000gt/T/RtmpTLFL7s/file7b6f6f0f8aab/vizgen_cellbound/cell_boundaries.parquet
>>> using -> /private/var/folders/r0/l4fjk6cj5xj0j3brt4bplpl40000gt/T/RtmpTLFL7s/file7b6f6f0f8aab/vizgen_cellbound/cell_boundaries.parquet
>>> Cell segmentations are found in `.parquet` file
>>> Checking polygon validity
see ?SFEData and browseVignettes('SFEData') for documentation
loading from cache
The downloaded files are in /private/var/folders/r0/l4fjk6cj5xj0j3brt4bplpl40000gt/T/RtmpTLFL7s/file7b6fc8d4c7c/vizgen_cellbound 
see ?SFEData and browseVignettes('SFEData') for documentation
loading from cache
The downloaded files are in /private/var/folders/r0/l4fjk6cj5xj0j3brt4bplpl40000gt/T/RtmpTLFL7s/file7b6f5a7c44f/vizgen_cellbound 
>>> 1 `.parquet` files exist:
/private/var/folders/r0/l4fjk6cj5xj0j3brt4bplpl40000gt/T/RtmpTLFL7s/file7b6f5a7c44f/vizgen_cellbound/cell_boundaries.parquet
>>> using -> /private/var/folders/r0/l4fjk6cj5xj0j3brt4bplpl40000gt/T/RtmpTLFL7s/file7b6f5a7c44f/vizgen_cellbound/cell_boundaries.parquet
>>> Cell segmentations are found in `.parquet` file
Sanity checks on cell segmentation polygons:
>>> ..found 3 cells with (nested) polygon lists
>>> ..applying filtering
>>> Casting MULTIPOLYGON geometry to POLYGON
>>> Checking polygon validity
see ?SFEData and browseVignettes('SFEData') for documentation
loading from cache
The downloaded files are in /private/var/folders/r0/l4fjk6cj5xj0j3brt4bplpl40000gt/T/RtmpTLFL7s/file7b6f7820afa1/vizgen_cellbound 
>>> 1 `.parquet` files exist:
/private/var/folders/r0/l4fjk6cj5xj0j3brt4bplpl40000gt/T/RtmpTLFL7s/file7b6f7820afa1/vizgen_cellbound/cell_boundaries.parquet
>>> using -> /private/var/folders/r0/l4fjk6cj5xj0j3brt4bplpl40000gt/T/RtmpTLFL7s/file7b6f7820afa1/vizgen_cellbound/cell_boundaries.parquet
>>> Cell segmentations are found in `.parquet` file
see ?SFEData and browseVignettes('SFEData') for documentation
loading from cache
The downloaded files are in /private/var/folders/r0/l4fjk6cj5xj0j3brt4bplpl40000gt/T/RtmpTLFL7s/file7b6f7ff64ccb/vizgen_cellbound 
>>> 1 `.parquet` files exist:
/private/var/folders/r0/l4fjk6cj5xj0j3brt4bplpl40000gt/T/RtmpTLFL7s/file7b6f7ff64ccb/vizgen_cellbound/cell_boundaries.parquet
>>> using -> /private/var/folders/r0/l4fjk6cj5xj0j3brt4bplpl40000gt/T/RtmpTLFL7s/file7b6f7ff64ccb/vizgen_cellbound/cell_boundaries.parquet
>>> Cell segmentations are found in `.parquet` file
>>> Checking polygon validity
see ?SFEData and browseVignettes('SFEData') for documentation
loading from cache
The downloaded files are in /private/var/folders/r0/l4fjk6cj5xj0j3brt4bplpl40000gt/T/RtmpTLFL7s/file7b6f6effa89f/vizgen_cellbound_Cellpose 
>>> 1 `.parquet` files exist:
/private/var/folders/r0/l4fjk6cj5xj0j3brt4bplpl40000gt/T/RtmpTLFL7s/file7b6f6effa89f/vizgen_cellbound_Cellpose/Cellpose/cellpose_micron_space.parquet
>>> using -> /private/var/folders/r0/l4fjk6cj5xj0j3brt4bplpl40000gt/T/RtmpTLFL7s/file7b6f6effa89f/vizgen_cellbound_Cellpose/Cellpose/cellpose_micron_space.parquet
>>> Cell segmentations are found in `.parquet` file
Sanity checks on cell segmentation polygons:
>>> ..found 1 cells with (nested) polygon lists
>>> ..applying filtering
>>> Casting MULTIPOLYGON geometry to POLYGON
>>> Checking polygon validity
see ?SFEData and browseVignettes('SFEData') for documentation
loading from cache
The downloaded files are in /private/var/folders/r0/l4fjk6cj5xj0j3brt4bplpl40000gt/T/RtmpTLFL7s/file7b6f1540b4c0/vizgen_cellbound 
>>> 1 `.parquet` files exist:
/private/var/folders/r0/l4fjk6cj5xj0j3brt4bplpl40000gt/T/RtmpTLFL7s/file7b6f4b1ab426/cell_boundaries.parquet
>>> using -> /private/var/folders/r0/l4fjk6cj5xj0j3brt4bplpl40000gt/T/RtmpTLFL7s/file7b6f4b1ab426/cell_boundaries.parquet
>>> Cell segmentations are found in `.parquet` file
>>> Checking polygon validity
see ?SFEData and browseVignettes('SFEData') for documentation
loading from cache
The downloaded files are in /private/var/folders/r0/l4fjk6cj5xj0j3brt4bplpl40000gt/T/RtmpTLFL7s/file7b6f75a000e5/vizgen_cellbound 
>>> 1 `.parquet` files exist:
/private/var/folders/r0/l4fjk6cj5xj0j3brt4bplpl40000gt/T/RtmpTLFL7s/file7b6f75a000e5/vizgen_cellbound/cell_boundaries.parquet
>>> using -> /private/var/folders/r0/l4fjk6cj5xj0j3brt4bplpl40000gt/T/RtmpTLFL7s/file7b6f75a000e5/vizgen_cellbound/cell_boundaries.parquet
>>> Cell segmentations are found in `.parquet` file
>>> Checking polygon validity
see ?SFEData and browseVignettes('SFEData') for documentation
loading from cache
The downloaded files are in /private/var/folders/r0/l4fjk6cj5xj0j3brt4bplpl40000gt/T/RtmpTLFL7s/file7b6f678162c6/vizgen_cellbound 
>>> 2 `.parquet` files exist:
/private/var/folders/r0/l4fjk6cj5xj0j3brt4bplpl40000gt/T/RtmpTLFL7s/file7b6f678162c6/vizgen_cellbound/cell_boundaries.parquet
/private/var/folders/r0/l4fjk6cj5xj0j3brt4bplpl40000gt/T/RtmpTLFL7s/file7b6f678162c6/vizgen_cellbound/cool_cell_boundaries.parquet
see ?SFEData and browseVignettes('SFEData') for documentation
loading from cache
The downloaded files are in /private/var/folders/r0/l4fjk6cj5xj0j3brt4bplpl40000gt/T/RtmpTLFL7s/file7b6fc8d4c7c/vizgen_cellbound_Cellpose 
see ?SFEData and browseVignettes('SFEData') for documentation
loading from cache
The downloaded files are in /private/var/folders/r0/l4fjk6cj5xj0j3brt4bplpl40000gt/T/RtmpTLFL7s/file7b6f4ac760cd/cosmx 
>>> Constructing cell polygons
>>> Checking polygon validity
>>> File cell_boundaries_sf.parquet found
>>> Checking polygon validity
see ?SFEData and browseVignettes('SFEData') for documentation
loading from cache
The downloaded files are in /private/var/folders/r0/l4fjk6cj5xj0j3brt4bplpl40000gt/T/RtmpTLFL7s/file7b6f3bce308/cosmx 
>>> Constructing cell polygons
>>> Checking polygon validity
see ?SFEData and browseVignettes('SFEData') for documentation
loading from cache
The downloaded files are in /private/var/folders/r0/l4fjk6cj5xj0j3brt4bplpl40000gt/T/RtmpTLFL7s/file7b6fca302f1/cosmx 
>>> Constructing cell polygons
>>> Checking polygon validity
>>> Reading transcript coordinates
>>> Converting transcript spots to geometry
>>> Writing reformatted transcript spots to disk
>>> File cell_boundaries_sf.parquet found
>>> Checking polygon validity
>>> Reading transcript coordinates
see ?SFEData and browseVignettes('SFEData') for documentation
loading from cache
The downloaded files are in /private/var/folders/r0/l4fjk6cj5xj0j3brt4bplpl40000gt/T/RtmpTLFL7s/file7b6f9c2acba/cosmx 
>>> Constructing cell polygons
>>> Checking polygon validity
>>> Reading transcript coordinates
>>> Converting transcript spots to geometry
>>> Writing reformatted transcript spots to disk

  |                                                                            
  |                                                                      |   0%
  |                                                                            
  |===================================                                   |  50%
  |                                                                            
  |======================================================================| 100%

>>> File cell_boundaries_sf.parquet found
>>> Checking polygon validity
>>> Reading transcript coordinates
>>> File cell_boundaries_sf.parquet found
>>> Checking polygon validity
>>> Reading transcript coordinates
see ?SFEData and browseVignettes('SFEData') for documentation
loading from cache
The downloaded files are in /private/var/folders/r0/l4fjk6cj5xj0j3brt4bplpl40000gt/T/RtmpTLFL7s/file7b6f4b4445f/cosmx 
>>> Constructing cell polygons
>>> Checking polygon validity
>>> Reading transcript coordinates
>>> Converting transcript spots to geometry
>>> Writing reformatted transcript spots to disk
see ?SFEData and browseVignettes('SFEData') for documentation
loading from cache
The downloaded files are in /private/var/folders/r0/l4fjk6cj5xj0j3brt4bplpl40000gt/T/RtmpTLFL7s/file7b6f6498d72b/cosmx 
>>> Constructing cell polygons
>>> Checking polygon validity
>>> Reading transcript coordinates
>>> Converting transcript spots to geometry
>>> Writing reformatted transcript spots to disk

  |                                                                            
  |                                                                      |   0%
  |                                                                            
  |=========                                                             |  12%
  |                                                                            
  |==================                                                    |  25%
  |                                                                            
  |==========================                                            |  38%
  |                                                                            
  |===================================                                   |  50%
  |                                                                            
  |============================================                          |  62%
  |                                                                            
  |====================================================                  |  75%
  |                                                                            
  |=============================================================         |  88%
  |                                                                            
  |======================================================================| 100%

>>> File cell_boundaries_sf.parquet found
>>> Checking polygon validity
>>> Reading transcript coordinates
>>> File cell_boundaries_sf.parquet found
>>> Checking polygon validity
>>> Reading transcript coordinates
see ?SFEData and browseVignettes('SFEData') for documentation
loading from cache
The downloaded files are in /private/var/folders/r0/l4fjk6cj5xj0j3brt4bplpl40000gt/T/RtmpTLFL7s/file7b6f59c78e18/xenium_lr 
>>> Must use gene symbols as row names when adding transcript spots.
>>> Cell segmentations are found in `.csv` file(s)
>>> Reading cell and nucleus segmentations
>>> Making POLYGON geometries
>>> Checking polygon validity
>>> Saving geometries to parquet files
>>> Reading cell metadata -> `cells.csv`
>>> Reading h5 gene count matrix
>>> filtering cellSeg geometries to match 16324 cells with counts > 0
>>> filtering nucSeg geometries to match 16324 cells with counts > 0
>>> Reading transcript coordinates
>>> Converting transcript spots to geometry
>>> Writing reformatted transcript spots to disk
>>> Total of 484 features/genes with no transcript detected or `min_phred` < 20 are removed from SFE object
>>> To keep all features -> set `min_phred = NULL`
see ?SFEData and browseVignettes('SFEData') for documentation
loading from cache
The downloaded files are in /private/var/folders/r0/l4fjk6cj5xj0j3brt4bplpl40000gt/T/RtmpTLFL7s/file7b6f53b2cfda/xenium_lr 
>>> Must use gene symbols as row names when adding transcript spots.
>>> Cell segmentations are found in `.csv` file(s)
>>> Reading cell and nucleus segmentations
>>> Making POLYGON geometries
>>> Checking polygon validity
>>> Saving geometries to parquet files
>>> Reading cell metadata -> `cells.csv`
>>> Reading h5 gene count matrix
>>> filtering cellSeg geometries to match 16324 cells with counts > 0
>>> filtering nucSeg geometries to match 16324 cells with counts > 0
>>> Reading transcript coordinates
>>> Converting transcript spots to geometry
>>> Writing reformatted transcript spots to disk
>>> Total of 484 features/genes with no transcript detected or `min_phred` < 20 are removed from SFE object
>>> To keep all features -> set `min_phred = NULL`
see ?SFEData and browseVignettes('SFEData') for documentation
loading from cache
The downloaded files are in /private/var/folders/r0/l4fjk6cj5xj0j3brt4bplpl40000gt/T/RtmpTLFL7s/file7b6f6cd2299b/xenium_lr 
>>> Cell segmentations are found in `.parquet` file(s)
>>> Reading cell and nucleus segmentations
>>> Converting columns with raw bytes (ie 'arrow_binary') to character
>>> Making POLYGON geometries
>>> Checking polygon validity
>>> Saving geometries to parquet files
>>> Reading cell metadata -> `cells.csv`
>>> Reading h5 gene count matrix
>>> filtering cellSeg geometries to match 163 cells with counts > 0
>>> filtering nucSeg geometries to match 163 cells with counts > 0
see ?SFEData and browseVignettes('SFEData') for documentation
loading from cache
The downloaded files are in /private/var/folders/r0/l4fjk6cj5xj0j3brt4bplpl40000gt/T/RtmpTLFL7s/file7b6f6ab14bae/xenium_lr 
>>> Cell segmentations are found in `.csv` file(s)
>>> Reading nucleus segmentations
>>> Making POLYGON geometries
>>> Checking polygon validity
>>> Saving geometries to parquet files
>>> Reading cell metadata -> `cells.csv`
>>> Reading h5 gene count matrix
>>> filtering nucSeg geometries to match 16324 cells with counts > 0
>>> Making POLYGON geometries
>>> Checking polygon validity
>>> Saving geometries to parquet files
>>> Reading cell metadata -> `cells.csv`
>>> Reading h5 gene count matrix
see ?SFEData and browseVignettes('SFEData') for documentation
loading from cache
The downloaded files are in /private/var/folders/r0/l4fjk6cj5xj0j3brt4bplpl40000gt/T/RtmpTLFL7s/file7b6f40d113e9/xenium_lr 
>>> Cell segmentations are found in `.csv` file(s)
>>> Reading cell and nucleus segmentations
>>> Making POLYGON geometries
>>> Checking polygon validity
>>> Saving geometries to parquet files
>>> Reading cell metadata -> `cells.csv`
>>> Reading h5 gene count matrix
>>> filtering cellSeg geometries to match 16324 cells with counts > 0
>>> filtering nucSeg geometries to match 16324 cells with counts > 0
>>> Preprocessed sf segmentations found
>>> Reading cell and nucleus segmentations
>>> Reading cell metadata -> `cells.csv`
>>> Reading h5 gene count matrix
>>> filtering cellSeg geometries to match 16324 cells with counts > 0
>>> filtering nucSeg geometries to match 16324 cells with counts > 0
see ?SFEData and browseVignettes('SFEData') for documentation
loading from cache
The downloaded files are in /private/var/folders/r0/l4fjk6cj5xj0j3brt4bplpl40000gt/T/RtmpTLFL7s/file7b6ffc9f07c/xenium_lr 
>>> Must use gene symbols as row names when adding transcript spots.
>>> Cell segmentations are found in `.csv` file(s)
>>> Reading cell and nucleus segmentations
>>> Making POLYGON geometries
>>> Checking polygon validity
>>> Saving geometries to parquet files
>>> Reading cell metadata -> `cells.csv`
>>> Reading h5 gene count matrix
>>> filtering cellSeg geometries to match 16324 cells with counts > 0
>>> filtering nucSeg geometries to match 16324 cells with counts > 0
>>> Reading transcript coordinates
>>> Converting transcript spots to geometry
>>> Writing reformatted transcript spots to disk
>>> Total of 484 features/genes with no transcript detected or `min_phred` < 20 are removed from SFE object
>>> To keep all features -> set `min_phred = NULL`
see ?SFEData and browseVignettes('SFEData') for documentation
loading from cache
The downloaded files are in /private/var/folders/r0/l4fjk6cj5xj0j3brt4bplpl40000gt/T/RtmpTLFL7s/file7b6f4075b741/xenium2 
>>> Must use gene symbols as row names when adding transcript spots.
>>> Cell segmentations are found in `.parquet` file(s)
>>> Reading cell and nucleus segmentations
>>> Making MULTIPOLYGON nuclei geometries
>>> Making POLYGON cell geometries
Sanity checks on cell segmentation polygons:
>>> ..found 132 cells with (nested) polygon lists
>>> ..applying filtering
>>> Checking polygon validity
>>> Saving geometries to parquet files
>>> Reading cell metadata -> `cells.parquet`
>>> Reading h5 gene count matrix
>>> filtering cellSeg geometries to match 6272 cells with counts > 0
>>> filtering nucSeg geometries to match 6158 cells with counts > 0
>>> Reading transcript coordinates
>>> Converting transcript spots to geometry
>>> Writing reformatted transcript spots to disk
>>> Total of 116 features/genes with no transcript detected or `min_phred` < 20 are removed from SFE object
>>> To keep all features -> set `min_phred = NULL`
Actual mean  0.8930166see ?SFEData and browseVignettes('SFEData') for documentation
loading from cache
The downloaded files are in /private/var/folders/r0/l4fjk6cj5xj0j3brt4bplpl40000gt/T/RtmpTLFL7s/file7b6f55dbe4f8/xenium2 
>>> Cell segmentations are found in `.parquet` file(s)
>>> Reading cell and nucleus segmentations
>>> Making MULTIPOLYGON nuclei geometries
>>> Making POLYGON cell geometries
Sanity checks on cell segmentation polygons:
>>> ..found 132 cells with (nested) polygon lists
>>> ..applying filtering
>>> Checking polygon validity
>>> Saving geometries to parquet files
>>> Reading cell metadata -> `cells.parquet`
>>> Reading h5 gene count matrix
>>> filtering cellSeg geometries to match 6272 cells with counts > 0
>>> filtering nucSeg geometries to match 6158 cells with counts > 0
see ?SFEData and browseVignettes('SFEData') for documentation
loading from cache
The downloaded files are in /private/var/folders/r0/l4fjk6cj5xj0j3brt4bplpl40000gt/T/RtmpTLFL7s/file7b6f376cca63/xenium2 
>>> Must use gene symbols as row names when adding transcript spots.
>>> Making MULTIPOLYGON nuclei geometries
>>> Making POLYGON cell geometries
Sanity checks on cell segmentation polygons:
>>> ..found 132 cells with (nested) polygon lists
>>> ..applying filtering
>>> Checking polygon validity
>>> Saving geometries to parquet files
>>> Reading cell metadata -> `cells.csv`
>>> Reading h5 gene count matrix
>>> filtering cellSeg geometries to match 6272 cells with counts > 0
>>> filtering nucSeg geometries to match 6158 cells with counts > 0
>>> Reading transcript coordinates
>>> Converting transcript spots to geometry
>>> Writing reformatted transcript spots to disk
>>> Total of 116 features/genes with no transcript detected or `min_phred` < 20 are removed from SFE object
>>> To keep all features -> set `min_phred = NULL`
Actual mean  0.8930166see ?SFEData and browseVignettes('SFEData') for documentation
loading from cache
The downloaded files are in /private/var/folders/r0/l4fjk6cj5xj0j3brt4bplpl40000gt/T/RtmpTLFL7s/file7b6f693a3196/xenium2 
>>> Must use gene symbols as row names when adding transcript spots.
>>> Cell segmentations are found in `.parquet` file(s)
>>> Reading cell and nucleus segmentations
>>> Making MULTIPOLYGON nuclei geometries
>>> Making POLYGON cell geometries
Sanity checks on cell segmentation polygons:
>>> ..found 132 cells with (nested) polygon lists
>>> ..applying filtering
>>> Checking polygon validity
>>> Saving geometries to parquet files
>>> Reading cell metadata -> `cells.parquet`
>>> Reading h5 gene count matrix
>>> filtering cellSeg geometries to match 6272 cells with counts > 0
>>> filtering nucSeg geometries to match 6158 cells with counts > 0
>>> Reading transcript coordinates
>>> Converting transcript spots to geometry
>>> Writing reformatted transcript spots to disk
>>> Total of 116 features/genes with no transcript detected or `min_phred` < 20 are removed from SFE object
>>> To keep all features -> set `min_phred = NULL`
>>> Preprocessed sf segmentations found
>>> Reading cell and nucleus segmentations
>>> Reading cell metadata -> `cells.parquet`
>>> Reading h5 gene count matrix
>>> filtering cellSeg geometries to match 6272 cells with counts > 0
>>> filtering nucSeg geometries to match 6158 cells with counts > 0
Actual mean  0.8930166>>> 10X Visium data will be loaded: outs

>>> Adding spatial neighborhood graph to sample01

>>> 10X Visium data will be loaded: outs

>>> Adding spatial neighborhood graph to sample02

see ?SFEData and browseVignettes('SFEData') for documentation
loading from cache
The downloaded files are in /private/var/folders/r0/l4fjk6cj5xj0j3brt4bplpl40000gt/T/RtmpTLFL7s/file7b6f228e4c0f/xenium2 
>>> Cell segmentations are found in `.parquet` file(s)
>>> Reading cell and nucleus segmentations
>>> Making MULTIPOLYGON nuclei geometries
>>> Making POLYGON cell geometries
Sanity checks on cell segmentation polygons:
>>> ..found 132 cells with (nested) polygon lists
>>> ..applying filtering
>>> Checking polygon validity
>>> Saving geometries to parquet files
>>> Reading cell metadata -> `cells.parquet`
>>> Reading h5 gene count matrix
>>> filtering cellSeg geometries to match 6272 cells with counts > 0
>>> filtering nucSeg geometries to match 6158 cells with counts > 0
>>> Preprocessed sf segmentations found
>>> Reading cell and nucleus segmentations
>>> Reading cell metadata -> `cells.parquet`
>>> Reading h5 gene count matrix
>>> filtering cellSeg geometries to match 6272 cells with counts > 0
>>> filtering nucSeg geometries to match 6158 cells with counts > 0
>>> 10X Visium data will be loaded: outs

>>> Converting pixels to microns
>>> Adding spatial neighborhood graph to ob

>>> 10X Visium data will be loaded: outs

>>> Converting pixels to microns
>>> Adding spatial neighborhood graph to kidney

[updateObject] DFrame object is current.
[updateObject] Nothing to update.
updateObject(object="ANY") default for object of class 'NULL'
[updateObject] Validating the updated object ... OK
[updateObject] Validating the updated object ... OK
[updateObject] DFrame object is current.
[updateObject] Nothing to update.
updateObject(object="ANY") default for object of class 'NULL'
[updateObject] Validating the updated object ... OK
[updateObject] Validating the updated object ... OK
updateObject(object="ANY") default for object of class 'dgCMatrix'
updateObjectFromSlots(object = 'dgCMatrix' class = 'dgCMatrix')
updateObject(object="ANY") default for object of class 'integer'
[updateObject] Validating the updated object ... OK
updateObject(object="ANY") default for object of class 'integer'
[updateObject] Validating the updated object ... OK
updateObject(object="ANY") default for object of class 'integer'
[updateObject] Validating the updated object ... OK
updateObject(object = 'list')
updateObject(object="ANY") default for object of class 'character'
[updateObject] Validating the updated object ... OK
updateObject(object="ANY") default for object of class 'character'
[updateObject] Validating the updated object ... OK
[updateObject] Validating the updated object ... OK
updateObject(object="ANY") default for object of class 'numeric'
[updateObject] Validating the updated object ... OK
updateObject(object = 'list')
[updateObject] Validating the updated object ... OK
heuristic updateObjectFromSlots, method 1
[updateObject] Validating the updated object ... OK
[updateObject] Validating the updated object ... OK
[updateObject] DFrame object is current.
[updateObject] Nothing to update.
updateObject(object="ANY") default for object of class 'NULL'
[updateObject] Validating the updated object ... OK
[updateObject] Validating the updated object ... OK
[updateObject] DFrame object is current.
[updateObject] Nothing to update.
updateObject(object="ANY") default for object of class 'NULL'
[updateObject] Validating the updated object ... OK
[updateObject] Validating the updated object ... OK
[updateObject] CompressedGRangesList object is current.
[updateObject] Nothing to update.
[updateObject] Internal representation of GRanges object is current.
[updateObject] Nothing to update.
[updateObject] Internal representation of IRanges object is current.
[updateObject] Nothing to update.
updateObject(object="ANY") default for object of class 'NULL'
[updateObject] Validating the updated object ... OK
[updateObject] Validating the updated object ... OK
[updateObject] DFrame object is current.
[updateObject] Nothing to update.
updateObject(object="ANY") default for object of class 'NULL'
[updateObject] Validating the updated object ... OK
[updateObject] Validating the updated object ... OK
[updateObject] Validating the updated object ... OK
[updateObject] Internal representation of GRanges object is current.
[updateObject] Nothing to update.
[updateObject] Internal representation of IRanges object is current.
[updateObject] Nothing to update.
updateObject(object="ANY") default for object of class 'NULL'
[updateObject] Validating the updated object ... OK
[updateObject] Validating the updated object ... OK
[updateObject] DFrame object is current.
[updateObject] Nothing to update.
updateObject(object="ANY") default for object of class 'NULL'
[updateObject] Validating the updated object ... OK
[updateObject] Validating the updated object ... OK
[updateObject] Validating the updated object ... OK
[updateObject] Internal representation of PartitioningByEnd object is current.
[updateObject] Nothing to update.
updateObject(object="ANY") default for object of class 'NULL'
[updateObject] Validating the updated object ... OK
[updateObject] Validating the updated object ... OK
[updateObject] DFrame object is current.
[updateObject] Nothing to update.
updateObject(object="ANY") default for object of class 'NULL'
[updateObject] Validating the updated object ... OK
[updateObject] Validating the updated object ... OK
[updateObject] Validating the updated object ... OK
[updateObject] Validating the updated object ... OK
see ?SFEData and browseVignettes('SFEData') for documentation
loading from cache
see ?SFEData and browseVignettes('SFEData') for documentation
loading from cache
The downloaded files are in /private/var/folders/r0/l4fjk6cj5xj0j3brt4bplpl40000gt/T/RtmpTLFL7s/file7b6f6b4ec094/xenium_lr 
>>> Cell segmentations are found in `.csv` file(s)
>>> Reading cell and nucleus segmentations
>>> Making POLYGON geometries
>>> Checking polygon validity
>>> Saving geometries to parquet files
>>> Reading cell metadata -> `cells.csv`
>>> Reading h5 gene count matrix
>>> filtering cellSeg geometries to match 16324 cells with counts > 0
>>> filtering nucSeg geometries to match 16324 cells with counts > 0
[ FAIL 2 | WARN 0 | SKIP 10 | PASS 1255 ]

══ Skipped tests (10) ══════════════════════════════════════════════════════════
• On Bioconductor (1): 'test-read.R:692:5'
• Skipping (6): 'test-graph_wrappers.R:169:5', 'test-read.R:144:5',
  'test-read.R:158:5', 'test-read.R:168:5', 'test-read.R:175:5',
  'test-read.R:187:5'
• gdalParquetAvailable() is not TRUE (3): 'test-formatTxSpots.R:113:5',
  'test-formatTxSpots.R:140:5', 'test-formatTxSpots.R:157:5'

══ Failed tests ════════════════════════════════════════════════════════════════
── Failure ('test-aggregate.R:75:5'): aggregateTxTech for Vizgen ───────────────
all(st_area(colGeometry(sfe)) == 400) is not TRUE

`actual`:   FALSE
`expected`: TRUE 
── Failure ('test-formatTxSpots.R:13:5'): Read MERFISH transcript spots into rowGeometries ──
sum(v$mosaic_PolyT_z3 < 30, na.rm = TRUE) < 10 is not TRUE

`actual`:   FALSE
`expected`: TRUE 

[ FAIL 2 | WARN 0 | SKIP 10 | PASS 1255 ]
Error: Test failures
Execution halted

Example timings

SpatialFeatureExperiment.Rcheck/SpatialFeatureExperiment-Ex.timings

nameusersystemelapsed
Img-set-SpatialExperiment-method6.7450.6626.754
SFE-image0.6690.0540.893
SFE-transform1.0090.0691.241
SpatRasterImage000
SpatialFeatureExperiment-coercion0.5380.0300.572
SpatialFeatureExperiment-subset0.7600.0610.987
SpatialFeatureExperiment0.1260.0080.133
addVisiumSpotPoly0.5480.0490.604
aggBboxes000
aggregate-SpatialFeatureExperiment-method000
annotGeometries0.6720.0600.899
annotOp0.6790.0530.901
annotPred0.9220.0661.148
annotSummary0.6770.0520.902
bbox-SpatialFeatureExperiment-method0.8410.0571.070
bbox_center000
cbind-SpatialFeatureExperiment-method1.7090.1102.147
changeSampleIDs0.7090.0550.916
colFeatureData1.1000.1041.381
colGeometries0.8530.0671.078
crop1.1350.0561.368
df2sf0.0030.0010.005
dimGeometries1.7780.1092.215
findSpatialNeighbors-SpatialFeatureExperiment-method2.2640.1082.810
findVisiumGraph1.5970.1152.033
formatTxSpots5.1410.4355.572
formatTxTech1.6350.1691.509
gdalParquetAvailable0.0010.0000.001
getParams0.9500.0881.155
getPixelSize1.1390.1251.160
imageIDs0.1550.0030.160
listw2sparse0.8530.0611.083
localResults0.2830.0060.288
multi_listw2sparse000
read10xVisiumSFE0.4050.0080.426
readCosMX0.8100.0631.097
readSelectTx0.0130.0010.007
readVisiumHD000
readVizgen1.4140.0901.266
readXenium4.3920.2483.972
removeEmptySpace3.0010.1343.323
rowGeometries3.4750.2583.287
sampleIDs0.6670.0711.013
saveRDS-SpatialFeatureExperiment-method0.4040.0120.416
show-SpatialFeatureExperiment-method0.6740.0520.935
spatialGraphs1.8520.1172.293
splitByCol000
st_any_pred0.0100.0000.011
unit-SpatialFeatureExperiment-method0.7070.0630.943
updateObject0.8920.0611.111