Back to Build/check report for BioC 3.23:   simplified   long
ABCDEFGHIJKLMNOPQR[S]TUVWXYZ

This page was generated on 2025-11-06 11:32 -0500 (Thu, 06 Nov 2025).

HostnameOSArch (*)R versionInstalled pkgs
nebbiolo1Linux (Ubuntu 24.04.3 LTS)x86_64R Under development (unstable) (2025-10-20 r88955) -- "Unsuffered Consequences" 4818
Click on any hostname to see more info about the system (e.g. compilers)      (*) as reported by 'uname -p', except on Windows and Mac OS X

Package 1950/2323HostnameOS / ArchINSTALLBUILDCHECKBUILD BIN
SeqGSEA 1.51.0  (landing page)
Xi Wang
Snapshot Date: 2025-11-05 13:40 -0500 (Wed, 05 Nov 2025)
git_url: https://git.bioconductor.org/packages/SeqGSEA
git_branch: devel
git_last_commit: d9a1c2a
git_last_commit_date: 2025-10-29 10:14:28 -0500 (Wed, 29 Oct 2025)
nebbiolo1Linux (Ubuntu 24.04.3 LTS) / x86_64  OK    OK    OK  UNNEEDED, same version is already published


CHECK results for SeqGSEA on nebbiolo1

To the developers/maintainers of the SeqGSEA package:
- Allow up to 24 hours (and sometimes 48 hours) for your latest push to git@git.bioconductor.org:packages/SeqGSEA.git to reflect on this report. See Troubleshooting Build Report for more information.
- Use the following Renviron settings to reproduce errors and warnings.
- If 'R CMD check' started to fail recently on the Linux builder(s) over a missing dependency, add the missing dependency to 'Suggests:' in your DESCRIPTION file. See Renviron.bioc for more information.

raw results


Summary

Package: SeqGSEA
Version: 1.51.0
Command: /home/biocbuild/bbs-3.23-bioc/R/bin/R CMD check --install=check:SeqGSEA.install-out.txt --library=/home/biocbuild/bbs-3.23-bioc/R/site-library --timings SeqGSEA_1.51.0.tar.gz
StartedAt: 2025-11-06 03:50:15 -0500 (Thu, 06 Nov 2025)
EndedAt: 2025-11-06 03:57:31 -0500 (Thu, 06 Nov 2025)
EllapsedTime: 435.7 seconds
RetCode: 0
Status:   OK  
CheckDir: SeqGSEA.Rcheck
Warnings: 0

Command output

##############################################################################
##############################################################################
###
### Running command:
###
###   /home/biocbuild/bbs-3.23-bioc/R/bin/R CMD check --install=check:SeqGSEA.install-out.txt --library=/home/biocbuild/bbs-3.23-bioc/R/site-library --timings SeqGSEA_1.51.0.tar.gz
###
##############################################################################
##############################################################################


* using log directory ‘/home/biocbuild/bbs-3.23-bioc/meat/SeqGSEA.Rcheck’
* using R Under development (unstable) (2025-10-20 r88955)
* using platform: x86_64-pc-linux-gnu
* R was compiled by
    gcc (Ubuntu 13.3.0-6ubuntu2~24.04) 13.3.0
    GNU Fortran (Ubuntu 13.3.0-6ubuntu2~24.04) 13.3.0
* running under: Ubuntu 24.04.3 LTS
* using session charset: UTF-8
* checking for file ‘SeqGSEA/DESCRIPTION’ ... OK
* checking extension type ... Package
* this is package ‘SeqGSEA’ version ‘1.51.0’
* checking package namespace information ... OK
* checking package dependencies ... OK
* checking if this is a source package ... OK
* checking if there is a namespace ... OK
* checking for hidden files and directories ... OK
* checking for portable file names ... OK
* checking for sufficient/correct file permissions ... OK
* checking whether package ‘SeqGSEA’ can be installed ... OK
* checking installed package size ... OK
* checking package directory ... OK
* checking ‘build’ directory ... OK
* checking DESCRIPTION meta-information ... OK
* checking top-level files ... OK
* checking for left-over files ... OK
* checking index information ... OK
* checking package subdirectories ... OK
* checking code files for non-ASCII characters ... OK
* checking R files for syntax errors ... OK
* checking whether the package can be loaded ... OK
* checking whether the package can be loaded with stated dependencies ... OK
* checking whether the package can be unloaded cleanly ... OK
* checking whether the namespace can be loaded with stated dependencies ... OK
* checking whether the namespace can be unloaded cleanly ... OK
* checking loading without being on the library search path ... OK
* checking dependencies in R code ... NOTE
There are ::: calls to the package's namespace in its code. A package
  almost never needs to use ::: for its own objects:
  ‘estiExonProbVar’
* checking S3 generic/method consistency ... OK
* checking replacement functions ... OK
* checking foreign function calls ... OK
* checking R code for possible problems ... NOTE
DENBStat4GSEA: no visible global function definition for ‘colData’
DENBStatPermut4GSEA: no visible global function definition for
  ‘%dopar%’
DENBStatPermut4GSEA: no visible global function definition for
  ‘foreach’
DENBStatPermut4GSEA: no visible binding for global variable ‘i’
DENBTest: no visible global function definition for ‘colData’
DENBTest: no visible global function definition for ‘p.adjust’
DEpermutePval: no visible global function definition for ‘p.adjust’
DSpermute4GSEA: no visible global function definition for ‘%dopar%’
DSpermute4GSEA: no visible global function definition for ‘foreach’
DSpermute4GSEA : <anonymous>: no visible binding for global variable
  ‘i’
DSpermutePval: no visible global function definition for ‘p.adjust’
calES.perm: no visible global function definition for ‘%dopar%’
calES.perm: no visible global function definition for ‘foreach’
calES.perm: no visible binding for global variable ‘i’
calES.perm: no visible global function definition for ‘%do%’
calES.perm: no visible binding for global variable ‘j’
loadExonCountData : <anonymous>: no visible global function definition
  for ‘read.table’
nbinomTestForMatrices : <anonymous>: no visible global function
  definition for ‘dnbinom’
plotES : <anonymous>: no visible global function definition for
  ‘density’
plotES: no visible global function definition for ‘density’
plotES : <anonymous>: no visible global function definition for
  ‘points’
plotES: no visible global function definition for ‘points’
plotES: no visible global function definition for ‘colors’
plotES: no visible global function definition for ‘lines’
plotES: no visible global function definition for ‘legend’
plotES: no visible global function definition for ‘dev.off’
plotGeneScore: no visible global function definition for ‘lines’
plotGeneScore: no visible global function definition for ‘colors’
plotGeneScore: no visible global function definition for ‘points’
plotGeneScore: no visible global function definition for ‘matlines’
plotGeneScore: no visible global function definition for ‘legend’
plotGeneScore: no visible global function definition for ‘dev.off’
plotSig: no visible global function definition for ‘points’
plotSig: no visible global function definition for ‘colors’
plotSig: no visible global function definition for ‘legend’
plotSig: no visible global function definition for ‘dev.off’
plotSigGeneSet: no visible global function definition for ‘par’
plotSigGeneSet: no visible global function definition for ‘layout’
plotSigGeneSet: no visible global function definition for ‘lines’
plotSigGeneSet : <anonymous>: no visible global function definition for
  ‘lines’
plotSigGeneSet: no visible global function definition for ‘colors’
plotSigGeneSet: no visible global function definition for ‘text’
plotSigGeneSet: no visible global function definition for ‘density’
plotSigGeneSet: no visible global function definition for ‘legend’
plotSigGeneSet: no visible global function definition for ‘dev.off’
runDESeq: no visible global function definition for ‘DataFrame’
runSeqGSEA: no visible global function definition for ‘makeCluster’
runSeqGSEA: no visible global function definition for ‘write.table’
signifES : <anonymous>: no visible global function definition for
  ‘median’
writeScores: no visible global function definition for ‘write.table’
writeSigGeneSet: no visible global function definition for
  ‘write.table’
Undefined global functions or variables:
  %do% %dopar% DataFrame colData colors density dev.off dnbinom foreach
  i j layout legend lines makeCluster matlines median p.adjust par
  points read.table text write.table
Consider adding
  importFrom("grDevices", "colors", "dev.off")
  importFrom("graphics", "layout", "legend", "lines", "matlines", "par",
             "points", "text")
  importFrom("stats", "density", "dnbinom", "median", "p.adjust")
  importFrom("utils", "read.table", "write.table")
to your NAMESPACE file.
* checking Rd files ... OK
* checking Rd metadata ... OK
* checking Rd cross-references ... NOTE
Found the following Rd file(s) with Rd \link{} targets missing package
anchors:
  ReadCountSet-class.Rd: eSet-class
Please provide package anchors for all Rd \link{} targets not in the
package itself and the base packages.
* checking for missing documentation entries ... OK
* checking for code/documentation mismatches ... OK
* checking Rd \usage sections ... OK
* checking Rd contents ... OK
* checking for unstated dependencies in examples ... OK
* checking contents of ‘data’ directory ... OK
* checking data for non-ASCII characters ... OK
* checking data for ASCII and uncompressed saves ... OK
* checking sizes of PDF files under ‘inst/doc’ ...* checking files in ‘vignettes’ ... OK
* checking examples ... OK
Examples with CPU (user + system) or elapsed time > 5s
                     user system elapsed
topDEGenes          9.700  0.132   9.833
DENBStatPermut4GSEA 9.108  0.134   9.243
DEpermutePval       9.131  0.016   9.150
topDSGenes          5.955  0.100   6.077
genpermuteMat       5.581  0.086   5.673
DSpermute4GSEA      5.409  0.087   5.496
DSresultGeneTable   5.465  0.001   5.467
DSresultExonTable   5.300  0.019   5.319
DSpermutePval       5.225  0.045   5.270
topDSExons          5.246  0.022   5.270
scoreNormalization  5.141  0.025   5.165
normFactor          5.073  0.007   5.080
* checking for unstated dependencies in vignettes ... OK
* checking package vignettes ... OK
* checking re-building of vignette outputs ... OK
* checking PDF version of manual ... OK
* DONE

Status: 3 NOTEs
See
  ‘/home/biocbuild/bbs-3.23-bioc/meat/SeqGSEA.Rcheck/00check.log’
for details.


Installation output

SeqGSEA.Rcheck/00install.out

##############################################################################
##############################################################################
###
### Running command:
###
###   /home/biocbuild/bbs-3.23-bioc/R/bin/R CMD INSTALL SeqGSEA
###
##############################################################################
##############################################################################


* installing to library ‘/home/biocbuild/bbs-3.23-bioc/R/site-library’
* installing *source* package ‘SeqGSEA’ ...
** this is package ‘SeqGSEA’ version ‘1.51.0’
** using staged installation
** R
** data
** inst
** byte-compile and prepare package for lazy loading
** help
*** installing help indices
** building package indices
** installing vignettes
** testing if installed package can be loaded from temporary location
** testing if installed package can be loaded from final location
** testing if installed package keeps a record of temporary installation path
* DONE (SeqGSEA)

Tests output


Example timings

SeqGSEA.Rcheck/SeqGSEA-Ex.timings

nameusersystemelapsed
DENBStat4GSEA2.3290.0472.377
DENBStatPermut4GSEA9.1080.1349.243
DENBTest1.6870.0441.733
DEpermutePval9.1310.0169.150
DSpermute4GSEA5.4090.0875.496
DSpermutePval5.2250.0455.270
DSresultExonTable5.3000.0195.319
DSresultGeneTable5.4650.0015.467
GSEAresultTable1.5410.0331.574
GSEnrichAnalyze1.5310.0001.530
ReadCountSet-class0.0010.0000.002
SeqGeneSet-class0.0010.0010.001
calES0.0050.0030.007
calES.perm1.5510.0001.550
convertEnsembl2Symbol0.0010.0000.000
convertSymbol2Ensembl000
counts-methods0.0090.0030.012
estiExonNBstat0.4920.0180.510
estiGeneNBstat0.4950.0030.498
exonID0.0270.0760.104
exonTestability0.0180.0010.018
geneID0.0400.0740.114
geneList0.0030.0010.004
genePermuteScore0.0050.0000.004
geneScore0.0030.0000.003
geneSetDescs0.0010.0000.002
geneSetNames0.0020.0000.002
geneSetSize0.0020.0010.002
geneTestability0.0170.0000.017
genpermuteMat5.5810.0865.673
getGeneCount0.0250.0020.027
label0.0090.0010.011
loadExonCountData0.0010.0010.001
loadGenesets0.0000.0010.000
newGeneSets0.0010.0010.002
newReadCountSet0.0870.0010.088
normFactor5.0730.0075.080
plotES1.5950.0041.599
plotGeneScore0.0990.0000.099
plotSig1.4610.0291.490
plotSigGeneSet1.5160.0021.519
rankCombine0.0070.0010.008
runDESeq1.1020.0041.106
runSeqGSEA0.0020.0000.002
scoreNormalization5.1410.0255.165
size0.0020.0000.002
subsetByGenes0.0310.0010.032
topDEGenes9.7000.1329.833
topDSExons5.2460.0225.270
topDSGenes5.9550.1006.077
topGeneSets1.4710.0021.473
writeScores0.0050.0010.006
writeSigGeneSet1.5900.0031.593