Back to Multiple platform build/check report for BioC 3.22:   simplified   long
ABCDEFGHIJKLMNOPQR[S]TUVWXYZ

This page was generated on 2025-10-23 12:05 -0400 (Thu, 23 Oct 2025).

HostnameOSArch (*)R versionInstalled pkgs
nebbiolo2Linux (Ubuntu 24.04.3 LTS)x86_644.5.1 Patched (2025-08-23 r88802) -- "Great Square Root" 4894
lconwaymacOS 12.7.6 Montereyx86_644.5.1 Patched (2025-09-10 r88807) -- "Great Square Root" 4684
kjohnson3macOS 13.7.7 Venturaarm644.5.1 Patched (2025-09-10 r88807) -- "Great Square Root" 4629
taishanLinux (openEuler 24.03 LTS)aarch644.5.0 (2025-04-11) -- "How About a Twenty-Six" 4642
Click on any hostname to see more info about the system (e.g. compilers)      (*) as reported by 'uname -p', except on Windows and Mac OS X

Package 2044/2355HostnameOS / ArchINSTALLBUILDCHECKBUILD BIN
SMITE 1.37.0  (landing page)
Neil Ari Wijetunga
Snapshot Date: 2025-10-22 13:45 -0400 (Wed, 22 Oct 2025)
git_url: https://git.bioconductor.org/packages/SMITE
git_branch: devel
git_last_commit: daef10f
git_last_commit_date: 2025-04-15 10:58:12 -0400 (Tue, 15 Apr 2025)
nebbiolo2Linux (Ubuntu 24.04.3 LTS) / x86_64  OK    OK    OK  UNNEEDED, same version is already published
lconwaymacOS 12.7.6 Monterey / x86_64  OK    OK    OK    OK  UNNEEDED, same version is already published
kjohnson3macOS 13.7.7 Ventura / arm64  OK    OK    OK    OK  UNNEEDED, same version is already published
taishanLinux (openEuler 24.03 LTS) / aarch64  OK    OK    NA  


CHECK results for SMITE on lconway

To the developers/maintainers of the SMITE package:
- Allow up to 24 hours (and sometimes 48 hours) for your latest push to git@git.bioconductor.org:packages/SMITE.git to reflect on this report. See Troubleshooting Build Report for more information.
- Use the following Renviron settings to reproduce errors and warnings.
- If 'R CMD check' started to fail recently on the Linux builder(s) over a missing dependency, add the missing dependency to 'Suggests:' in your DESCRIPTION file. See Renviron.bioc for more information.

raw results


Summary

Package: SMITE
Version: 1.37.0
Command: /Library/Frameworks/R.framework/Resources/bin/R CMD check --install=check:SMITE.install-out.txt --library=/Library/Frameworks/R.framework/Resources/library --no-vignettes --timings SMITE_1.37.0.tar.gz
StartedAt: 2025-10-23 00:15:48 -0400 (Thu, 23 Oct 2025)
EndedAt: 2025-10-23 00:21:28 -0400 (Thu, 23 Oct 2025)
EllapsedTime: 340.4 seconds
RetCode: 0
Status:   OK  
CheckDir: SMITE.Rcheck
Warnings: 0

Command output

##############################################################################
##############################################################################
###
### Running command:
###
###   /Library/Frameworks/R.framework/Resources/bin/R CMD check --install=check:SMITE.install-out.txt --library=/Library/Frameworks/R.framework/Resources/library --no-vignettes --timings SMITE_1.37.0.tar.gz
###
##############################################################################
##############################################################################


* using log directory ‘/Users/biocbuild/bbs-3.22-bioc/meat/SMITE.Rcheck’
* using R version 4.5.1 Patched (2025-09-10 r88807)
* using platform: x86_64-apple-darwin20
* R was compiled by
    Apple clang version 14.0.0 (clang-1400.0.29.202)
    GNU Fortran (GCC) 14.2.0
* running under: macOS Monterey 12.7.6
* using session charset: UTF-8
* using option ‘--no-vignettes’
* checking for file ‘SMITE/DESCRIPTION’ ... OK
* checking extension type ... Package
* this is package ‘SMITE’ version ‘1.37.0’
* checking package namespace information ... OK
* checking package dependencies ... OK
* checking if this is a source package ... OK
* checking if there is a namespace ... OK
* checking for hidden files and directories ... OK
* checking for portable file names ... OK
* checking for sufficient/correct file permissions ... OK
* checking whether package ‘SMITE’ can be installed ... OK
* checking installed package size ... OK
* checking package directory ... OK
* checking ‘build’ directory ... OK
* checking DESCRIPTION meta-information ... OK
* checking top-level files ... OK
* checking for left-over files ... OK
* checking index information ... OK
* checking package subdirectories ... OK
* checking code files for non-ASCII characters ... OK
* checking R files for syntax errors ... OK
* checking whether the package can be loaded ... OK
* checking whether the package can be loaded with stated dependencies ... OK
* checking whether the package can be unloaded cleanly ... OK
* checking whether the namespace can be loaded with stated dependencies ... OK
* checking whether the namespace can be unloaded cleanly ... OK
* checking dependencies in R code ... OK
* checking S3 generic/method consistency ... OK
* checking replacement functions ... OK
* checking foreign function calls ... OK
* checking R code for possible problems ... OK
* checking Rd files ... OK
* checking Rd metadata ... OK
* checking Rd cross-references ... OK
* checking for missing documentation entries ... OK
* checking for code/documentation mismatches ... OK
* checking Rd \usage sections ... OK
* checking Rd contents ... OK
* checking for unstated dependencies in examples ... OK
* checking contents of ‘data’ directory ... OK
* checking data for non-ASCII characters ... OK
* checking data for ASCII and uncompressed saves ... OK
* checking sizes of PDF files under ‘inst/doc’ ... OK
* checking files in ‘vignettes’ ... OK
* checking examples ... OK
* checking for unstated dependencies in vignettes ... OK
* checking package vignettes ... OK
* checking running R code from vignettes ... SKIPPED
* checking re-building of vignette outputs ... SKIPPED
* checking PDF version of manual ... OK
* DONE

Status: OK


Installation output

SMITE.Rcheck/00install.out

##############################################################################
##############################################################################
###
### Running command:
###
###   /Library/Frameworks/R.framework/Resources/bin/R CMD INSTALL SMITE
###
##############################################################################
##############################################################################


* installing to library ‘/Library/Frameworks/R.framework/Versions/4.5-x86_64/Resources/library’
* installing *source* package ‘SMITE’ ...
** this is package ‘SMITE’ version ‘1.37.0’
** using staged installation
** R
** data
** inst
** byte-compile and prepare package for lazy loading
** help
*** installing help indices
** building package indices
** installing vignettes
** testing if installed package can be loaded from temporary location
** testing if installed package can be loaded from final location
** testing if installed package keeps a record of temporary installation path
* DONE (SMITE)

Tests output


Example timings

SMITE.Rcheck/SMITE-Ex.timings

nameusersystemelapsed
Reactome.Symbol.Igraph0.2810.0150.297
SMITE-package0.3540.0140.371
addShadowText0.0020.0000.003
annotateExpression1.1140.0101.127
annotateModification000
convertGeneIds2.6210.2752.941
curated_expression0.0310.0020.033
extractExpression0.2420.0110.254
extractGOseq0.0720.0030.076
extractModification1.9840.0252.014
extractModules0.0700.0030.072
extractScores0.0770.0030.079
genes_for_conversiontest1.5210.0121.536
hg19_gene_bed0.1360.0030.139
highScores0.0670.0030.071
histone_h3k4me10.0560.0020.060
makePvalueAnnotation0.6680.0230.695
makePvalueObject0.0460.0030.049
methylationdata0.0340.0020.036
normalizePval0.0690.0030.072
plotCompareScores0.6160.0320.653
plotDensityPval0.1090.0050.115
plotModule0.0740.0030.077
removeModification0.0520.0040.059
runBioNet0.0710.0020.073
runGOseq0.0780.0030.082
runSpinglass0.5890.0330.628
scorePval0.0710.0030.074
stoufferTest0.0010.0000.001
test_annotation_score_data0.1080.0040.114