Back to Multiple platform build/check report for BioC 3.22: simplified long |
|
This page was generated on 2025-05-21 12:09 -0400 (Wed, 21 May 2025).
Hostname | OS | Arch (*) | R version | Installed pkgs |
---|---|---|---|---|
nebbiolo2 | Linux (Ubuntu 24.04.1 LTS) | x86_64 | 4.5.0 (2025-04-11) -- "How About a Twenty-Six" | 4749 |
palomino8 | Windows Server 2022 Datacenter | x64 | 4.5.0 (2025-04-11 ucrt) -- "How About a Twenty-Six" | 4511 |
lconway | macOS 12.7.1 Monterey | x86_64 | 4.5.0 Patched (2025-04-21 r88169) -- "How About a Twenty-Six" | 4548 |
kjohnson3 | macOS 13.7.1 Ventura | arm64 | 4.5.0 Patched (2025-04-21 r88169) -- "How About a Twenty-Six" | 4489 |
taishan | Linux (openEuler 24.03 LTS) | aarch64 | 4.5.0 (2025-04-11) -- "How About a Twenty-Six" | 4455 |
Click on any hostname to see more info about the system (e.g. compilers) (*) as reported by 'uname -p', except on Windows and Mac OS X |
Package 1957/2304 | Hostname | OS / Arch | INSTALL | BUILD | CHECK | BUILD BIN | ||||||||
SIAMCAT 2.13.0 (landing page) Jakob Wirbel
| nebbiolo2 | Linux (Ubuntu 24.04.1 LTS) / x86_64 | OK | OK | OK | ![]() | ||||||||
palomino8 | Windows Server 2022 Datacenter / x64 | OK | OK | OK | OK | ![]() | ||||||||
lconway | macOS 12.7.1 Monterey / x86_64 | OK | OK | OK | OK | ![]() | ||||||||
kjohnson3 | macOS 13.7.1 Ventura / arm64 | OK | OK | OK | OK | ![]() | ||||||||
taishan | Linux (openEuler 24.03 LTS) / aarch64 | OK | OK | OK | ||||||||||
To the developers/maintainers of the SIAMCAT package: - Allow up to 24 hours (and sometimes 48 hours) for your latest push to git@git.bioconductor.org:packages/SIAMCAT.git to reflect on this report. See Troubleshooting Build Report for more information. - Use the following Renviron settings to reproduce errors and warnings. - If 'R CMD check' started to fail recently on the Linux builder(s) over a missing dependency, add the missing dependency to 'Suggests:' in your DESCRIPTION file. See Renviron.bioc for more information. |
Package: SIAMCAT |
Version: 2.13.0 |
Command: /Library/Frameworks/R.framework/Resources/bin/R CMD check --install=check:SIAMCAT.install-out.txt --library=/Library/Frameworks/R.framework/Resources/library --no-vignettes --timings SIAMCAT_2.13.0.tar.gz |
StartedAt: 2025-05-20 23:19:58 -0400 (Tue, 20 May 2025) |
EndedAt: 2025-05-20 23:25:10 -0400 (Tue, 20 May 2025) |
EllapsedTime: 311.2 seconds |
RetCode: 0 |
Status: OK |
CheckDir: SIAMCAT.Rcheck |
Warnings: 0 |
############################################################################## ############################################################################## ### ### Running command: ### ### /Library/Frameworks/R.framework/Resources/bin/R CMD check --install=check:SIAMCAT.install-out.txt --library=/Library/Frameworks/R.framework/Resources/library --no-vignettes --timings SIAMCAT_2.13.0.tar.gz ### ############################################################################## ############################################################################## * using log directory ‘/Users/biocbuild/bbs-3.22-bioc/meat/SIAMCAT.Rcheck’ * using R version 4.5.0 Patched (2025-04-21 r88169) * using platform: x86_64-apple-darwin20 * R was compiled by Apple clang version 14.0.0 (clang-1400.0.29.202) GNU Fortran (GCC) 14.2.0 * running under: macOS Monterey 12.7.6 * using session charset: UTF-8 * using option ‘--no-vignettes’ * checking for file ‘SIAMCAT/DESCRIPTION’ ... OK * checking extension type ... Package * this is package ‘SIAMCAT’ version ‘2.13.0’ * package encoding: UTF-8 * checking package namespace information ... OK * checking package dependencies ... OK * checking if this is a source package ... OK * checking if there is a namespace ... OK * checking for hidden files and directories ... NOTE Found the following hidden files and directories: .travis.yml These were most likely included in error. See section ‘Package structure’ in the ‘Writing R Extensions’ manual. * checking for portable file names ... OK * checking for sufficient/correct file permissions ... OK * checking whether package ‘SIAMCAT’ can be installed ... OK * checking installed package size ... INFO installed size is 5.1Mb sub-directories of 1Mb or more: extdata 2.1Mb help 1.9Mb * checking package directory ... OK * checking ‘build’ directory ... OK * checking DESCRIPTION meta-information ... OK * checking top-level files ... OK * checking for left-over files ... OK * checking index information ... OK * checking package subdirectories ... OK * checking code files for non-ASCII characters ... OK * checking R files for syntax errors ... OK * checking whether the package can be loaded ... OK * checking whether the package can be loaded with stated dependencies ... OK * checking whether the package can be unloaded cleanly ... OK * checking whether the namespace can be loaded with stated dependencies ... OK * checking whether the namespace can be unloaded cleanly ... OK * checking dependencies in R code ... OK * checking S3 generic/method consistency ... OK * checking replacement functions ... OK * checking foreign function calls ... OK * checking R code for possible problems ... OK * checking Rd files ... OK * checking Rd metadata ... OK * checking Rd cross-references ... NOTE Found the following Rd file(s) with Rd \link{} targets missing package anchors: check.associations.Rd: lmerTest summarize.features.Rd: phyloseq train.model.Rd: mlr3learners, glmnet, LiblineaR Please provide package anchors for all Rd \link{} targets not in the package itself and the base packages. * checking for missing documentation entries ... OK * checking for code/documentation mismatches ... OK * checking Rd \usage sections ... OK * checking Rd contents ... OK * checking for unstated dependencies in examples ... OK * checking contents of ‘data’ directory ... OK * checking data for non-ASCII characters ... OK * checking LazyData ... OK * checking data for ASCII and uncompressed saves ... OK * checking files in ‘vignettes’ ... OK * checking examples ... OK Examples with CPU (user + system) or elapsed time > 5s user system elapsed assign-model_list 26.573 0.526 27.247 model.interpretation.plot 26.526 0.436 27.111 make.predictions 26.351 0.418 26.906 train.model 25.597 0.623 26.378 * checking for unstated dependencies in vignettes ... OK * checking package vignettes ... OK * checking running R code from vignettes ... SKIPPED * checking re-building of vignette outputs ... SKIPPED * checking PDF version of manual ... OK * DONE Status: 2 NOTEs See ‘/Users/biocbuild/bbs-3.22-bioc/meat/SIAMCAT.Rcheck/00check.log’ for details.
SIAMCAT.Rcheck/00install.out
############################################################################## ############################################################################## ### ### Running command: ### ### /Library/Frameworks/R.framework/Resources/bin/R CMD INSTALL SIAMCAT ### ############################################################################## ############################################################################## * installing to library ‘/Library/Frameworks/R.framework/Versions/4.5-x86_64/Resources/library’ * installing *source* package ‘SIAMCAT’ ... ** this is package ‘SIAMCAT’ version ‘2.13.0’ ** using staged installation ** R ** data *** moving datasets to lazyload DB ** inst ** byte-compile and prepare package for lazy loading ** help *** installing help indices *** copying figures ** building package indices ** installing vignettes ** testing if installed package can be loaded from temporary location ** testing if installed package can be loaded from final location ** testing if installed package keeps a record of temporary installation path * DONE (SIAMCAT)
SIAMCAT.Rcheck/SIAMCAT-Ex.timings
name | user | system | elapsed | |
accessSlot | 0.008 | 0.005 | 0.012 | |
add.meta.pred | 0.025 | 0.002 | 0.027 | |
assign-associations | 0.006 | 0.001 | 0.007 | |
assign-data_split | 0.006 | 0.001 | 0.008 | |
assign-eval_data | 0.007 | 0.002 | 0.009 | |
assign-filt_feat | 0.005 | 0.002 | 0.007 | |
assign-label | 0.008 | 0.002 | 0.010 | |
assign-meta | 0.030 | 0.001 | 0.032 | |
assign-model_list | 26.573 | 0.526 | 27.247 | |
assign-norm_feat | 0.005 | 0.001 | 0.006 | |
assign-orig_feat | 0.010 | 0.001 | 0.013 | |
assign-physeq | 0.008 | 0.002 | 0.010 | |
assign-pred_matrix | 0.020 | 0.002 | 0.022 | |
assoc_param-methods | 0.006 | 0.002 | 0.008 | |
association.plot | 0.207 | 0.014 | 0.223 | |
associations-methods | 0.008 | 0.002 | 0.010 | |
check.associations | 0.009 | 0.002 | 0.011 | |
check.confounders | 0.497 | 0.031 | 0.533 | |
create.data.split | 0.027 | 0.001 | 0.028 | |
create.label | 0.002 | 0.001 | 0.004 | |
data_split-methods | 0.004 | 0.001 | 0.005 | |
eval_data-methods | 0.004 | 0.001 | 0.006 | |
evaluate.predictions | 1.744 | 0.056 | 1.813 | |
feature_type-methods | 0.004 | 0.001 | 0.006 | |
feature_weights-methods | 0.004 | 0.001 | 0.006 | |
filt_feat-methods | 0.004 | 0.001 | 0.006 | |
filt_params-methods | 0.004 | 0.002 | 0.006 | |
filter.features | 0.013 | 0.001 | 0.014 | |
filter.label | 0.007 | 0.001 | 0.008 | |
get.filt_feat.matrix | 0.005 | 0.002 | 0.007 | |
get.norm_feat.matrix | 0.004 | 0.002 | 0.006 | |
get.orig_feat.matrix | 0.004 | 0.001 | 0.005 | |
label-methods | 0.004 | 0.001 | 0.006 | |
make.predictions | 26.351 | 0.418 | 26.906 | |
meta-methods | 0.017 | 0.002 | 0.020 | |
model.evaluation.plot | 0.023 | 0.008 | 0.032 | |
model.interpretation.plot | 26.526 | 0.436 | 27.111 | |
model_list-methods | 0.004 | 0.002 | 0.006 | |
model_type-methods | 0.005 | 0.001 | 0.006 | |
models-methods | 0.004 | 0.001 | 0.006 | |
norm_feat-methods | 0.005 | 0.002 | 0.007 | |
norm_params-methods | 0.005 | 0.002 | 0.006 | |
normalize.features | 0.013 | 0.002 | 0.014 | |
orig_feat-methods | 0.005 | 0.002 | 0.007 | |
physeq-methods | 0.008 | 0.002 | 0.010 | |
pred_matrix-methods | 0.004 | 0.001 | 0.006 | |
read.label | 0.010 | 0.001 | 0.012 | |
read.lefse | 0.667 | 0.011 | 0.683 | |
select.samples | 0.063 | 0.002 | 0.066 | |
siamcat | 0.350 | 0.014 | 0.367 | |
siamcat.to.lefse | 0.017 | 0.002 | 0.018 | |
siamcat.to.maaslin | 0.022 | 0.002 | 0.025 | |
summarize.features | 2.421 | 0.194 | 2.627 | |
train.model | 25.597 | 0.623 | 26.378 | |
validate.data | 0.020 | 0.002 | 0.022 | |
volcano.plot | 0.010 | 0.003 | 0.012 | |
weight_matrix-methods | 0.005 | 0.001 | 0.006 | |