| Back to Multiple platform build/check report for BioC 3.22: simplified long |
|
This page was generated on 2025-09-11 12:07 -0400 (Thu, 11 Sep 2025).
| Hostname | OS | Arch (*) | R version | Installed pkgs |
|---|---|---|---|---|
| nebbiolo2 | Linux (Ubuntu 24.04.3 LTS) | x86_64 | 4.5.1 Patched (2025-08-23 r88802) -- "Great Square Root" | 4539 |
| lconway | macOS 12.7.1 Monterey | x86_64 | 4.5.1 Patched (2025-09-10 r88807) -- "Great Square Root" | 4474 |
| kjohnson3 | macOS 13.7.7 Ventura | arm64 | 4.5.1 Patched (2025-09-10 r88807) -- "Great Square Root" | 4519 |
| taishan | Linux (openEuler 24.03 LTS) | aarch64 | 4.5.0 (2025-04-11) -- "How About a Twenty-Six" | 4544 |
| Click on any hostname to see more info about the system (e.g. compilers) (*) as reported by 'uname -p', except on Windows and Mac OS X | ||||
| Package 1964/2322 | Hostname | OS / Arch | INSTALL | BUILD | CHECK | BUILD BIN | ||||||||
| SGCP 1.9.0 (landing page) Niloofar AghaieAbiane
| nebbiolo2 | Linux (Ubuntu 24.04.3 LTS) / x86_64 | OK | OK | OK | |||||||||
| lconway | macOS 12.7.1 Monterey / x86_64 | OK | OK | OK | OK | |||||||||
| kjohnson3 | macOS 13.7.7 Ventura / arm64 | OK | OK | OK | OK | |||||||||
| taishan | Linux (openEuler 24.03 LTS) / aarch64 | OK | OK | OK | ||||||||||
|
To the developers/maintainers of the SGCP package: - Allow up to 24 hours (and sometimes 48 hours) for your latest push to git@git.bioconductor.org:packages/SGCP.git to reflect on this report. See Troubleshooting Build Report for more information. - Use the following Renviron settings to reproduce errors and warnings. - If 'R CMD check' started to fail recently on the Linux builder(s) over a missing dependency, add the missing dependency to 'Suggests:' in your DESCRIPTION file. See Renviron.bioc for more information. - See Martin Grigorov's blog post for how to debug Linux ARM64 related issues on a x86_64 host. |
| Package: SGCP |
| Version: 1.9.0 |
| Command: /home/biocbuild/R/R/bin/R CMD check --install=check:SGCP.install-out.txt --library=/home/biocbuild/R/R/site-library --no-vignettes --timings SGCP_1.9.0.tar.gz |
| StartedAt: 2025-09-09 11:14:08 -0000 (Tue, 09 Sep 2025) |
| EndedAt: 2025-09-09 11:20:05 -0000 (Tue, 09 Sep 2025) |
| EllapsedTime: 356.5 seconds |
| RetCode: 0 |
| Status: OK |
| CheckDir: SGCP.Rcheck |
| Warnings: 0 |
##############################################################################
##############################################################################
###
### Running command:
###
### /home/biocbuild/R/R/bin/R CMD check --install=check:SGCP.install-out.txt --library=/home/biocbuild/R/R/site-library --no-vignettes --timings SGCP_1.9.0.tar.gz
###
##############################################################################
##############################################################################
* using log directory ‘/home/biocbuild/bbs-3.22-bioc/meat/SGCP.Rcheck’
* using R version 4.5.0 (2025-04-11)
* using platform: aarch64-unknown-linux-gnu
* R was compiled by
aarch64-unknown-linux-gnu-gcc (GCC) 14.2.0
GNU Fortran (GCC) 14.2.0
* running under: openEuler 24.03 (LTS)
* using session charset: UTF-8
* using option ‘--no-vignettes’
* checking for file ‘SGCP/DESCRIPTION’ ... OK
* checking extension type ... Package
* this is package ‘SGCP’ version ‘1.9.0’
* package encoding: UTF-8
* checking package namespace information ... OK
* checking package dependencies ... OK
* checking if this is a source package ... OK
* checking if there is a namespace ... OK
* checking for hidden files and directories ... OK
* checking for portable file names ... OK
* checking for sufficient/correct file permissions ... OK
* checking whether package ‘SGCP’ can be installed ... OK
* checking installed package size ... OK
* checking package directory ... OK
* checking ‘build’ directory ... OK
* checking DESCRIPTION meta-information ... OK
* checking top-level files ... OK
* checking for left-over files ... OK
* checking index information ... OK
* checking package subdirectories ... OK
* checking code files for non-ASCII characters ... OK
* checking R files for syntax errors ... OK
* checking whether the package can be loaded ... OK
* checking whether the package can be loaded with stated dependencies ... OK
* checking whether the package can be unloaded cleanly ... OK
* checking whether the namespace can be loaded with stated dependencies ... OK
* checking whether the namespace can be unloaded cleanly ... OK
* checking loading without being on the library search path ... OK
* checking dependencies in R code ... OK
* checking S3 generic/method consistency ... OK
* checking replacement functions ... OK
* checking foreign function calls ... OK
* checking R code for possible problems ... OK
* checking Rd files ... NOTE
checkRd: (-1) SGCP_clustering.Rd:39: Lost braces in \itemize; \value handles \item{}{} directly
checkRd: (-1) SGCP_clustering.Rd:40: Lost braces in \itemize; \value handles \item{}{} directly
checkRd: (-1) SGCP_clustering.Rd:41: Lost braces in \itemize; \value handles \item{}{} directly
checkRd: (-1) SGCP_clustering.Rd:42: Lost braces in \itemize; \value handles \item{}{} directly
checkRd: (-1) SGCP_clustering.Rd:43: Lost braces in \itemize; \value handles \item{}{} directly
checkRd: (-1) SGCP_clustering.Rd:44: Lost braces in \itemize; \value handles \item{}{} directly
checkRd: (-1) SGCP_clustering.Rd:45: Lost braces in \itemize; \value handles \item{}{} directly
checkRd: (-1) SGCP_clustering.Rd:46: Lost braces in \itemize; \value handles \item{}{} directly
checkRd: (-1) SGCP_clustering.Rd:47: Lost braces in \itemize; \value handles \item{}{} directly
checkRd: (-1) SGCP_clustering.Rd:48: Lost braces in \itemize; \value handles \item{}{} directly
checkRd: (-1) SGCP_clustering.Rd:49: Lost braces in \itemize; \value handles \item{}{} directly
checkRd: (-1) SGCP_clustering.Rd:57: Lost braces in \itemize; \value handles \item{}{} directly
checkRd: (-1) SGCP_clustering.Rd:58: Lost braces in \itemize; \value handles \item{}{} directly
checkRd: (-1) SGCP_clustering.Rd:59: Lost braces in \itemize; \value handles \item{}{} directly
checkRd: (-1) SGCP_ezSGCP.Rd:68: Lost braces in \itemize; \value handles \item{}{} directly
checkRd: (-1) SGCP_ezSGCP.Rd:69: Lost braces in \itemize; \value handles \item{}{} directly
checkRd: (-1) SGCP_ezSGCP.Rd:70: Lost braces in \itemize; \value handles \item{}{} directly
checkRd: (-1) SGCP_ezSGCP.Rd:72: Lost braces in \itemize; \value handles \item{}{} directly
checkRd: (-1) SGCP_ezSGCP.Rd:73: Lost braces in \itemize; \value handles \item{}{} directly
checkRd: (-1) SGCP_ezSGCP.Rd:74: Lost braces in \itemize; \value handles \item{}{} directly
checkRd: (-1) SGCP_ezSGCP.Rd:75: Lost braces in \itemize; \value handles \item{}{} directly
checkRd: (-1) SGCP_ezSGCP.Rd:76: Lost braces in \itemize; \value handles \item{}{} directly
checkRd: (-1) SGCP_ezSGCP.Rd:77: Lost braces in \itemize; \value handles \item{}{} directly
checkRd: (-1) SGCP_ezSGCP.Rd:78: Lost braces in \itemize; \value handles \item{}{} directly
checkRd: (-1) SGCP_ezSGCP.Rd:79: Lost braces in \itemize; \value handles \item{}{} directly
checkRd: (-1) SGCP_ezSGCP.Rd:80: Lost braces in \itemize; \value handles \item{}{} directly
checkRd: (-1) SGCP_ezSGCP.Rd:81: Lost braces in \itemize; \value handles \item{}{} directly
checkRd: (-1) SGCP_ezSGCP.Rd:82: Lost braces in \itemize; \value handles \item{}{} directly
checkRd: (-1) SGCP_ezSGCP.Rd:83: Lost braces in \itemize; \value handles \item{}{} directly
checkRd: (-1) SGCP_ezSGCP.Rd:84: Lost braces in \itemize; \value handles \item{}{} directly
checkRd: (-1) SGCP_ezSGCP.Rd:85: Lost braces in \itemize; \value handles \item{}{} directly
checkRd: (-1) SGCP_ezSGCP.Rd:87: Lost braces in \itemize; \value handles \item{}{} directly
checkRd: (-1) SGCP_ezSGCP.Rd:89: Lost braces in \itemize; \value handles \item{}{} directly
checkRd: (-1) SGCP_ezSGCP.Rd:90: Lost braces in \itemize; \value handles \item{}{} directly
checkRd: (-1) SGCP_ezSGCP.Rd:92: Lost braces in \itemize; \value handles \item{}{} directly
checkRd: (-1) SGCP_ezSGCP.Rd:94: Lost braces in \itemize; \value handles \item{}{} directly
checkRd: (-1) SGCP_ezSGCP.Rd:95: Lost braces in \itemize; \value handles \item{}{} directly
checkRd: (-1) SGCP_ezSGCP.Rd:97: Lost braces in \itemize; \value handles \item{}{} directly
checkRd: (-1) SGCP_ezSGCP.Rd:99: Lost braces in \itemize; \value handles \item{}{} directly
checkRd: (-1) SGCP_ezSGCP.Rd:100: Lost braces in \itemize; \value handles \item{}{} directly
checkRd: (-1) SGCP_ezSGCP.Rd:101: Lost braces in \itemize; \value handles \item{}{} directly
checkRd: (-1) SGCP_ezSGCP.Rd:103: Lost braces in \itemize; \value handles \item{}{} directly
checkRd: (-1) SGCP_ezSGCP.Rd:105: Lost braces in \itemize; \value handles \item{}{} directly
checkRd: (-1) SGCP_ezSGCP.Rd:106: Lost braces in \itemize; \value handles \item{}{} directly
checkRd: (-1) SGCP_semiSupervised.Rd:24: Lost braces
24 | \\item{semiSupervised}{An object of the caret train class representing the semi-supervised classification model.}
| ^
checkRd: (-1) SGCP_semiSupervised.Rd:24: Lost braces
24 | \\item{semiSupervised}{An object of the caret train class representing the semi-supervised classification model.}
| ^
checkRd: (-1) resFinalGO.Rd:11: Lost braces
11 | \details{code{resFinalGO} is a list containing the following information:
| ^
* checking Rd metadata ... OK
* checking Rd cross-references ... OK
* checking for missing documentation entries ... OK
* checking for code/documentation mismatches ... OK
* checking Rd \usage sections ... OK
* checking Rd contents ... OK
* checking for unstated dependencies in examples ... OK
* checking contents of ‘data’ directory ... OK
* checking data for non-ASCII characters ... OK
* checking LazyData ... OK
* checking data for ASCII and uncompressed saves ... OK
* checking files in ‘vignettes’ ... OK
* checking examples ... OK
* checking for unstated dependencies in vignettes ... OK
* checking package vignettes ... OK
* checking running R code from vignettes ... SKIPPED
* checking re-building of vignette outputs ... SKIPPED
* checking PDF version of manual ... OK
* DONE
Status: 1 NOTE
See
‘/home/biocbuild/bbs-3.22-bioc/meat/SGCP.Rcheck/00check.log’
for details.
SGCP.Rcheck/00install.out
############################################################################## ############################################################################## ### ### Running command: ### ### /home/biocbuild/R/R/bin/R CMD INSTALL SGCP ### ############################################################################## ############################################################################## * installing to library ‘/home/biocbuild/R/R-4.5.0/site-library’ * installing *source* package ‘SGCP’ ... ** this is package ‘SGCP’ version ‘1.9.0’ ** using staged installation ** R ** data *** moving datasets to lazyload DB ** inst ** byte-compile and prepare package for lazy loading ** help *** installing help indices ** building package indices ** installing vignettes ** testing if installed package can be loaded from temporary location ** testing if installed package can be loaded from final location ** testing if installed package keeps a record of temporary installation path * DONE (SGCP)
SGCP.Rcheck/SGCP-Ex.timings
| name | user | system | elapsed | |
| SGCP_adjacencyMatrix | 0.417 | 0.008 | 0.426 | |
| SGCP_clustering | 0.990 | 0.008 | 1.001 | |
| SGCP_ezPLOT | 0.242 | 0.000 | 0.243 | |
| SGCP_ezSGCP | 0.277 | 0.008 | 0.306 | |
| SGCP_go | 0.167 | 0.004 | 0.171 | |
| SGCP_plot_bar | 0.378 | 0.012 | 0.392 | |
| SGCP_plot_conductance | 0.529 | 0.076 | 0.607 | |
| SGCP_plot_density | 0.330 | 0.036 | 0.369 | |
| SGCP_plot_heatMap | 0.498 | 0.030 | 0.554 | |
| SGCP_plot_jitter | 0.226 | 0.012 | 0.238 | |
| SGCP_plot_pca | 0.159 | 0.000 | 0.159 | |
| SGCP_plot_pie | 0.522 | 0.016 | 0.540 | |
| SGCP_plot_silhouette | 0.791 | 0.087 | 0.882 | |
| SGCP_semiLabeling | 0.042 | 0.012 | 0.054 | |
| SGCP_semiSupervised | 2.632 | 0.048 | 2.688 | |
| cheng | 0.274 | 0.004 | 0.279 | |
| resClus | 0.756 | 0.024 | 0.782 | |
| resFinalGO | 0.010 | 0.001 | 0.011 | |
| resInitialGO | 0.080 | 0.006 | 0.086 | |
| resSemiLabel | 0.004 | 0.000 | 0.005 | |
| resSemiSupervised | 0.019 | 0.000 | 0.020 | |
| sgcp | 0.060 | 0.004 | 0.065 | |