Back to Build/check report for BioC 3.23:   simplified   long
ABCDEFGHIJKLMNOPQ[R]STUVWXYZ

This page was generated on 2025-11-07 11:32 -0500 (Fri, 07 Nov 2025).

HostnameOSArch (*)R versionInstalled pkgs
nebbiolo1Linux (Ubuntu 24.04.3 LTS)x86_64R Under development (unstable) (2025-10-20 r88955) -- "Unsuffered Consequences" 4818
Click on any hostname to see more info about the system (e.g. compilers)      (*) as reported by 'uname -p', except on Windows and Mac OS X

All results for package Rsubread


To the developers/maintainers of the Rsubread package:
- Allow up to 24 hours (and sometimes 48 hours) for your latest push to git@git.bioconductor.org:packages/Rsubread.git to reflect on this report. See Troubleshooting Build Report for more information.
- Use the following Renviron settings to reproduce errors and warnings.
- If 'R CMD check' started to fail recently on the Linux builder(s) over a missing dependency, add the missing dependency to 'Suggests:' in your DESCRIPTION file. See Renviron.bioc for more information.

raw results

Package 1825/2323HostnameOS / ArchINSTALLBUILDCHECKBUILD BIN
Rsubread 2.25.0  (landing page)
Wei Shi , Yang Liao and Gordon K Smyth
Snapshot Date: 2025-11-06 13:40 -0500 (Thu, 06 Nov 2025)
git_url: https://git.bioconductor.org/packages/Rsubread
git_branch: devel
git_last_commit: 8fedb93
git_last_commit_date: 2025-11-01 02:11:35 -0500 (Sat, 01 Nov 2025)
nebbiolo1Linux (Ubuntu 24.04.3 LTS) / x86_64  OK    OK    WARNINGS  UNNEEDED, same version is already published



Results for Bioconductor software packages that depend directly on package Rsubread

QUICK STATSOS / ArchINSTALLBUILDCHECKBUILD BIN
nebbiolo1Linux (Ubuntu 24.04.3 LTS) / x86_64
0110
0110
0127
Package 1/11HostnameOS / ArchINSTALLBUILDCHECKBUILD BIN
APAlyzer 1.25.0  (landing page)
Ruijia Wang
git_last_commit: 5b343c9
git_last_commit_date: 2025-10-29 10:53:34 -0500
nebbiolo1Linux (Ubuntu 24.04.3 LTS) / x86_64  OK    OK    ERROR  
Package 2/11HostnameOS / ArchINSTALLBUILDCHECKBUILD BIN
CleanUpRNAseq 1.5.0  (landing page)
Haibo Liu
git_last_commit: 4f653f6
git_last_commit_date: 2025-10-29 11:31:19 -0500
nebbiolo1Linux (Ubuntu 24.04.3 LTS) / x86_64  OK    OK    OK  UNNEEDED, same version is already published
Package 3/11HostnameOS / ArchINSTALLBUILDCHECKBUILD BIN
Damsel 1.7.0  (landing page)
Caitlin Page
git_last_commit: 4c35e04
git_last_commit_date: 2025-10-29 11:29:38 -0500
nebbiolo1Linux (Ubuntu 24.04.3 LTS) / x86_64  OK    OK    WARNINGS  UNNEEDED, same version is already published
Package 4/11HostnameOS / ArchINSTALLBUILDCHECKBUILD BIN
diffUTR 1.19.0  (landing page)
Pierre-Luc Germain
git_last_commit: 2f86b30
git_last_commit_date: 2025-10-29 11:09:14 -0500
nebbiolo1Linux (Ubuntu 24.04.3 LTS) / x86_64  OK    OK    OK  UNNEEDED, same version is already published
Package 5/11HostnameOS / ArchINSTALLBUILDCHECKBUILD BIN
dupRadar 1.41.0  (landing page)
Sergi Sayols , Holger Klein
git_last_commit: e48983a
git_last_commit_date: 2025-10-29 10:27:51 -0500
nebbiolo1Linux (Ubuntu 24.04.3 LTS) / x86_64  OK    OK    OK  UNNEEDED, same version is already published
Package 6/11HostnameOS / ArchINSTALLBUILDCHECKBUILD BIN
ExCluster 1.29.0  (landing page)
R. Matthew Tanner
git_last_commit: 9571f20
git_last_commit_date: 2025-10-29 10:47:47 -0500
nebbiolo1Linux (Ubuntu 24.04.3 LTS) / x86_64  OK    OK    OK  UNNEEDED, same version is already published
Package 7/11HostnameOS / ArchINSTALLBUILDCHECKBUILD BIN
FRASER 2.7.0  (landing page)
Christian Mertes
git_last_commit: ecd421c
git_last_commit_date: 2025-10-29 10:58:54 -0500
nebbiolo1Linux (Ubuntu 24.04.3 LTS) / x86_64  ERROR    ERROR  skipped
Package 8/11HostnameOS / ArchINSTALLBUILDCHECKBUILD BIN
ribosomeProfilingQC 1.23.0  (landing page)
Jianhong Ou
git_last_commit: bad02b9
git_last_commit_date: 2025-10-29 10:57:03 -0500
nebbiolo1Linux (Ubuntu 24.04.3 LTS) / x86_64  OK    OK    OK  UNNEEDED, same version is already published
Package 9/11HostnameOS / ArchINSTALLBUILDCHECKBUILD BIN
scPipe 2.11.0  (landing page)
Shian Su
git_last_commit: fbfb464
git_last_commit_date: 2025-10-29 10:41:32 -0500
nebbiolo1Linux (Ubuntu 24.04.3 LTS) / x86_64  OK    OK    OK  UNNEEDED, same version is already published
Package 10/11HostnameOS / ArchINSTALLBUILDCHECKBUILD BIN
scruff 1.29.0  (landing page)
Zhe Wang
git_last_commit: e5f29bf
git_last_commit_date: 2025-10-29 10:46:27 -0500
nebbiolo1Linux (Ubuntu 24.04.3 LTS) / x86_64  OK    OK    OK  UNNEEDED, same version is already published
Package 11/11HostnameOS / ArchINSTALLBUILDCHECKBUILD BIN
stPipe 1.1.0  (landing page)
Yang Xu
git_last_commit: 3b726e3
git_last_commit_date: 2025-10-29 11:37:41 -0500
nebbiolo1Linux (Ubuntu 24.04.3 LTS) / x86_64  OK    OK    WARNINGS  UNNEEDED, same version is already published