Back to Multiple platform build/check report for BioC 3.22:   simplified   long
ABCDE[F]GHIJKLMNOPQRSTUVWXYZ

This page was generated on 2025-10-13 12:03 -0400 (Mon, 13 Oct 2025).

HostnameOSArch (*)R versionInstalled pkgs
nebbiolo2Linux (Ubuntu 24.04.3 LTS)x86_644.5.1 Patched (2025-08-23 r88802) -- "Great Square Root" 4864
lconwaymacOS 12.7.1 Montereyx86_644.5.1 Patched (2025-09-10 r88807) -- "Great Square Root" 4652
kjohnson3macOS 13.7.7 Venturaarm644.5.1 Patched (2025-09-10 r88807) -- "Great Square Root" 4597
taishanLinux (openEuler 24.03 LTS)aarch644.5.0 (2025-04-11) -- "How About a Twenty-Six" 4586
Click on any hostname to see more info about the system (e.g. compilers)      (*) as reported by 'uname -p', except on Windows and Mac OS X

Package 769/2346HostnameOS / ArchINSTALLBUILDCHECKBUILD BIN
FRASER 2.5.2  (landing page)
Christian Mertes
Snapshot Date: 2025-10-12 13:45 -0400 (Sun, 12 Oct 2025)
git_url: https://git.bioconductor.org/packages/FRASER
git_branch: devel
git_last_commit: 0165ef5
git_last_commit_date: 2025-06-08 08:21:10 -0400 (Sun, 08 Jun 2025)
nebbiolo2Linux (Ubuntu 24.04.3 LTS) / x86_64  OK    OK    OK  UNNEEDED, same version is already published
lconwaymacOS 12.7.1 Monterey / x86_64  OK    OK    OK    OK  UNNEEDED, same version is already published
kjohnson3macOS 13.7.7 Ventura / arm64  OK    OK    OK    OK  UNNEEDED, same version is already published
taishanLinux (openEuler 24.03 LTS) / aarch64  OK    OK    ERROR  


CHECK results for FRASER on nebbiolo2

To the developers/maintainers of the FRASER package:
- Allow up to 24 hours (and sometimes 48 hours) for your latest push to git@git.bioconductor.org:packages/FRASER.git to reflect on this report. See Troubleshooting Build Report for more information.
- Use the following Renviron settings to reproduce errors and warnings.
- If 'R CMD check' started to fail recently on the Linux builder(s) over a missing dependency, add the missing dependency to 'Suggests:' in your DESCRIPTION file. See Renviron.bioc for more information.

raw results


Summary

Package: FRASER
Version: 2.5.2
Command: /home/biocbuild/bbs-3.22-bioc/R/bin/R CMD check --install=check:FRASER.install-out.txt --library=/home/biocbuild/bbs-3.22-bioc/R/site-library --timings FRASER_2.5.2.tar.gz
StartedAt: 2025-10-12 23:57:00 -0400 (Sun, 12 Oct 2025)
EndedAt: 2025-10-13 00:18:58 -0400 (Mon, 13 Oct 2025)
EllapsedTime: 1318.4 seconds
RetCode: 0
Status:   OK  
CheckDir: FRASER.Rcheck
Warnings: 0

Command output

##############################################################################
##############################################################################
###
### Running command:
###
###   /home/biocbuild/bbs-3.22-bioc/R/bin/R CMD check --install=check:FRASER.install-out.txt --library=/home/biocbuild/bbs-3.22-bioc/R/site-library --timings FRASER_2.5.2.tar.gz
###
##############################################################################
##############################################################################


* using log directory ‘/home/biocbuild/bbs-3.22-bioc/meat/FRASER.Rcheck’
* using R version 4.5.1 Patched (2025-08-23 r88802)
* using platform: x86_64-pc-linux-gnu
* R was compiled by
    gcc (Ubuntu 13.3.0-6ubuntu2~24.04) 13.3.0
    GNU Fortran (Ubuntu 13.3.0-6ubuntu2~24.04) 13.3.0
* running under: Ubuntu 24.04.3 LTS
* using session charset: UTF-8
* checking for file ‘FRASER/DESCRIPTION’ ... OK
* checking extension type ... Package
* this is package ‘FRASER’ version ‘2.5.2’
* package encoding: UTF-8
* checking package namespace information ... OK
* checking package dependencies ... INFO
Imports includes 34 non-default packages.
Importing from so many packages makes the package vulnerable to any of
them becoming unavailable.  Move as many as possible to Suggests and
use conditionally.
* checking if this is a source package ... OK
* checking if there is a namespace ... OK
* checking for hidden files and directories ... OK
* checking for portable file names ... OK
* checking for sufficient/correct file permissions ... OK
* checking whether package ‘FRASER’ can be installed ... OK
* used C++ compiler: ‘g++ (Ubuntu 13.3.0-6ubuntu2~24.04) 13.3.0’
* checking installed package size ... INFO
  installed size is  7.9Mb
  sub-directories of 1Mb or more:
    R      1.4Mb
    libs   5.5Mb
* checking package directory ... OK
* checking ‘build’ directory ... OK
* checking DESCRIPTION meta-information ... OK
* checking top-level files ... OK
* checking for left-over files ... OK
* checking index information ... OK
* checking package subdirectories ... OK
* checking code files for non-ASCII characters ... OK
* checking R files for syntax errors ... OK
* checking whether the package can be loaded ... OK
* checking whether the package can be loaded with stated dependencies ... OK
* checking whether the package can be unloaded cleanly ... OK
* checking whether the namespace can be loaded with stated dependencies ... OK
* checking whether the namespace can be unloaded cleanly ... OK
* checking loading without being on the library search path ... OK
* checking whether startup messages can be suppressed ... OK
* checking dependencies in R code ... NOTE
Unexported objects imported by ':::' calls:
  'S4Vectors:::selectSome' 'ggbio:::.buildFacetsFromArgs'
  See the note in ?`:::` about the use of this operator.
* checking S3 generic/method consistency ... OK
* checking replacement functions ... OK
* checking foreign function calls ... OK
* checking R code for possible problems ... NOTE
annotateRangesWithTxDb: no visible binding for global variable
  ‘include’
calculatePadjValuesOnSubset : <anonymous>: no visible binding for
  global variable ‘gene_rowIdx’
estimateBestQ: no visible binding for global variable ‘oht’
hyperParams: no visible binding for global variable ‘oht’
loadFraserDataSet: no visible global function definition for
  ‘slotNames’
plotEncDimSearch.FRASER: no visible binding for global variable ‘oht’
plotEncDimSearch.FRASER: no visible binding for global variable
  ‘singular_values’
plotVolcano.FRASER: no visible binding for global variable
  ‘aberrantLabel’
updateSeqlevelsStyle: no visible binding for global variable
  ‘NCBI_Genome_Name’
updateSeqlevelsStyle: no visible global function definition for
  ‘setNames’
updateSeqlevelsStyle: no visible global function definition for
  ‘seqnames<-’
updateSeqlevelsStyle: no visible binding for global variable
  ‘UCSC_Genome_Name’
plotEncDimSearch,FraserDataSet: no visible binding for global variable
  ‘oht’
plotEncDimSearch,FraserDataSet: no visible binding for global variable
  ‘singular_values’
plotVolcano,FraserDataSet: no visible binding for global variable
  ‘aberrantLabel’
results,FraserDataSet: no visible binding for global variable ‘padjust’
results,FraserDataSet: no visible binding for global variable
  ‘pValueGene’
results,FraserDataSet: no visible binding for global variable
  ‘padjustGene’
Undefined global functions or variables:
  NCBI_Genome_Name UCSC_Genome_Name aberrantLabel gene_rowIdx include
  oht pValueGene padjust padjustGene seqnames<- setNames
  singular_values slotNames
Consider adding
  importFrom("methods", "slotNames")
  importFrom("stats", "setNames")
to your NAMESPACE file (and ensure that your DESCRIPTION Imports field
contains 'methods').
* checking Rd files ... OK
* checking Rd metadata ... OK
* checking Rd cross-references ... NOTE
Found the following Rd file(s) with Rd \link{} targets missing package
anchors:
  plotFunctions.Rd: aberrant
Please provide package anchors for all Rd \link{} targets not in the
package itself and the base packages.
* checking for missing documentation entries ... OK
* checking for code/documentation mismatches ... OK
* checking Rd \usage sections ... OK
* checking Rd contents ... OK
* checking for unstated dependencies in examples ... OK
* checking line endings in C/C++/Fortran sources/headers ... OK
* checking line endings in Makefiles ... OK
* checking compilation flags in Makevars ... OK
* checking for GNU extensions in Makefiles ... OK
* checking for portable use of $(BLAS_LIBS) and $(LAPACK_LIBS) ... OK
* checking use of PKG_*FLAGS in Makefiles ... OK
* checking compiled code ... NOTE
Note: information on .o files is not available
* checking files in ‘vignettes’ ... OK
* checking examples ... OK
Examples with CPU (user + system) or elapsed time > 5s
                              user system elapsed
plotFunctions              152.772  5.653 157.683
potentialImpactAnnotations  88.542  0.527  88.385
FRASER                      42.419  1.074  41.445
injectOutliers              29.660  0.966  29.610
results                     27.918  0.111  25.674
mergeExternalData           25.130  1.777  24.878
annotateRanges              25.992  0.667  28.455
filtering                   19.386  0.858  18.186
calculatePSIValues          19.932  0.121  17.935
estimateBestQ               19.637  0.296  19.934
createTestFraserDataSet     18.291  0.090  16.305
fds-methods                 17.914  0.320  17.467
getter_setter_functions     17.245  0.409  16.643
subset                      17.541  0.055  16.211
counts                      16.889  0.200  15.007
* checking for unstated dependencies in ‘tests’ ... OK
* checking tests ...
  Running ‘testthat.R’
 OK
* checking for unstated dependencies in vignettes ... OK
* checking package vignettes ... OK
* checking re-building of vignette outputs ... OK
* checking PDF version of manual ... OK
* DONE

Status: 4 NOTEs
See
  ‘/home/biocbuild/bbs-3.22-bioc/meat/FRASER.Rcheck/00check.log’
for details.


Installation output

FRASER.Rcheck/00install.out

##############################################################################
##############################################################################
###
### Running command:
###
###   /home/biocbuild/bbs-3.22-bioc/R/bin/R CMD INSTALL FRASER
###
##############################################################################
##############################################################################


* installing to library ‘/home/biocbuild/bbs-3.22-bioc/R/site-library’
* installing *source* package ‘FRASER’ ...
** this is package ‘FRASER’ version ‘2.5.2’
** using staged installation
** libs
using C++ compiler: ‘g++ (Ubuntu 13.3.0-6ubuntu2~24.04) 13.3.0’
g++ -std=gnu++17 -I"/home/biocbuild/bbs-3.22-bioc/R/include" -DNDEBUG  -I'/home/biocbuild/bbs-3.22-bioc/R/site-library/RcppArmadillo/include' -I'/home/biocbuild/bbs-3.22-bioc/R/site-library/Rcpp/include' -I/usr/local/include   -fopenmp -DARMA_DONT_USE_OPENMP -fpic  -g -O2  -Wall -Werror=format-security  -c RcppExports.cpp -o RcppExports.o
g++ -std=gnu++17 -I"/home/biocbuild/bbs-3.22-bioc/R/include" -DNDEBUG  -I'/home/biocbuild/bbs-3.22-bioc/R/site-library/RcppArmadillo/include' -I'/home/biocbuild/bbs-3.22-bioc/R/site-library/Rcpp/include' -I/usr/local/include   -fopenmp -DARMA_DONT_USE_OPENMP -fpic  -g -O2  -Wall -Werror=format-security  -c loss_n_gradient_functions.cpp -o loss_n_gradient_functions.o
g++ -std=gnu++17 -shared -L/home/biocbuild/bbs-3.22-bioc/R/lib -L/usr/local/lib -o FRASER.so RcppExports.o loss_n_gradient_functions.o -fopenmp -llapack -L/home/biocbuild/bbs-3.22-bioc/R/lib -lRblas -lgfortran -lm -lquadmath -L/home/biocbuild/bbs-3.22-bioc/R/lib -lR
installing to /home/biocbuild/bbs-3.22-bioc/R/site-library/00LOCK-FRASER/00new/FRASER/libs
** R
** inst
** byte-compile and prepare package for lazy loading
** help
*** installing help indices
** building package indices
** installing vignettes
** testing if installed package can be loaded from temporary location
** checking absolute paths in shared objects and dynamic libraries
** testing if installed package can be loaded from final location
** testing if installed package keeps a record of temporary installation path
* DONE (FRASER)

Tests output

FRASER.Rcheck/tests/testthat.Rout


R version 4.5.1 Patched (2025-08-23 r88802) -- "Great Square Root"
Copyright (C) 2025 The R Foundation for Statistical Computing
Platform: x86_64-pc-linux-gnu

R is free software and comes with ABSOLUTELY NO WARRANTY.
You are welcome to redistribute it under certain conditions.
Type 'license()' or 'licence()' for distribution details.

R is a collaborative project with many contributors.
Type 'contributors()' for more information and
'citation()' on how to cite R or R packages in publications.

Type 'demo()' for some demos, 'help()' for on-line help, or
'help.start()' for an HTML browser interface to help.
Type 'q()' to quit R.

> library(testthat)
> library(FRASER)
Loading required package: BiocParallel
Loading required package: data.table
Loading required package: Rsamtools
Loading required package: Seqinfo
Loading required package: BiocGenerics
Loading required package: generics

Attaching package: 'generics'

The following objects are masked from 'package:base':

    as.difftime, as.factor, as.ordered, intersect, is.element, setdiff,
    setequal, union


Attaching package: 'BiocGenerics'

The following objects are masked from 'package:stats':

    IQR, mad, sd, var, xtabs

The following objects are masked from 'package:base':

    Filter, Find, Map, Position, Reduce, anyDuplicated, aperm, append,
    as.data.frame, basename, cbind, colnames, dirname, do.call,
    duplicated, eval, evalq, get, grep, grepl, is.unsorted, lapply,
    mapply, match, mget, order, paste, pmax, pmax.int, pmin, pmin.int,
    rank, rbind, rownames, sapply, saveRDS, table, tapply, unique,
    unsplit, which.max, which.min

Loading required package: GenomicRanges
Loading required package: stats4
Loading required package: S4Vectors

Attaching package: 'S4Vectors'

The following objects are masked from 'package:data.table':

    first, second

The following object is masked from 'package:utils':

    findMatches

The following objects are masked from 'package:base':

    I, expand.grid, unname

Loading required package: IRanges

Attaching package: 'IRanges'

The following object is masked from 'package:data.table':

    shift

Loading required package: Biostrings
Loading required package: XVector

Attaching package: 'Biostrings'

The following object is masked from 'package:base':

    strsplit

Loading required package: SummarizedExperiment
Loading required package: MatrixGenerics
Loading required package: matrixStats

Attaching package: 'MatrixGenerics'

The following objects are masked from 'package:matrixStats':

    colAlls, colAnyNAs, colAnys, colAvgsPerRowSet, colCollapse,
    colCounts, colCummaxs, colCummins, colCumprods, colCumsums,
    colDiffs, colIQRDiffs, colIQRs, colLogSumExps, colMadDiffs,
    colMads, colMaxs, colMeans2, colMedians, colMins, colOrderStats,
    colProds, colQuantiles, colRanges, colRanks, colSdDiffs, colSds,
    colSums2, colTabulates, colVarDiffs, colVars, colWeightedMads,
    colWeightedMeans, colWeightedMedians, colWeightedSds,
    colWeightedVars, rowAlls, rowAnyNAs, rowAnys, rowAvgsPerColSet,
    rowCollapse, rowCounts, rowCummaxs, rowCummins, rowCumprods,
    rowCumsums, rowDiffs, rowIQRDiffs, rowIQRs, rowLogSumExps,
    rowMadDiffs, rowMads, rowMaxs, rowMeans2, rowMedians, rowMins,
    rowOrderStats, rowProds, rowQuantiles, rowRanges, rowRanks,
    rowSdDiffs, rowSds, rowSums2, rowTabulates, rowVarDiffs, rowVars,
    rowWeightedMads, rowWeightedMeans, rowWeightedMedians,
    rowWeightedSds, rowWeightedVars

Loading required package: Biobase
Welcome to Bioconductor

    Vignettes contain introductory material; view with
    'browseVignettes()'. To cite Bioconductor, see
    'citation("Biobase")', and for packages 'citation("pkgname")'.


Attaching package: 'Biobase'

The following object is masked from 'package:MatrixGenerics':

    rowMedians

The following objects are masked from 'package:matrixStats':

    anyMissing, rowMedians


Attaching package: 'FRASER'

The following object is masked from 'package:Biobase':

    samples

> 
> # to speed up the testing on windows do it in serial mode
> if(.Platform$OS.type != "unix") {
+     register(SerialParam())
+ }
> 
> test_check("FRASER")
Optimal encoding dimension: 2 
Optimal encoding dimension: 2 
[ FAIL 0 | WARN 248 | SKIP 0 | PASS 106 ]

[ FAIL 0 | WARN 248 | SKIP 0 | PASS 106 ]
> 
> proc.time()
   user  system elapsed 
189.525  46.136 178.976 

Example timings

FRASER.Rcheck/FRASER-Ex.timings

nameusersystemelapsed
FRASER42.419 1.07441.445
FraserDataSet0.3560.0090.365
annotateRanges25.992 0.66728.455
calculatePSIValues19.932 0.12117.935
countRNA0.8610.0060.867
counts16.889 0.20015.007
createTestFraserDataSet18.291 0.09016.305
estimateBestQ19.637 0.29619.934
fds-methods17.914 0.32017.467
filtering19.386 0.85818.186
getter_setter_functions17.245 0.40916.643
injectOutliers29.660 0.96629.610
loadFraserDataSet0.3870.0160.403
makeSimulatedFraserDataSet3.9160.1314.048
mergeExternalData25.130 1.77724.878
plotFunctions152.772 5.653157.683
potentialImpactAnnotations88.542 0.52788.385
psiTypes0.0010.0000.000
results27.918 0.11125.674
subset17.541 0.05516.211