Back to Multiple platform build/check report for BioC 3.21:   simplified   long
ABCDEFGHIJKLMNOPQ[R]STUVWXYZ

This page was generated on 2025-02-04 11:40 -0500 (Tue, 04 Feb 2025).

HostnameOSArch (*)R versionInstalled pkgs
nebbiolo1Linux (Ubuntu 24.04.1 LTS)x86_64R Under development (unstable) (2025-01-20 r87609) -- "Unsuffered Consequences" 4716
palomino7Windows Server 2022 Datacenterx64R Under development (unstable) (2025-01-21 r87610 ucrt) -- "Unsuffered Consequences" 4478
lconwaymacOS 12.7.1 Montereyx86_64R Under development (unstable) (2025-01-22 r87618) -- "Unsuffered Consequences" 4489
kjohnson3macOS 13.7.1 Venturaarm64R Under development (unstable) (2025-01-20 r87609) -- "Unsuffered Consequences" 4442
Click on any hostname to see more info about the system (e.g. compilers)      (*) as reported by 'uname -p', except on Windows and Mac OS X

Package 1736/2295HostnameOS / ArchINSTALLBUILDCHECKBUILD BIN
RgnTX 1.9.0  (landing page)
Yue Wang
Snapshot Date: 2025-02-03 13:40 -0500 (Mon, 03 Feb 2025)
git_url: https://git.bioconductor.org/packages/RgnTX
git_branch: devel
git_last_commit: c0f1208
git_last_commit_date: 2024-10-29 11:12:11 -0500 (Tue, 29 Oct 2024)
nebbiolo1Linux (Ubuntu 24.04.1 LTS) / x86_64  OK    OK    OK  UNNEEDED, same version is already published
palomino7Windows Server 2022 Datacenter / x64  OK    OK    OK    OK  UNNEEDED, same version is already published
lconwaymacOS 12.7.1 Monterey / x86_64  OK    OK    OK    OK  UNNEEDED, same version is already published
kjohnson3macOS 13.7.1 Ventura / arm64  OK    OK    OK    OK  UNNEEDED, same version is already published


CHECK results for RgnTX on nebbiolo1

To the developers/maintainers of the RgnTX package:
- Allow up to 24 hours (and sometimes 48 hours) for your latest push to git@git.bioconductor.org:packages/RgnTX.git to reflect on this report. See Troubleshooting Build Report for more information.
- Use the following Renviron settings to reproduce errors and warnings.
- If 'R CMD check' started to fail recently on the Linux builder(s) over a missing dependency, add the missing dependency to 'Suggests:' in your DESCRIPTION file. See Renviron.bioc for more information.

raw results


Summary

Package: RgnTX
Version: 1.9.0
Command: /home/biocbuild/bbs-3.21-bioc/R/bin/R CMD check --install=check:RgnTX.install-out.txt --library=/home/biocbuild/bbs-3.21-bioc/R/site-library --timings RgnTX_1.9.0.tar.gz
StartedAt: 2025-02-04 01:59:46 -0500 (Tue, 04 Feb 2025)
EndedAt: 2025-02-04 02:09:33 -0500 (Tue, 04 Feb 2025)
EllapsedTime: 587.0 seconds
RetCode: 0
Status:   OK  
CheckDir: RgnTX.Rcheck
Warnings: 0

Command output

##############################################################################
##############################################################################
###
### Running command:
###
###   /home/biocbuild/bbs-3.21-bioc/R/bin/R CMD check --install=check:RgnTX.install-out.txt --library=/home/biocbuild/bbs-3.21-bioc/R/site-library --timings RgnTX_1.9.0.tar.gz
###
##############################################################################
##############################################################################


* using log directory ‘/home/biocbuild/bbs-3.21-bioc/meat/RgnTX.Rcheck’
* using R Under development (unstable) (2025-01-20 r87609)
* using platform: x86_64-pc-linux-gnu
* R was compiled by
    gcc (Ubuntu 13.3.0-6ubuntu2~24.04) 13.3.0
    GNU Fortran (Ubuntu 13.3.0-6ubuntu2~24.04) 13.3.0
* running under: Ubuntu 24.04.1 LTS
* using session charset: UTF-8
* checking for file ‘RgnTX/DESCRIPTION’ ... OK
* this is package ‘RgnTX’ version ‘1.9.0’
* package encoding: UTF-8
* checking package namespace information ... OK
* checking package dependencies ... OK
* checking if this is a source package ... OK
* checking if there is a namespace ... OK
* checking for hidden files and directories ... OK
* checking for portable file names ... OK
* checking for sufficient/correct file permissions ... OK
* checking whether package ‘RgnTX’ can be installed ... OK
* checking installed package size ... OK
* checking package directory ... OK
* checking ‘build’ directory ... OK
* checking DESCRIPTION meta-information ... OK
* checking top-level files ... OK
* checking for left-over files ... OK
* checking index information ... OK
* checking package subdirectories ... OK
* checking code files for non-ASCII characters ... OK
* checking R files for syntax errors ... OK
* checking whether the package can be loaded ... OK
* checking whether the package can be loaded with stated dependencies ... OK
* checking whether the package can be unloaded cleanly ... OK
* checking whether the namespace can be loaded with stated dependencies ... OK
* checking whether the namespace can be unloaded cleanly ... OK
* checking loading without being on the library search path ... OK
* checking dependencies in R code ... OK
* checking S3 generic/method consistency ... OK
* checking replacement functions ... OK
* checking foreign function calls ... OK
* checking R code for possible problems ... OK
* checking Rd files ... OK
* checking Rd metadata ... OK
* checking Rd cross-references ... OK
* checking for missing documentation entries ... OK
* checking for code/documentation mismatches ... OK
* checking Rd \usage sections ... OK
* checking Rd contents ... OK
* checking for unstated dependencies in examples ... OK
* checking files in ‘vignettes’ ... OK
* checking examples ... OK
Examples with CPU (user + system) or elapsed time > 5s
                          user system elapsed
shiftedZScoreTx         33.956  0.095  34.053
permTestTxIA_customPick 20.644  0.034  20.688
permTestTxIA            19.268  0.139  19.408
permTestTx              16.791  0.080  16.873
permTestTx_customPick   13.905  0.084  13.992
permTestTx_customAll    12.728  0.112  12.840
overlapCountsTxIA        8.183  0.112   8.295
overlapWidthTx           6.840  0.154   6.994
GRangesList2GRanges      5.926  0.473   6.400
getStopCodon             6.108  0.071   6.179
randomizeFeaturesTx      5.569  0.047   5.617
distanceTx               5.542  0.042   5.588
* checking for unstated dependencies in ‘tests’ ... OK
* checking tests ...
  Running ‘testthat.R’
 OK
* checking for unstated dependencies in vignettes ... OK
* checking package vignettes ... OK
* checking re-building of vignette outputs ... OK
* checking PDF version of manual ... OK
* DONE

Status: OK


Installation output

RgnTX.Rcheck/00install.out

##############################################################################
##############################################################################
###
### Running command:
###
###   /home/biocbuild/bbs-3.21-bioc/R/bin/R CMD INSTALL RgnTX
###
##############################################################################
##############################################################################


* installing to library ‘/home/biocbuild/bbs-3.21-bioc/R/site-library’
* installing *source* package ‘RgnTX’ ...
** this is package ‘RgnTX’ version ‘1.9.0’
** using staged installation
** R
** inst
** byte-compile and prepare package for lazy loading
** help
*** installing help indices
** building package indices
** installing vignettes
** testing if installed package can be loaded from temporary location
** testing if installed package can be loaded from final location
** testing if installed package keeps a record of temporary installation path
* DONE (RgnTX)

Tests output

RgnTX.Rcheck/tests/testthat.Rout


R Under development (unstable) (2025-01-20 r87609) -- "Unsuffered Consequences"
Copyright (C) 2025 The R Foundation for Statistical Computing
Platform: x86_64-pc-linux-gnu

R is free software and comes with ABSOLUTELY NO WARRANTY.
You are welcome to redistribute it under certain conditions.
Type 'license()' or 'licence()' for distribution details.

R is a collaborative project with many contributors.
Type 'contributors()' for more information and
'citation()' on how to cite R or R packages in publications.

Type 'demo()' for some demos, 'help()' for on-line help, or
'help.start()' for an HTML browser interface to help.
Type 'q()' to quit R.

> library(testthat)
> library(RgnTX)
> 
> test_check("RgnTX")
Loading required package: GenomicFeatures
Loading required package: BiocGenerics
Loading required package: generics

Attaching package: 'generics'

The following objects are masked from 'package:base':

    as.difftime, as.factor, as.ordered, intersect, is.element, setdiff,
    setequal, union


Attaching package: 'BiocGenerics'

The following objects are masked from 'package:stats':

    IQR, mad, sd, var, xtabs

The following objects are masked from 'package:base':

    Filter, Find, Map, Position, Reduce, anyDuplicated, aperm, append,
    as.data.frame, basename, cbind, colnames, dirname, do.call,
    duplicated, eval, evalq, get, grep, grepl, is.unsorted, lapply,
    mapply, match, mget, order, paste, pmax, pmax.int, pmin, pmin.int,
    rank, rbind, rownames, sapply, saveRDS, table, tapply, unique,
    unsplit, which.max, which.min

Loading required package: S4Vectors
Loading required package: stats4

Attaching package: 'S4Vectors'

The following object is masked from 'package:utils':

    findMatches

The following objects are masked from 'package:base':

    I, expand.grid, unname

Loading required package: IRanges
Loading required package: GenomeInfoDb
Loading required package: GenomicRanges
Loading required package: AnnotationDbi
Loading required package: Biobase
Welcome to Bioconductor

    Vignettes contain introductory material; view with
    'browseVignettes()'. To cite Bioconductor, see
    'citation("Biobase")', and for packages 'citation("pkgname")'.

[ FAIL 0 | WARN 0 | SKIP 0 | PASS 42 ]
> 
> proc.time()
   user  system elapsed 
 47.653   1.521  49.164 

Example timings

RgnTX.Rcheck/RgnTX-Ex.timings

nameusersystemelapsed
GRanges2GRangesList0.1700.0020.172
GRangesList2GRanges5.9260.4736.400
calculateShift3.0910.2063.304
distanceTx5.5420.0425.588
extractRegions2.9970.0833.080
getPermSpaceByFeatures3.9220.0313.953
getPermSpaceByTxID2.3390.0222.361
getPermSpaceByType1.8930.0121.905
getStopCodon6.1080.0716.179
getTransInfo0.5630.0200.583
overlapCountsTx3.2000.0653.265
overlapCountsTxIA8.1830.1128.295
overlapWidthTx6.8400.1546.994
permTestTx16.791 0.08016.873
permTestTxIA19.268 0.13919.408
permTestTxIA_customPick20.644 0.03420.688
permTestTx_customAll12.728 0.11212.840
permTestTx_customPick13.905 0.08413.992
plotPermResults0.5330.0080.543
plotShiftedZScoreTx0.140.000.14
randomizeFeaturesTx5.5690.0475.617
randomizeFeaturesTxIA3.9820.0163.999
randomizeTransByOrder3.8280.0063.834
randomizeTx2.9350.0082.944
shiftTx3.1360.0403.176
shiftedZScoreTx33.956 0.09534.053