Back to Multiple platform build/check report for BioC 3.22: simplified long |
|
This page was generated on 2025-04-29 12:11 -0400 (Tue, 29 Apr 2025).
Hostname | OS | Arch (*) | R version | Installed pkgs |
---|---|---|---|---|
nebbiolo2 | Linux (Ubuntu 24.04.1 LTS) | x86_64 | 4.5.0 (2025-04-11) -- "How About a Twenty-Six" | 4722 |
palomino8 | Windows Server 2022 Datacenter | x64 | 4.5.0 (2025-04-11 ucrt) -- "How About a Twenty-Six" | 4496 |
lconway | macOS 12.7.1 Monterey | x86_64 | 4.5.0 Patched (2025-04-21 r88169) -- "How About a Twenty-Six" | 4523 |
kjohnson3 | macOS 13.7.1 Ventura | arm64 | 4.5.0 Patched (2025-04-21 r88169) -- "How About a Twenty-Six" | 4465 |
taishan | Linux (openEuler 24.03 LTS) | aarch64 | 4.5.0 (2025-04-11) -- "How About a Twenty-Six" | 4410 |
Click on any hostname to see more info about the system (e.g. compilers) (*) as reported by 'uname -p', except on Windows and Mac OS X |
Package 1828/2302 | Hostname | OS / Arch | INSTALL | BUILD | CHECK | BUILD BIN | ||||||||
RUVnormalize 1.43.0 (landing page) Laurent Jacob
| nebbiolo2 | Linux (Ubuntu 24.04.1 LTS) / x86_64 | OK | OK | OK | ![]() | ||||||||
palomino8 | Windows Server 2022 Datacenter / x64 | OK | OK | OK | OK | ![]() | ||||||||
lconway | macOS 12.7.1 Monterey / x86_64 | OK | OK | OK | OK | ![]() | ||||||||
kjohnson3 | macOS 13.7.1 Ventura / arm64 | OK | OK | OK | OK | ![]() | ||||||||
taishan | Linux (openEuler 24.03 LTS) / aarch64 | OK | OK | OK | ||||||||||
To the developers/maintainers of the RUVnormalize package: - Allow up to 24 hours (and sometimes 48 hours) for your latest push to git@git.bioconductor.org:packages/RUVnormalize.git to reflect on this report. See Troubleshooting Build Report for more information. - Use the following Renviron settings to reproduce errors and warnings. - If 'R CMD check' started to fail recently on the Linux builder(s) over a missing dependency, add the missing dependency to 'Suggests:' in your DESCRIPTION file. See Renviron.bioc for more information. |
Package: RUVnormalize |
Version: 1.43.0 |
Command: /Library/Frameworks/R.framework/Resources/bin/R CMD check --install=check:RUVnormalize.install-out.txt --library=/Library/Frameworks/R.framework/Resources/library --no-vignettes --timings RUVnormalize_1.43.0.tar.gz |
StartedAt: 2025-04-28 21:46:52 -0400 (Mon, 28 Apr 2025) |
EndedAt: 2025-04-28 21:47:10 -0400 (Mon, 28 Apr 2025) |
EllapsedTime: 18.2 seconds |
RetCode: 0 |
Status: OK |
CheckDir: RUVnormalize.Rcheck |
Warnings: 0 |
############################################################################## ############################################################################## ### ### Running command: ### ### /Library/Frameworks/R.framework/Resources/bin/R CMD check --install=check:RUVnormalize.install-out.txt --library=/Library/Frameworks/R.framework/Resources/library --no-vignettes --timings RUVnormalize_1.43.0.tar.gz ### ############################################################################## ############################################################################## * using log directory ‘/Users/biocbuild/bbs-3.22-bioc/meat/RUVnormalize.Rcheck’ * using R version 4.5.0 Patched (2025-04-21 r88169) * using platform: aarch64-apple-darwin20 * R was compiled by Apple clang version 16.0.0 (clang-1600.0.26.6) GNU Fortran (GCC) 14.2.0 * running under: macOS Ventura 13.7.1 * using session charset: UTF-8 * using option ‘--no-vignettes’ * checking for file ‘RUVnormalize/DESCRIPTION’ ... OK * this is package ‘RUVnormalize’ version ‘1.43.0’ * checking package namespace information ... OK * checking package dependencies ... INFO Package which this enhances but not available for checking: ‘spams’ * checking if this is a source package ... OK * checking if there is a namespace ... OK * checking for hidden files and directories ... OK * checking for portable file names ... OK * checking for sufficient/correct file permissions ... OK * checking whether package ‘RUVnormalize’ can be installed ... OK * checking installed package size ... OK * checking package directory ... OK * checking ‘build’ directory ... OK * checking DESCRIPTION meta-information ... OK * checking top-level files ... OK * checking for left-over files ... OK * checking index information ... OK * checking package subdirectories ... OK * checking code files for non-ASCII characters ... OK * checking R files for syntax errors ... OK * checking whether the package can be loaded ... OK * checking whether the package can be loaded with stated dependencies ... OK * checking whether the package can be unloaded cleanly ... OK * checking whether the namespace can be loaded with stated dependencies ... OK * checking whether the namespace can be unloaded cleanly ... OK * checking dependencies in R code ... NOTE 'library' or 'require' call to ‘spams’ in package code. Please use :: or requireNamespace() instead. See section 'Suggested packages' in the 'Writing R Extensions' manual. * checking S3 generic/method consistency ... OK * checking replacement functions ... OK * checking foreign function calls ... OK * checking R code for possible problems ... NOTE iterativeRUV: no visible global function definition for ‘kmeans’ myPalette: no visible global function definition for ‘col2rgb’ myPalette: no visible global function definition for ‘rgb’ svdPlot: no visible global function definition for ‘pdf’ svdPlot: no visible global function definition for ‘par’ svdPlot: no visible global function definition for ‘points’ svdPlot: no visible global function definition for ‘text’ svdPlot: no visible global function definition for ‘dev.off’ Undefined global functions or variables: col2rgb dev.off kmeans par pdf points rgb text Consider adding importFrom("grDevices", "col2rgb", "dev.off", "pdf", "rgb") importFrom("graphics", "par", "points", "text") importFrom("stats", "kmeans") to your NAMESPACE file. * checking Rd files ... OK * checking Rd metadata ... OK * checking Rd cross-references ... OK * checking for missing documentation entries ... OK * checking for code/documentation mismatches ... OK * checking Rd \usage sections ... OK * checking Rd contents ... OK * checking for unstated dependencies in examples ... OK * checking sizes of PDF files under ‘inst/doc’ ... OK * checking files in ‘vignettes’ ... OK * checking examples ... OK * checking for unstated dependencies in vignettes ... OK * checking package vignettes ... OK * checking running R code from vignettes ... SKIPPED * checking re-building of vignette outputs ... SKIPPED * checking PDF version of manual ... OK * DONE Status: 2 NOTEs See ‘/Users/biocbuild/bbs-3.22-bioc/meat/RUVnormalize.Rcheck/00check.log’ for details.
RUVnormalize.Rcheck/00install.out
############################################################################## ############################################################################## ### ### Running command: ### ### /Library/Frameworks/R.framework/Resources/bin/R CMD INSTALL RUVnormalize ### ############################################################################## ############################################################################## * installing to library ‘/Library/Frameworks/R.framework/Versions/4.5-arm64/Resources/library’ * installing *source* package ‘RUVnormalize’ ... ** this is package ‘RUVnormalize’ version ‘1.43.0’ ** using staged installation ** R ** demo ** inst ** byte-compile and prepare package for lazy loading ** help *** installing help indices ** building package indices ** installing vignettes ** testing if installed package can be loaded from temporary location ** testing if installed package can be loaded from final location ** testing if installed package keeps a record of temporary installation path * DONE (RUVnormalize)
RUVnormalize.Rcheck/RUVnormalize-Ex.timings
name | user | system | elapsed | |
clScore | 1.292 | 0.082 | 1.385 | |
iterativeRUV | 0.027 | 0.002 | 0.029 | |
naiveRandRUV | 1.239 | 0.071 | 1.311 | |
naiveReplicateRUV | 0.808 | 0.068 | 0.876 | |
svdPlot | 1.224 | 0.070 | 1.295 | |