Back to Multiple platform build/check report for BioC 3.22: simplified long |
|
This page was generated on 2025-05-28 12:09 -0400 (Wed, 28 May 2025).
Hostname | OS | Arch (*) | R version | Installed pkgs |
---|---|---|---|---|
nebbiolo2 | Linux (Ubuntu 24.04.1 LTS) | x86_64 | 4.5.0 (2025-04-11) -- "How About a Twenty-Six" | 4756 |
palomino8 | Windows Server 2022 Datacenter | x64 | 4.5.0 (2025-04-11 ucrt) -- "How About a Twenty-Six" | 4531 |
lconway | macOS 12.7.1 Monterey | x86_64 | 4.5.0 Patched (2025-04-21 r88169) -- "How About a Twenty-Six" | 4568 |
kjohnson3 | macOS 13.7.1 Ventura | arm64 | 4.5.0 Patched (2025-04-21 r88169) -- "How About a Twenty-Six" | 4508 |
taishan | Linux (openEuler 24.03 LTS) | aarch64 | 4.5.0 (2025-04-11) -- "How About a Twenty-Six" | 4464 |
Click on any hostname to see more info about the system (e.g. compilers) (*) as reported by 'uname -p', except on Windows and Mac OS X |
Package 1823/2306 | Hostname | OS / Arch | INSTALL | BUILD | CHECK | BUILD BIN | ||||||||
RTNsurvival 1.33.0 (landing page) Clarice Groeneveld
| nebbiolo2 | Linux (Ubuntu 24.04.1 LTS) / x86_64 | OK | OK | OK | ![]() | ||||||||
palomino8 | Windows Server 2022 Datacenter / x64 | OK | OK | OK | OK | ![]() | ||||||||
lconway | macOS 12.7.1 Monterey / x86_64 | OK | OK | OK | OK | ![]() | ||||||||
kjohnson3 | macOS 13.7.1 Ventura / arm64 | OK | OK | OK | OK | ![]() | ||||||||
taishan | Linux (openEuler 24.03 LTS) / aarch64 | OK | OK | OK | ||||||||||
To the developers/maintainers of the RTNsurvival package: - Allow up to 24 hours (and sometimes 48 hours) for your latest push to git@git.bioconductor.org:packages/RTNsurvival.git to reflect on this report. See Troubleshooting Build Report for more information. - Use the following Renviron settings to reproduce errors and warnings. - If 'R CMD check' started to fail recently on the Linux builder(s) over a missing dependency, add the missing dependency to 'Suggests:' in your DESCRIPTION file. See Renviron.bioc for more information. |
Package: RTNsurvival |
Version: 1.33.0 |
Command: /Library/Frameworks/R.framework/Resources/bin/R CMD check --install=check:RTNsurvival.install-out.txt --library=/Library/Frameworks/R.framework/Resources/library --no-vignettes --timings RTNsurvival_1.33.0.tar.gz |
StartedAt: 2025-05-27 23:01:19 -0400 (Tue, 27 May 2025) |
EndedAt: 2025-05-27 23:05:26 -0400 (Tue, 27 May 2025) |
EllapsedTime: 246.7 seconds |
RetCode: 0 |
Status: OK |
CheckDir: RTNsurvival.Rcheck |
Warnings: 0 |
############################################################################## ############################################################################## ### ### Running command: ### ### /Library/Frameworks/R.framework/Resources/bin/R CMD check --install=check:RTNsurvival.install-out.txt --library=/Library/Frameworks/R.framework/Resources/library --no-vignettes --timings RTNsurvival_1.33.0.tar.gz ### ############################################################################## ############################################################################## * using log directory ‘/Users/biocbuild/bbs-3.22-bioc/meat/RTNsurvival.Rcheck’ * using R version 4.5.0 Patched (2025-04-21 r88169) * using platform: x86_64-apple-darwin20 * R was compiled by Apple clang version 14.0.0 (clang-1400.0.29.202) GNU Fortran (GCC) 14.2.0 * running under: macOS Monterey 12.7.6 * using session charset: UTF-8 * using option ‘--no-vignettes’ * checking for file ‘RTNsurvival/DESCRIPTION’ ... OK * checking extension type ... Package * this is package ‘RTNsurvival’ version ‘1.33.0’ * package encoding: UTF-8 * checking package namespace information ... OK * checking package dependencies ... OK * checking if this is a source package ... OK * checking if there is a namespace ... OK * checking for hidden files and directories ... OK * checking for portable file names ... OK * checking for sufficient/correct file permissions ... OK * checking whether package ‘RTNsurvival’ can be installed ... OK * checking installed package size ... OK * checking package directory ... OK * checking ‘build’ directory ... OK * checking DESCRIPTION meta-information ... OK * checking top-level files ... OK * checking for left-over files ... OK * checking index information ... OK * checking package subdirectories ... OK * checking code files for non-ASCII characters ... OK * checking R files for syntax errors ... OK * checking whether the package can be loaded ... OK * checking whether the package can be loaded with stated dependencies ... OK * checking whether the package can be unloaded cleanly ... OK * checking whether the namespace can be loaded with stated dependencies ... OK * checking whether the namespace can be unloaded cleanly ... OK * checking dependencies in R code ... OK * checking S3 generic/method consistency ... OK * checking replacement functions ... OK * checking foreign function calls ... OK * checking R code for possible problems ... OK * checking Rd files ... NOTE checkRd: (-1) TNS.data.Rd:14: Lost braces 14 | \code{survival.data}{ A data.frame with a subset of samples in the Fletcher2013b package.} | ^ * checking Rd metadata ... OK * checking Rd cross-references ... NOTE Found the following Rd file(s) with Rd \link{} targets missing package anchors: TNS-class.Rd: TNI-class tni2tnsPreprocess-methods.Rd: TNI-class, tni.preprocess tnsAREA3-methods.Rd: tni.area3 tnsGSEA2-methods.Rd: tni.gsea2, TNI-class tnsPlotGSEA2-methods.Rd: tna.plot.gsea2 Please provide package anchors for all Rd \link{} targets not in the package itself and the base packages. * checking for missing documentation entries ... OK * checking for code/documentation mismatches ... OK * checking Rd \usage sections ... OK * checking Rd contents ... OK * checking for unstated dependencies in examples ... OK * checking contents of ‘data’ directory ... OK * checking data for non-ASCII characters ... OK * checking LazyData ... OK * checking data for ASCII and uncompressed saves ... OK * checking files in ‘vignettes’ ... OK * checking examples ... OK * checking for unstated dependencies in ‘tests’ ... OK * checking tests ... Running ‘runTests.R’ OK * checking for unstated dependencies in vignettes ... OK * checking package vignettes ... OK * checking running R code from vignettes ... SKIPPED * checking re-building of vignette outputs ... SKIPPED * checking PDF version of manual ... OK * DONE Status: 2 NOTEs See ‘/Users/biocbuild/bbs-3.22-bioc/meat/RTNsurvival.Rcheck/00check.log’ for details.
RTNsurvival.Rcheck/00install.out
############################################################################## ############################################################################## ### ### Running command: ### ### /Library/Frameworks/R.framework/Resources/bin/R CMD INSTALL RTNsurvival ### ############################################################################## ############################################################################## * installing to library ‘/Library/Frameworks/R.framework/Versions/4.5-x86_64/Resources/library’ * installing *source* package ‘RTNsurvival’ ... ** this is package ‘RTNsurvival’ version ‘1.33.0’ ** using staged installation ** R ** data *** moving datasets to lazyload DB ** inst ** byte-compile and prepare package for lazy loading ** help *** installing help indices ** building package indices ** installing vignettes ** testing if installed package can be loaded from temporary location ** testing if installed package can be loaded from final location ** testing if installed package keeps a record of temporary installation path * DONE (RTNsurvival)
RTNsurvival.Rcheck/tests/runTests.Rout
R version 4.5.0 Patched (2025-04-21 r88169) -- "How About a Twenty-Six" Copyright (C) 2025 The R Foundation for Statistical Computing Platform: x86_64-apple-darwin20 R is free software and comes with ABSOLUTELY NO WARRANTY. You are welcome to redistribute it under certain conditions. Type 'license()' or 'licence()' for distribution details. R is a collaborative project with many contributors. Type 'contributors()' for more information and 'citation()' on how to cite R or R packages in publications. Type 'demo()' for some demos, 'help()' for on-line help, or 'help.start()' for an HTML browser interface to help. Type 'q()' to quit R. > BiocGenerics:::testPackage("RTNsurvival") RUNIT TEST PROTOCOL -- Tue May 27 23:05:17 2025 *********************************************** Number of test functions: 1 Number of errors: 0 Number of failures: 0 1 Test Suite : RTNsurvival RUnit Tests - 1 test function, 0 errors, 0 failures Number of test functions: 1 Number of errors: 0 Number of failures: 0 > > proc.time() user system elapsed 11.403 0.646 12.134
RTNsurvival.Rcheck/RTNsurvival-Ex.timings
name | user | system | elapsed | |
TNS.data | 0.002 | 0.002 | 0.004 | |
hclust_semisupervised | 0.084 | 0.006 | 0.091 | |
tni2tnsPreprocess-methods | 0.191 | 0.011 | 0.205 | |
tnsAREA3-methods | 1.052 | 0.048 | 1.106 | |
tnsCox-methods | 1.363 | 0.113 | 1.488 | |
tnsCoxInteraction-methods | 1.353 | 0.097 | 1.460 | |
tnsGSEA2-methods | 0.717 | 0.078 | 0.802 | |
tnsGet-methods | 0.729 | 0.088 | 0.823 | |
tnsInteraction-methods | 1.309 | 0.100 | 1.422 | |
tnsKM-methods | 0.791 | 0.064 | 0.869 | |
tnsKmInteraction-methods | 1.279 | 0.084 | 1.376 | |
tnsPlotCovariates-methods | 2.183 | 0.133 | 2.332 | |
tnsPlotCox-methods | 0.826 | 0.086 | 0.927 | |
tnsPlotCoxInteraction-methods | 0.789 | 0.070 | 0.870 | |
tnsPlotGSEA2-methods | 2.001 | 0.108 | 2.125 | |
tnsPlotKM-methods | 0.811 | 0.055 | 0.873 | |
tnsPlotKmInteraction-methods | 1.328 | 0.062 | 1.397 | |
tnsPlotSRE-methods | 0.811 | 0.055 | 0.873 | |
tnsSRD-methods | 1.400 | 0.092 | 1.527 | |
tnsSRE-methods | 0.763 | 0.055 | 0.823 | |
tnsStratification | 0.000 | 0.001 | 0.000 | |