| Back to Multiple platform build/check report for BioC 3.22: simplified long |
|
This page was generated on 2025-10-21 12:07 -0400 (Tue, 21 Oct 2025).
| Hostname | OS | Arch (*) | R version | Installed pkgs |
|---|---|---|---|---|
| nebbiolo2 | Linux (Ubuntu 24.04.3 LTS) | x86_64 | 4.5.1 Patched (2025-08-23 r88802) -- "Great Square Root" | 4887 |
| lconway | macOS 12.7.6 Monterey | x86_64 | 4.5.1 Patched (2025-09-10 r88807) -- "Great Square Root" | 4677 |
| kjohnson3 | macOS 13.7.7 Ventura | arm64 | 4.5.1 Patched (2025-09-10 r88807) -- "Great Square Root" | 4622 |
| taishan | Linux (openEuler 24.03 LTS) | aarch64 | 4.5.0 (2025-04-11) -- "How About a Twenty-Six" | 4642 |
| Click on any hostname to see more info about the system (e.g. compilers) (*) as reported by 'uname -p', except on Windows and Mac OS X | ||||
| Package 1853/2353 | Hostname | OS / Arch | INSTALL | BUILD | CHECK | BUILD BIN | ||||||||
| RTN 2.33.0 (landing page) Mauro Castro
| nebbiolo2 | Linux (Ubuntu 24.04.3 LTS) / x86_64 | OK | OK | OK | |||||||||
| lconway | macOS 12.7.6 Monterey / x86_64 | OK | OK | OK | OK | |||||||||
| kjohnson3 | macOS 13.7.7 Ventura / arm64 | OK | OK | OK | OK | |||||||||
| taishan | Linux (openEuler 24.03 LTS) / aarch64 | OK | OK | OK | ||||||||||
|
To the developers/maintainers of the RTN package: - Allow up to 24 hours (and sometimes 48 hours) for your latest push to git@git.bioconductor.org:packages/RTN.git to reflect on this report. See Troubleshooting Build Report for more information. - Use the following Renviron settings to reproduce errors and warnings. - If 'R CMD check' started to fail recently on the Linux builder(s) over a missing dependency, add the missing dependency to 'Suggests:' in your DESCRIPTION file. See Renviron.bioc for more information. - See Martin Grigorov's blog post for how to debug Linux ARM64 related issues on a x86_64 host. |
| Package: RTN |
| Version: 2.33.0 |
| Command: /home/biocbuild/R/R/bin/R CMD check --install=check:RTN.install-out.txt --library=/home/biocbuild/R/R/site-library --no-vignettes --timings RTN_2.33.0.tar.gz |
| StartedAt: 2025-10-17 13:04:18 -0000 (Fri, 17 Oct 2025) |
| EndedAt: 2025-10-17 13:10:19 -0000 (Fri, 17 Oct 2025) |
| EllapsedTime: 360.7 seconds |
| RetCode: 0 |
| Status: OK |
| CheckDir: RTN.Rcheck |
| Warnings: 0 |
##############################################################################
##############################################################################
###
### Running command:
###
### /home/biocbuild/R/R/bin/R CMD check --install=check:RTN.install-out.txt --library=/home/biocbuild/R/R/site-library --no-vignettes --timings RTN_2.33.0.tar.gz
###
##############################################################################
##############################################################################
* using log directory ‘/home/biocbuild/bbs-3.22-bioc/meat/RTN.Rcheck’
* using R version 4.5.0 (2025-04-11)
* using platform: aarch64-unknown-linux-gnu
* R was compiled by
aarch64-unknown-linux-gnu-gcc (GCC) 14.2.0
GNU Fortran (GCC) 14.2.0
* running under: openEuler 24.03 (LTS)
* using session charset: UTF-8
* using option ‘--no-vignettes’
* checking for file ‘RTN/DESCRIPTION’ ... OK
* checking extension type ... Package
* this is package ‘RTN’ version ‘2.33.0’
* checking package namespace information ... OK
* checking package dependencies ... OK
* checking if this is a source package ... OK
* checking if there is a namespace ... OK
* checking for hidden files and directories ... OK
* checking for portable file names ... OK
* checking for sufficient/correct file permissions ... OK
* checking whether package ‘RTN’ can be installed ... OK
* checking installed package size ... INFO
installed size is 9.8Mb
sub-directories of 1Mb or more:
R 1.0Mb
data 8.6Mb
* checking package directory ... OK
* checking ‘build’ directory ... OK
* checking DESCRIPTION meta-information ... OK
* checking top-level files ... OK
* checking for left-over files ... OK
* checking index information ... OK
* checking package subdirectories ... OK
* checking code files for non-ASCII characters ... OK
* checking R files for syntax errors ... OK
* checking whether the package can be loaded ... OK
* checking whether the package can be loaded with stated dependencies ... OK
* checking whether the package can be unloaded cleanly ... OK
* checking whether the namespace can be loaded with stated dependencies ... OK
* checking whether the namespace can be unloaded cleanly ... OK
* checking loading without being on the library search path ... OK
* checking dependencies in R code ... OK
* checking S3 generic/method consistency ... OK
* checking replacement functions ... OK
* checking foreign function calls ... OK
* checking R code for possible problems ... OK
* checking Rd files ... NOTE
checkRd: (-1) TNI.data.Rd:14-15: Lost braces
14 | \code{stni}{A TNI-class with a subset of samples and genes from
| ^
* checking Rd metadata ... OK
* checking Rd cross-references ... NOTE
Found the following Rd file(s) with Rd \link{} targets missing package
anchors:
tni.area3.Rd: aREA
Please provide package anchors for all Rd \link{} targets not in the
package itself and the base packages.
* checking for missing documentation entries ... OK
* checking for code/documentation mismatches ... OK
* checking Rd \usage sections ... OK
* checking Rd contents ... OK
* checking for unstated dependencies in examples ... OK
* checking contents of ‘data’ directory ... OK
* checking data for non-ASCII characters ... OK
* checking data for ASCII and uncompressed saves ... OK
* checking files in ‘vignettes’ ... OK
* checking examples ... OK
* checking for unstated dependencies in ‘tests’ ... OK
* checking tests ...
Running ‘runTests.R’
OK
* checking for unstated dependencies in vignettes ... OK
* checking package vignettes ... OK
* checking running R code from vignettes ... SKIPPED
* checking re-building of vignette outputs ... SKIPPED
* checking PDF version of manual ... OK
* DONE
Status: 2 NOTEs
See
‘/home/biocbuild/bbs-3.22-bioc/meat/RTN.Rcheck/00check.log’
for details.
RTN.Rcheck/00install.out
############################################################################## ############################################################################## ### ### Running command: ### ### /home/biocbuild/R/R/bin/R CMD INSTALL RTN ### ############################################################################## ############################################################################## * installing to library ‘/home/biocbuild/R/R-4.5.0/site-library’ * installing *source* package ‘RTN’ ... ** this is package ‘RTN’ version ‘2.33.0’ ** using staged installation ** R ** data ** inst ** byte-compile and prepare package for lazy loading ** help *** installing help indices ** building package indices ** installing vignettes ** testing if installed package can be loaded from temporary location ** testing if installed package can be loaded from final location ** testing if installed package keeps a record of temporary installation path * DONE (RTN)
RTN.Rcheck/tests/runTests.Rout
R version 4.5.0 (2025-04-11) -- "How About a Twenty-Six"
Copyright (C) 2025 The R Foundation for Statistical Computing
Platform: aarch64-unknown-linux-gnu
R is free software and comes with ABSOLUTELY NO WARRANTY.
You are welcome to redistribute it under certain conditions.
Type 'license()' or 'licence()' for distribution details.
R is a collaborative project with many contributors.
Type 'contributors()' for more information and
'citation()' on how to cite R or R packages in publications.
Type 'demo()' for some demos, 'help()' for on-line help, or
'help.start()' for an HTML browser interface to help.
Type 'q()' to quit R.
> BiocGenerics:::testPackage("RTN")
-Preprocessing for input data...
--Mapping 'expData' to 'rowAnnotation'...
--Checking 'regulatoryElements' in 'rowAnnotation'...
--Checking 'expData'...
-Preprocessing complete!
-Performing permutation analysis...
--For 5 regulons...
|
| | 0%
|
|======= | 10%
|
|============== | 20%
|
|===================== | 30%
|
|============================ | 40%
|
|=================================== | 50%
|
|========================================== | 60%
|
|================================================= | 70%
|
|======================================================== | 80%
|
|=============================================================== | 90%
|
|======================================================================| 100%
-Permutation analysis complete!
-Performing bootstrap analysis...
--For 5 regulons...
|
| | 0%
|
|======= | 10%
|
|============== | 20%
|
|===================== | 30%
|
|============================ | 40%
|
|=================================== | 50%
|
|========================================== | 60%
|
|================================================= | 70%
|
|======================================================== | 80%
|
|=============================================================== | 90%
|
|======================================================================| 100%
-Bootstrap analysis complete!
-Applying dpi filter...
-DPI filter complete!
-Preprocessing for input data...
--Mapping 'phenotype' to 'phenoIDs'...
--Removing genes without names or values in 'phenotype'...
--Removing duplicated genes...
--Mapping 'hits' to 'phenoIDs'...
--Removing duplicated hits...
--Mapping 'transcriptionalNetwork' annotation to 'phenotype'...
--Checking agreement between 'transcriptionalNetwork' and 'phenotype'... 99.8% !
--Removing 'hits' not listed in 'transcriptionalNetwork' universe...
--Extracting regulons...
-Preprocessing complete!
-Performing master regulatory analysis...
--For 5 regulons...
|
| | 0%
|
|============== | 20%
|
|============================ | 40%
|
|========================================== | 60%
|
|======================================================== | 80%
|
|======================================================================| 100%
-Master regulatory analysis complete
-Performing gene set enrichment analysis...
--For 5 regulons...
|
| | 0%
|
|============== | 20%
|
|============================ | 40%
|
|========================================== | 60%
|
|======================================================== | 80%
|
|======================================================================| 100%
-Gene set enrichment analysis complete
-Performing two-tailed GSEA analysis...
--For 5 regulons...
|
| | 0%
|
|============== | 20%
|
|============================ | 40%
|
|========================================== | 60%
|
|======================================================== | 80%
|
|======================================================================| 100%
|
| | 0%
|
|============== | 20%
|
|============================ | 40%
|
|========================================== | 60%
|
|======================================================== | 80%
|
|======================================================================| 100%
-GSEA2 analysis complete
-Preprocessing for input data...
--Mapping 'expData' to 'rowAnnotation'...
--Checking 'regulatoryElements' in 'rowAnnotation'...
--Checking 'expData'...
-Preprocessing complete!
-Performing permutation analysis...
--For 2 regulons...
|
| | 0%
|
|======= | 10%
|
|============== | 20%
|
|===================== | 30%
|
|============================ | 40%
|
|=================================== | 50%
|
|========================================== | 60%
|
|================================================= | 70%
|
|======================================================== | 80%
|
|=============================================================== | 90%
|
|======================================================================| 100%
-Permutation analysis complete!
-Performing bootstrap analysis...
--For 2 regulons...
|
| | 0%
|
|======= | 10%
|
|============== | 20%
|
|===================== | 30%
|
|============================ | 40%
|
|=================================== | 50%
|
|========================================== | 60%
|
|================================================= | 70%
|
|======================================================== | 80%
|
|=============================================================== | 90%
|
|======================================================================| 100%
-Bootstrap analysis complete!
-Applying dpi filter...
-DPI filter complete!
-Preprocessing for input data...
--Checking modulators in the dataset...
--Extracting TF-targets...
--Applying modulator independence constraint...
--Applying modulator range constraint...
--Selecting subsamples...
-Estimating mutual information threshold...
|
| | 0%
|
|======= | 10%
|
|============== | 20%
|
|===================== | 30%
|
|============================ | 40%
|
|=================================== | 50%
|
|========================================== | 60%
|
|================================================= | 70%
|
|======================================================== | 80%
|
|=============================================================== | 90%
|
|======================================================================| 100%
-Performing conditional mutual information analysis...
--For 2 tfs and 2 candidate modulator(s)
|
| | 0%
|
|=================================== | 50%
|
|======================================================================| 100%
-Conditional analysis complete!
RUNIT TEST PROTOCOL -- Fri Oct 17 13:10:13 2025
***********************************************
Number of test functions: 2
Number of errors: 0
Number of failures: 0
1 Test Suite :
RTN RUnit Tests - 2 test functions, 0 errors, 0 failures
Number of test functions: 2
Number of errors: 0
Number of failures: 0
>
> proc.time()
user system elapsed
73.005 0.467 73.713
RTN.Rcheck/RTN-Ex.timings
| name | user | system | elapsed | |
| AVS-class | 0 | 0 | 0 | |
| RTN.data | 0.294 | 0.007 | 0.303 | |
| TNA-class | 0 | 0 | 0 | |
| TNI-class | 0 | 0 | 0 | |
| TNI.data | 0.279 | 0.008 | 0.288 | |
| avs.evse | 0.000 | 0.000 | 0.001 | |
| avs.get | 0 | 0 | 0 | |
| avs.pevse | 0.000 | 0.000 | 0.001 | |
| avs.plot1 | 0 | 0 | 0 | |
| avs.plot2 | 0 | 0 | 0 | |
| avs.rvse | 0 | 0 | 0 | |
| avs.vse | 0 | 0 | 0 | |
| tna.get | 0.255 | 0.004 | 0.259 | |
| tna.gsea1 | 0.246 | 0.016 | 0.263 | |
| tna.gsea2 | 0.319 | 0.024 | 0.343 | |
| tna.mra | 0.247 | 0.004 | 0.251 | |
| tna.plot.gsea1 | 0.246 | 0.008 | 0.255 | |
| tna.plot.gsea2 | 0.778 | 0.052 | 0.831 | |
| tni.alpha.adjust | 0.166 | 0.012 | 0.178 | |
| tni.annotate.regulons | 0.056 | 0.000 | 0.056 | |
| tni.annotate.samples | 0.057 | 0.000 | 0.057 | |
| tni.area3 | 0.057 | 0.000 | 0.056 | |
| tni.bootstrap | 0.057 | 0.000 | 0.057 | |
| tni.conditional | 0.055 | 0.003 | 0.059 | |
| tni.constructor | 0.301 | 0.012 | 0.314 | |
| tni.dpi.filter | 0.053 | 0.002 | 0.056 | |
| tni.get | 0.056 | 0.001 | 0.057 | |
| tni.graph | 0 | 0 | 0 | |
| tni.gsea2 | 0.074 | 0.004 | 0.079 | |
| tni.overlap.genesets | 0.051 | 0.004 | 0.055 | |
| tni.permutation | 0.051 | 0.003 | 0.054 | |
| tni.plot.checks | 0.056 | 0.000 | 0.055 | |
| tni.plot.sre | 0.056 | 0.000 | 0.056 | |
| tni.preprocess | 0 | 0 | 0 | |
| tni.prune | 0.053 | 0.004 | 0.057 | |
| tni.regulon.summary | 0.084 | 0.000 | 0.084 | |
| tni.replace.samples | 0 | 0 | 0 | |
| tni.sre | 0.049 | 0.004 | 0.053 | |
| tni2tna.preprocess | 0.236 | 0.000 | 0.239 | |
| upgradeTNA | 0 | 0 | 0 | |
| upgradeTNI | 0 | 0 | 0 | |