Back to Multiple platform build/check report for BioC 3.22:   simplified   long
ABCDEFGHIJKLMNOPQ[R]STUVWXYZ

This page was generated on 2025-05-01 12:11 -0400 (Thu, 01 May 2025).

HostnameOSArch (*)R versionInstalled pkgs
nebbiolo2Linux (Ubuntu 24.04.1 LTS)x86_644.5.0 (2025-04-11) -- "How About a Twenty-Six" 4740
palomino8Windows Server 2022 Datacenterx644.5.0 (2025-04-11 ucrt) -- "How About a Twenty-Six" 4502
lconwaymacOS 12.7.1 Montereyx86_644.5.0 Patched (2025-04-21 r88169) -- "How About a Twenty-Six" 4540
kjohnson3macOS 13.7.1 Venturaarm644.5.0 Patched (2025-04-21 r88169) -- "How About a Twenty-Six" 4482
taishanLinux (openEuler 24.03 LTS)aarch644.5.0 (2025-04-11) -- "How About a Twenty-Six" 4410
Click on any hostname to see more info about the system (e.g. compilers)      (*) as reported by 'uname -p', except on Windows and Mac OS X

Package 1796/2302HostnameOS / ArchINSTALLBUILDCHECKBUILD BIN
RPA 1.65.0  (landing page)
Leo Lahti
Snapshot Date: 2025-04-30 13:00 -0400 (Wed, 30 Apr 2025)
git_url: https://git.bioconductor.org/packages/RPA
git_branch: devel
git_last_commit: 389f93f
git_last_commit_date: 2025-04-15 09:45:17 -0400 (Tue, 15 Apr 2025)
nebbiolo2Linux (Ubuntu 24.04.1 LTS) / x86_64  OK    OK    OK  UNNEEDED, same version is already published
palomino8Windows Server 2022 Datacenter / x64  OK    OK    OK    OK  UNNEEDED, same version is already published
lconwaymacOS 12.7.1 Monterey / x86_64  OK    OK    OK    OK  UNNEEDED, same version is already published
kjohnson3macOS 13.7.1 Ventura / arm64  OK    OK    OK    OK  UNNEEDED, same version is already published
taishanLinux (openEuler 24.03 LTS) / aarch64  OK    OK    OK  


BUILD BIN results for RPA on kjohnson3

To the developers/maintainers of the RPA package:
- Allow up to 24 hours (and sometimes 48 hours) for your latest push to git@git.bioconductor.org:packages/RPA.git to reflect on this report. See Troubleshooting Build Report for more information.
- Use the following Renviron settings to reproduce errors and warnings.
- If 'R CMD check' started to fail recently on the Linux builder(s) over a missing dependency, add the missing dependency to 'Suggests:' in your DESCRIPTION file. See Renviron.bioc for more information.

raw results


Summary

Package: RPA
Version: 1.65.0
Command: rm -rf RPA.buildbin-libdir && mkdir RPA.buildbin-libdir && /Users/biocbuild/BBS/utils/build-universal.sh RPA_1.65.0.tar.gz /Library/Frameworks/R.framework/Resources/bin/R RPA.buildbin-libdir
StartedAt: 2025-04-30 22:49:18 -0400 (Wed, 30 Apr 2025)
EndedAt: 2025-04-30 22:49:27 -0400 (Wed, 30 Apr 2025)
EllapsedTime: 9.2 seconds
RetCode: 0
Status:   OK  
PackageFile: RPA_1.65.0.tgz
PackageFileSize: 391.8 KiB

Command output

##############################################################################
##############################################################################
###
### Running command:
###
###   rm -rf RPA.buildbin-libdir && mkdir RPA.buildbin-libdir && /Users/biocbuild/BBS/utils/build-universal.sh RPA_1.65.0.tar.gz /Library/Frameworks/R.framework/Resources/bin/R RPA.buildbin-libdir
###
##############################################################################
##############################################################################


>>>>>>> 
>>>>>>> INSTALLATION WITH 'R CMD INSTALL --preclean --no-multiarch --library=RPA.buildbin-libdir RPA_1.65.0.tar.gz'
>>>>>>> 

* installing *source* package ‘RPA’ ...
** this is package ‘RPA’ version ‘1.65.0’
** using staged installation
** R
** inst
** byte-compile and prepare package for lazy loading
** help
*** installing help indices
** building package indices
** installing vignettes
** testing if installed package can be loaded from temporary location
** testing if installed package can be loaded from final location
** testing if installed package keeps a record of temporary installation path
* DONE (RPA)