Back to Multiple platform build/check report for BioC 3.21:   simplified   long
ABCDEFGHIJKLMNOPQ[R]STUVWXYZ

This page was generated on 2025-02-03 12:37 -0500 (Mon, 03 Feb 2025).

HostnameOSArch (*)R versionInstalled pkgs
nebbiolo1Linux (Ubuntu 24.04.1 LTS)x86_64R Under development (unstable) (2025-01-20 r87609) -- "Unsuffered Consequences" 4704
palomino7Windows Server 2022 Datacenterx64R Under development (unstable) (2025-01-21 r87610 ucrt) -- "Unsuffered Consequences" 4467
lconwaymacOS 12.7.1 Montereyx86_64R Under development (unstable) (2025-01-22 r87618) -- "Unsuffered Consequences" 4478
Click on any hostname to see more info about the system (e.g. compilers)      (*) as reported by 'uname -p', except on Windows and Mac OS X

Package 1686/2289HostnameOS / ArchINSTALLBUILDCHECKBUILD BIN
RCy3 2.27.0  (landing page)
Alex Pico
Snapshot Date: 2025-02-02 13:40 -0500 (Sun, 02 Feb 2025)
git_url: https://git.bioconductor.org/packages/RCy3
git_branch: devel
git_last_commit: 6d1a209
git_last_commit_date: 2024-10-29 10:04:47 -0500 (Tue, 29 Oct 2024)
nebbiolo1Linux (Ubuntu 24.04.1 LTS) / x86_64  OK    OK    OK  UNNEEDED, same version is already published
palomino7Windows Server 2022 Datacenter / x64  OK    OK    OK    OK  UNNEEDED, same version is already published
lconwaymacOS 12.7.1 Monterey / x86_64  OK    OK    OK    OK  UNNEEDED, same version is already published


CHECK results for RCy3 on nebbiolo1

To the developers/maintainers of the RCy3 package:
- Allow up to 24 hours (and sometimes 48 hours) for your latest push to git@git.bioconductor.org:packages/RCy3.git to reflect on this report. See Troubleshooting Build Report for more information.
- Use the following Renviron settings to reproduce errors and warnings.
- If 'R CMD check' started to fail recently on the Linux builder(s) over a missing dependency, add the missing dependency to 'Suggests:' in your DESCRIPTION file. See Renviron.bioc for more information.

raw results


Summary

Package: RCy3
Version: 2.27.0
Command: /home/biocbuild/bbs-3.21-bioc/R/bin/R CMD check --install=check:RCy3.install-out.txt --library=/home/biocbuild/bbs-3.21-bioc/R/site-library --timings RCy3_2.27.0.tar.gz
StartedAt: 2025-02-03 01:35:51 -0500 (Mon, 03 Feb 2025)
EndedAt: 2025-02-03 01:37:28 -0500 (Mon, 03 Feb 2025)
EllapsedTime: 97.2 seconds
RetCode: 0
Status:   OK  
CheckDir: RCy3.Rcheck
Warnings: 0

Command output

##############################################################################
##############################################################################
###
### Running command:
###
###   /home/biocbuild/bbs-3.21-bioc/R/bin/R CMD check --install=check:RCy3.install-out.txt --library=/home/biocbuild/bbs-3.21-bioc/R/site-library --timings RCy3_2.27.0.tar.gz
###
##############################################################################
##############################################################################


* using log directory ‘/home/biocbuild/bbs-3.21-bioc/meat/RCy3.Rcheck’
* using R Under development (unstable) (2025-01-20 r87609)
* using platform: x86_64-pc-linux-gnu
* R was compiled by
    gcc (Ubuntu 13.3.0-6ubuntu2~24.04) 13.3.0
    GNU Fortran (Ubuntu 13.3.0-6ubuntu2~24.04) 13.3.0
* running under: Ubuntu 24.04.1 LTS
* using session charset: UTF-8
* checking for file ‘RCy3/DESCRIPTION’ ... OK
* checking extension type ... Package
* this is package ‘RCy3’ version ‘2.27.0’
* package encoding: UTF-8
* checking package namespace information ... OK
* checking package dependencies ... OK
* checking if this is a source package ... OK
* checking if there is a namespace ... OK
* checking for hidden files and directories ... NOTE
Found the following hidden files and directories:
  .travis.yml
These were most likely included in error. See section ‘Package
structure’ in the ‘Writing R Extensions’ manual.
* checking for portable file names ... OK
* checking for sufficient/correct file permissions ... OK
* checking whether package ‘RCy3’ can be installed ... OK
* checking installed package size ... OK
* checking package directory ... OK
* checking ‘build’ directory ... OK
* checking DESCRIPTION meta-information ... NOTE
License stub is invalid DCF.
* checking top-level files ... OK
* checking for left-over files ... OK
* checking index information ... OK
* checking package subdirectories ... OK
* checking code files for non-ASCII characters ... OK
* checking R files for syntax errors ... OK
* checking whether the package can be loaded ... OK
* checking whether the package can be loaded with stated dependencies ... OK
* checking whether the package can be unloaded cleanly ... OK
* checking whether the namespace can be loaded with stated dependencies ... OK
* checking whether the namespace can be unloaded cleanly ... OK
* checking loading without being on the library search path ... OK
* checking dependencies in R code ... OK
* checking S3 generic/method consistency ... OK
* checking replacement functions ... OK
* checking foreign function calls ... OK
* checking R code for possible problems ... NOTE
.checkHexColor: no visible global function definition for ‘colors’
.edgeNameToEdgeSUID: no visible binding for global variable ‘SUID’
.nodeNameToNodeSUID: no visible binding for global variable ‘SUID’
createNetworkFromDataFrames: no visible binding for global variable
  ‘SUID’
Undefined global functions or variables:
  SUID colors
Consider adding
  importFrom("grDevices", "colors")
to your NAMESPACE file.
* checking Rd files ... NOTE
checkRd: (-1) importFileFromUrl.Rd:24: Lost braces; missing escapes or markup?
    24 | dict: {'filePath': <new file's absolute path in Cytoscape workstation>, 'fileByteCount': number of bytes read}
       |       ^
checkRd: (-1) sandboxGetFileInfo.Rd:17: Lost braces; missing escapes or markup?
    17 | dict: {'filePath': <full path on Cytoscape workstation>, 'modifiedTime': <last changed time, '' if file doesn't exist>, 'isFile': <True if file, False if directory>}
       |       ^
checkRd: (-1) sandboxRemove.Rd:15: Lost braces; missing escapes or markup?
    15 | dict: {'sandboxPath': <directory on Cytoscape workstation>, 'existed': <True if sandbox existed>}
       |       ^
checkRd: (-1) sandboxRemoveFile.Rd:17: Lost braces; missing escapes or markup?
    17 | dict: {'filePath': <file's absolute path in Cytoscape workstation>, 'existed': True if file existed before being deleted}
       |       ^
checkRd: (-1) sandboxUrlTo.Rd:27: Lost braces; missing escapes or markup?
    27 | dict: {'filePath': <new file's absolute path in Cytoscape workstation>, 'fileByteCount': number of bytes read}
       |       ^
* checking Rd metadata ... OK
* checking Rd cross-references ... OK
* checking for missing documentation entries ... OK
* checking for code/documentation mismatches ... OK
* checking Rd \usage sections ... OK
* checking Rd contents ... OK
* checking for unstated dependencies in examples ... OK
* checking files in ‘vignettes’ ... OK
* checking examples ... OK
* checking for unstated dependencies in ‘tests’ ... OK
* checking tests ...
  Running ‘runTests.R’
 OK
* checking for unstated dependencies in vignettes ... OK
* checking package vignettes ... OK
* checking re-building of vignette outputs ... OK
* checking PDF version of manual ... OK
* DONE

Status: 4 NOTEs
See
  ‘/home/biocbuild/bbs-3.21-bioc/meat/RCy3.Rcheck/00check.log’
for details.


Installation output

RCy3.Rcheck/00install.out

##############################################################################
##############################################################################
###
### Running command:
###
###   /home/biocbuild/bbs-3.21-bioc/R/bin/R CMD INSTALL RCy3
###
##############################################################################
##############################################################################


* installing to library ‘/home/biocbuild/bbs-3.21-bioc/R/site-library’
* installing *source* package ‘RCy3’ ...
** this is package ‘RCy3’ version ‘2.27.0’
** using staged installation
** R
** inst
** byte-compile and prepare package for lazy loading
** help
*** installing help indices
** building package indices
** installing vignettes
** testing if installed package can be loaded from temporary location
** testing if installed package can be loaded from final location
** testing if installed package keeps a record of temporary installation path
* DONE (RCy3)

Tests output

RCy3.Rcheck/tests/runTests.Rout


R Under development (unstable) (2025-01-20 r87609) -- "Unsuffered Consequences"
Copyright (C) 2025 The R Foundation for Statistical Computing
Platform: x86_64-pc-linux-gnu

R is free software and comes with ABSOLUTELY NO WARRANTY.
You are welcome to redistribute it under certain conditions.
Type 'license()' or 'licence()' for distribution details.

R is a collaborative project with many contributors.
Type 'contributors()' for more information and
'citation()' on how to cite R or R packages in publications.

Type 'demo()' for some demos, 'help()' for on-line help, or
'help.start()' for an HTML browser interface to help.
Type 'q()' to quit R.

> # tests disabled as the Bioconductor build system no longer supports interactive sessions
> #require(RCy3) || stop("unable to load RCy3")
> #BiocGenerics:::testPackage('RCy3')
> 
> proc.time()
   user  system elapsed 
  0.148   0.030   0.165 

Example timings

RCy3.Rcheck/RCy3-Ex.timings

nameusersystemelapsed
AddToGroup000
RemoveFromGroup0.0000.0000.001
UpdateAnnotationBoundedText0.0010.0010.000
addAnnotationBoundedText000
addAnnotationImage0.0000.0010.000
addAnnotationShape000
addAnnotationText000
addCyEdges0.0000.0000.001
addCyNodes000
analyzeNetwork0.0000.0000.001
applyFilter000
bundleEdges000
checkNotebookIsRunning000
checkRunningRemote0.0000.0000.001
clearEdgeBends000
clearEdgePropertyBypass0.0010.0010.000
clearNetworkCenterBypass000
clearNetworkPropertyBypass000
clearNetworkZoomBypass0.0000.0000.001
clearNodeOpacityBypass000
clearNodePropertyBypass000
clearSelection000
cloneNetwork0.0010.0000.000
closeSession000
collapseGroup000
commandEcho000
commandOpenDialog000
commandPause0.0000.0000.001
commandQuit000
commandRunFile000
commandSleep000
commandsAPI0.0010.0010.000
commandsGET000
commandsHelp000
commandsPOST000
commandsRun000
copyVisualStyle000
createColumnFilter000
createCompositeFilter0.0000.0000.001
createCytoscapejsFromNetwork000
createDegreeFilter0.0010.0000.000
createGraphFromNetwork000
createGroup0.0000.0010.000
createGroupByColumn000
createIgraphFromNetwork000
createNetworkFromCytoscapejs0.0000.0000.001
createNetworkFromDataFrames000
createNetworkFromGraph000
createNetworkFromIgraph000
createSubnetwork0.0010.0000.000
createView000
createVisualStyle000
cybrowserClose000
cybrowserDialog000
cybrowserHide0.0000.0000.001
cybrowserList000
cybrowserSend0.0010.0010.000
cybrowserShow000
cybrowserVersion0.0000.0010.000
cyrestAPI000
cyrestDELETE000
cyrestGET0.0000.0000.001
cyrestPOST000
cyrestPUT000
cytoscapeApiVersions000
cytoscapeFreeMemory0.0010.0010.000
cytoscapeMemoryStatus000
cytoscapeNumberOfCores0.0000.0010.000
cytoscapePing000
cytoscapeVersionInfo000
deleteAllNetworks0.0000.0000.001
deleteAllVisualStyle000
deleteAnnotation000
deleteDuplicateEdges000
deleteGroup000
deleteNetwork000
deleteSelectedEdges000
deleteSelectedNodes000
deleteSelfLoops000
deleteStyleMapping0.0000.0000.001
deleteTableColumn000
deleteVisualStyle000
diffusionAdvanced000
diffusionBasic000
disableApp000
doInitializeSandbox000
doRequestRemote0.0000.0000.001
doSetSandbox000
dockPanel000
dot-exportShowImage000
dot-getDefaultSandbox0.0010.0000.000
dot-getRequester000
enableApp000
expandGroup000
exportFilters000
exportImage0.0000.0000.001
exportJPG000
exportNetwork0.0010.0000.000
exportNetworkToNDEx000
exportPDF0.0000.0010.000
exportPNG000
exportPS000
exportSVG000
exportVisualStyles000
findRemoteCytoscape000
fitContent000
floatPanel0.0010.0000.000
getAbsSandboxPath000
getAllEdges000
getAllNodes000
getAllStyleMappings000
getAnnotationList0.0000.0000.001
getAppInformation000
getAppStatus0.0010.0010.000
getAppUpdates000
getArrowShapes0.0000.0010.000
getAvailableApps000
getBackgroundColorDefault000
getBrowserClientChannel0.0000.0000.001
getBrowserClientJs000
getCollectionList000
getCollectionName000
getCollectionNetworks0.0010.0000.000
getCollectionSuid000
getCurrentSandbox000
getCurrentSandboxName000
getCurrentSandboxPath000
getCurrentStyle0.0000.0000.001
getDefaultSandbox000
getDefaultSandboxPath000
getDisabledApps000
getEdgeColor0.0010.0010.000
getEdgeCount000
getEdgeInfo0.0000.0010.000
getEdgeLineStyle000
getEdgeLineWidth000
getEdgeProperty0.0000.0000.001
getEdgeSelectionColorDefault000
getEdgeTargetArrowShape000
getFilterList000
getFirstNeighbors0.0010.0000.000
getGroupInfo000
getInstalledApps000
getJupyterBridgeURL0.0000.0000.001
getLayoutNameMapping000
getLayoutNames000
getLayoutPropertyNames000
getLayoutPropertyType0.0010.0010.000
getLayoutPropertyValue000
getLineStyles000
getNetworkCenter000
getNetworkCount000
getNetworkList0.0000.0000.001
getNetworkNDExId000
getNetworkName0.0010.0000.000
getNetworkProperty000
getNetworkSuid000
getNetworkViewSuid000
getNetworkViews000
getNetworkZoom0.0000.0000.001
getNodeColor000
getNodeCount000
getNodeHeight000
getNodeLabelPosition0.0000.0010.000
getNodeLabelPositionDefault000
getNodePosition000
getNodeProperty0.0000.0000.001
getNodeSelectionColorDefault000
getNodeShapes0.0010.0010.000
getNodeSize000
getNodeWidth000
getNotebookIsRunning0.0000.0000.001
getSandboxReinitialize000
getSelectedEdgeCount000
getSelectedEdges000
getSelectedNodeCount0.0010.0000.000
getSelectedNodes000
getStyleDependencies000
getStyleMapping0.0000.0000.001
getTableColumnNames000
getTableColumnTypes000
getTableColumns000
getTableValue0.0010.0000.000
getUninstalledApps000
getVisualPropertyDefault000
getVisualPropertyNames0.0000.0000.001
getVisualStyleJSON000
getVisualStyleNames000
groupAnnotation000
hideAllPanels0.0010.0010.000
hideEdges000
hideNodes000
hidePanel000
hideSelectedEdges000
hideSelectedNodes000
importFileFromUrl000
importFilters0.0010.0000.000
importNetworkFromFile000
importNetworkFromNDEx000
importVisualStyles0.0000.0000.001
installApp000
invertEdgeSelection000
invertNodeSelection000
layoutCopycat0.0010.0000.000
layoutNetwork000
listGroups000
lockNodeDimensions0.0000.0000.001
makeSimpleGraph0.0500.0000.051
makeSimpleIgraph0.0590.0010.061
mapTableColumn000
mapVisualProperty0.0010.0000.000
matchArrowColorToEdge000
mergeNetworks000
notebookExportShowImage0.0000.0000.001
notebookShowImage000
openAppStore000
openSession000
paletteColorBrewerAccent0.0040.0000.003
paletteColorBrewerBlues000
paletteColorBrewerBrBG0.0010.0000.000
paletteColorBrewerBuGn0.0000.0000.001
paletteColorBrewerBuPu000
paletteColorBrewerDark2000
paletteColorBrewerGnBu0.0010.0000.001
paletteColorBrewerGreens000
paletteColorBrewerGreys000
paletteColorBrewerOrRd000
paletteColorBrewerOranges000
paletteColorBrewerPRGn000
paletteColorBrewerPaired0.0000.0010.000
paletteColorBrewerPastel10.0000.0000.001
paletteColorBrewerPastel2000
paletteColorBrewerPiYG0.0000.0010.000
paletteColorBrewerPuBu0.0000.0000.001
paletteColorBrewerPuBuGn000
paletteColorBrewerPuOr000
paletteColorBrewerPuRd000
paletteColorBrewerPurples000
paletteColorBrewerRdBu000
paletteColorBrewerRdPu0.0010.0000.000
paletteColorBrewerRdYlBu0.0000.0000.001
paletteColorBrewerReds000
paletteColorBrewerSet10.0010.0000.000
paletteColorBrewerSet20.0000.0000.001
paletteColorBrewerSet3000
paletteColorBrewerYlGn000
paletteColorBrewerYlGnBu0.0000.0000.001
paletteColorBrewerYlOrBr000
paletteColorBrewerYlOrRd000
paletteColorRandom0.0000.0010.000
paletteColorVirdis0.0000.0000.001
removeNodeCustomGraphics000
renameNetwork0.0000.0010.000
renameTableColumn000
resetDefaultSandbox000
rotateLayout0.0000.0000.001
runningRemoteCheck000
sandboxGetFileInfo0.0010.0010.000
sandboxGetFrom000
sandboxInitializer0.0000.0010.000
sandboxRemove000
sandboxRemoveFile000
sandboxSendTo0.0000.0000.001
sandboxSet000
sandboxUrlTo0.0010.0000.000
saveSession000
scaleLayout000
selectAll000
selectAllEdges000
selectAllNodes0.0000.0000.001
selectEdges000
selectEdgesAdjacentToNodes0.0010.0000.000
selectEdgesAdjacentToSelectedNodes000
selectEdgesConnectingSelectedNodes000
selectFirstNeighbors000
selectNodes000
selectNodesConnectedBySelectedEdges0.0000.0000.001
setBackgroundColorDefault000
setCatchupFilterSecs0.0010.0010.000
setCatchupNetworkSecs0.0000.0000.001
setCurrentNetwork000
setCurrentSandbox000
setCurrentView000
setDefaultSandbox000
setDefaultSandboxPath0.0000.0000.001
setEdgeColorBypass000
setEdgeColorDefault000
setEdgeColorMapping000
setEdgeFontFaceBypass0.0000.0010.000
setEdgeFontFaceDefault0.0000.0000.001
setEdgeFontFaceMapping000
setEdgeFontSizeBypass000
setEdgeFontSizeDefault000
setEdgeFontSizeMapping000
setEdgeLabelBypass0.0000.0000.001
setEdgeLabelColorBypass000
setEdgeLabelColorDefault000
setEdgeLabelColorMapping000
setEdgeLabelDefault000
setEdgeLabelMapping0.0000.0000.001
setEdgeLabelOpacityBypass000
setEdgeLabelOpacityDefault000
setEdgeLabelOpacityMapping000
setEdgeLineStyleBypass000
setEdgeLineStyleDefault0.0000.0000.001
setEdgeLineStyleMapping000
setEdgeLineWidthBypass000
setEdgeLineWidthDefault000
setEdgeLineWidthMapping0.0000.0010.000
setEdgeOpacityBypass000
setEdgeOpacityDefault000
setEdgeOpacityMapping000
setEdgePropertyBypass000
setEdgeSelectionColorDefault0.0010.0000.000
setEdgeSourceArrowColorBypass000
setEdgeSourceArrowColorDefault000
setEdgeSourceArrowColorMapping0.0000.0000.001
setEdgeSourceArrowMapping000
setEdgeSourceArrowShapeBypass000
setEdgeSourceArrowShapeDefault000
setEdgeSourceArrowShapeMapping0.0000.0010.000
setEdgeTargetArrowColorBypass000
setEdgeTargetArrowColorDefault000
setEdgeTargetArrowColorMapping0.0000.0000.001
setEdgeTargetArrowMapping000
setEdgeTargetArrowShapeBypass0.0010.0010.000
setEdgeTargetArrowShapeDefault000
setEdgeTargetArrowShapeMapping000
setEdgeTooltipBypass0.0000.0000.001
setEdgeTooltipDefault000
setEdgeTooltipMapping000
setLayoutProperties000
setModelPropagationSecs0.0010.0000.000
setNetworkCenterBypass0.0000.0000.001
setNetworkPropertyBypass000
setNetworkZoomBypass0.0010.0010.000
setNodeBorderColorBypass000
setNodeBorderColorDefault0.0000.0010.000
setNodeBorderColorMapping000
setNodeBorderOpacityBypass000
setNodeBorderOpacityDefault000
setNodeBorderOpacityMapping000
setNodeBorderWidthBypass000
setNodeBorderWidthDefault000
setNodeBorderWidthMapping000
setNodeColorBypass0.0000.0000.001
setNodeColorDefault000
setNodeColorMapping0.0010.0000.000
setNodeComboOpacityMapping000
setNodeCustomBarChart000
setNodeCustomBoxChart0.0000.0000.001
setNodeCustomHeatMapChart000
setNodeCustomLineChart000
setNodeCustomLinearGradient000
setNodeCustomPieChart000
setNodeCustomPosition000
setNodeCustomRadialGradient000
setNodeCustomRingChart0.0000.0000.001
setNodeFillOpacityBypass000
setNodeFillOpacityDefault0.0010.0000.000
setNodeFillOpacityMapping000
setNodeFontFaceBypass000
setNodeFontFaceDefault0.0000.0000.001
setNodeFontFaceMapping000
setNodeFontSizeBypass000
setNodeFontSizeDefault000
setNodeFontSizeMapping0.0000.0010.000
setNodeHeightBypass000
setNodeHeightDefault000
setNodeHeightMapping0.0000.0000.001
setNodeLabelBypass000
setNodeLabelColorBypass000
setNodeLabelColorDefault000
setNodeLabelColorMapping0.0000.0010.000
setNodeLabelDefault0.0000.0000.001
setNodeLabelMapping000
setNodeLabelOpacityBypass000
setNodeLabelOpacityDefault000
setNodeLabelOpacityMapping0.0010.0000.000
setNodeLabelPositionBypass000
setNodeLabelPositionDefault000
setNodeOpacityBypass0.0000.0000.001
setNodePositionBypass000
setNodePropertyBypass0.0010.0000.000
setNodeSelectionColorDefault000
setNodeShapeBypass000
setNodeShapeDefault0.0000.0000.001
setNodeShapeMapping000
setNodeSizeBypass0.0010.0000.000
setNodeSizeDefault000
setNodeSizeMapping0.0000.0010.000
setNodeTooltipBypass000
setNodeTooltipDefault000
setNodeTooltipMapping0.0000.0000.001
setNodeWidthBypass000
setNodeWidthDefault0.0010.0010.000
setNodeWidthMapping000
setNotebookIsRunning000
setSandboxReinitialize0.0000.0000.001
setStyleDependencies000
setVisualPropertyDefault000
setVisualStyle000
syncNodeCustomGraphicsSize000
toggleGraphicsDetails0.0000.0000.001
ungroupAnnotation000
unhideAll0.0010.0000.000
unhideEdges000
unhideNodes000
uninstallApp000
updateAnnotationImage000
updateAnnotationShape0.0000.0000.001
updateAnnotationText000
updateApp0.0010.0010.000
updateGroupAnnotation000
updateNetworkInNDEx000
updateStyleDefaults0.0000.0000.001
updateStyleMapping000