Back to Multiple platform build/check report for BioC 3.23:   simplified   long
ABCDEFGHIJKLMNOPQ[R]STUVWXYZ

This page was generated on 2025-11-24 11:40 -0500 (Mon, 24 Nov 2025).

HostnameOSArch (*)R versionInstalled pkgs
nebbiolo1Linux (Ubuntu 24.04.3 LTS)x86_64R Under development (unstable) (2025-10-20 r88955) -- "Unsuffered Consequences" 4829
lconwaymacOS 12.7.6 Montereyx86_64R Under development (unstable) (2025-10-21 r88958) -- "Unsuffered Consequences" 4605
kjohnson3macOS 13.7.7 Venturaarm64R Under development (unstable) (2025-11-04 r88984) -- "Unsuffered Consequences" 4568
Click on any hostname to see more info about the system (e.g. compilers)      (*) as reported by 'uname -p', except on Windows and Mac OS X

Package 1713/2327HostnameOS / ArchINSTALLBUILDCHECKBUILD BIN
RCSL 1.19.0  (landing page)
Qinglin Mei
Snapshot Date: 2025-11-23 13:40 -0500 (Sun, 23 Nov 2025)
git_url: https://git.bioconductor.org/packages/RCSL
git_branch: devel
git_last_commit: 01ddc6d
git_last_commit_date: 2025-10-29 11:10:06 -0500 (Wed, 29 Oct 2025)
nebbiolo1Linux (Ubuntu 24.04.3 LTS) / x86_64  OK    OK    OK  UNNEEDED, same version is already published
lconwaymacOS 12.7.6 Monterey / x86_64  OK    OK    OK    OK  UNNEEDED, same version is already published
kjohnson3macOS 13.7.7 Ventura / arm64  OK    OK    OK    OK  UNNEEDED, same version is already published


CHECK results for RCSL on kjohnson3

To the developers/maintainers of the RCSL package:
- Allow up to 24 hours (and sometimes 48 hours) for your latest push to git@git.bioconductor.org:packages/RCSL.git to reflect on this report. See Troubleshooting Build Report for more information.
- Use the following Renviron settings to reproduce errors and warnings.
- If 'R CMD check' started to fail recently on the Linux builder(s) over a missing dependency, add the missing dependency to 'Suggests:' in your DESCRIPTION file. See Renviron.bioc for more information.

raw results


Summary

Package: RCSL
Version: 1.19.0
Command: /Library/Frameworks/R.framework/Resources/bin/R CMD check --install=check:RCSL.install-out.txt --library=/Library/Frameworks/R.framework/Resources/library --no-vignettes --timings RCSL_1.19.0.tar.gz
StartedAt: 2025-11-23 21:58:27 -0500 (Sun, 23 Nov 2025)
EndedAt: 2025-11-23 22:01:23 -0500 (Sun, 23 Nov 2025)
EllapsedTime: 176.7 seconds
RetCode: 0
Status:   OK  
CheckDir: RCSL.Rcheck
Warnings: 0

Command output

##############################################################################
##############################################################################
###
### Running command:
###
###   /Library/Frameworks/R.framework/Resources/bin/R CMD check --install=check:RCSL.install-out.txt --library=/Library/Frameworks/R.framework/Resources/library --no-vignettes --timings RCSL_1.19.0.tar.gz
###
##############################################################################
##############################################################################


* using log directory ‘/Users/biocbuild/bbs-3.23-bioc/meat/RCSL.Rcheck’
* using R Under development (unstable) (2025-11-04 r88984)
* using platform: aarch64-apple-darwin20
* R was compiled by
    Apple clang version 16.0.0 (clang-1600.0.26.6)
    GNU Fortran (GCC) 14.2.0
* running under: macOS Ventura 13.7.8
* using session charset: UTF-8
* using option ‘--no-vignettes’
* checking for file ‘RCSL/DESCRIPTION’ ... OK
* checking extension type ... Package
* this is package ‘RCSL’ version ‘1.19.0’
* package encoding: UTF-8
* checking package namespace information ... OK
* checking package dependencies ... OK
* checking if this is a source package ... OK
* checking if there is a namespace ... OK
* checking for hidden files and directories ... OK
* checking for portable file names ... OK
* checking for sufficient/correct file permissions ... OK
* checking whether package ‘RCSL’ can be installed ... OK
* checking installed package size ... OK
* checking package directory ... OK
* checking ‘build’ directory ... OK
* checking DESCRIPTION meta-information ... OK
* checking top-level files ... OK
* checking for left-over files ... OK
* checking index information ... OK
* checking package subdirectories ... OK
* checking code files for non-ASCII characters ... OK
* checking R files for syntax errors ... OK
* checking whether the package can be loaded ... OK
* checking whether the package can be loaded with stated dependencies ... OK
* checking whether the package can be unloaded cleanly ... OK
* checking whether the namespace can be loaded with stated dependencies ... OK
* checking whether the namespace can be unloaded cleanly ... OK
* checking dependencies in R code ... NOTE
Namespaces in Imports field not imported from:
  ‘MatrixGenerics’ ‘Rcpp’ ‘SingleCellExperiment’
  All declared Imports should be used.
* checking S3 generic/method consistency ... OK
* checking replacement functions ... OK
* checking foreign function calls ... OK
* checking R code for possible problems ... NOTE
PlotMST: no visible binding for global variable ‘X1’
PlotMST: no visible binding for global variable ‘X2’
PlotMST: no visible binding for global variable ‘label’
PlotMST: no visible binding for global variable ‘from.x’
PlotMST: no visible binding for global variable ‘to.x’
PlotMST: no visible binding for global variable ‘from.y’
PlotMST: no visible binding for global variable ‘to.y’
PlotMST: no visible binding for global variable ‘V1’
PlotMST: no visible binding for global variable ‘V2’
PlotPseudoTime: no visible binding for global variable ‘x’
PlotPseudoTime: no visible binding for global variable ‘y’
PlotPseudoTime: no visible binding for global variable ‘Timepoint’
PlotTrajectory: no visible binding for global variable ‘X1’
PlotTrajectory: no visible binding for global variable ‘X2’
PlotTrajectory: no visible binding for global variable ‘label’
PlotTrajectory: no visible binding for global variable ‘x’
PlotTrajectory: no visible binding for global variable ‘y’
Undefined global functions or variables:
  Timepoint V1 V2 X1 X2 from.x from.y label to.x to.y x y
* checking Rd files ... NOTE
checkRd: (-1) BDSM.Rd:6: Lost braces; missing escapes or markup?
     6 | min_{B>=0, B*1=1, F'*F=I}  ||B - A||_1 + r*||B||^2 + 2*lambda*trace(F'*L*F)}
       |     ^
checkRd: (-1) BDSM.Rd:22: Lost braces; missing escapes or markup?
    22 | min_{B>=0, B*1=1, F'*F=I}  ||B - A||_1 + r*||B||^2 + 2*lambda*trace(F'*L*F)
       |     ^
* checking Rd metadata ... OK
* checking Rd cross-references ... OK
* checking for missing documentation entries ... OK
* checking for code/documentation mismatches ... OK
* checking Rd \usage sections ... OK
* checking Rd contents ... OK
* checking for unstated dependencies in examples ... OK
* checking contents of ‘data’ directory ... OK
* checking data for non-ASCII characters ... OK
* checking LazyData ... OK
* checking data for ASCII and uncompressed saves ... OK
* checking files in ‘vignettes’ ... OK
* checking examples ... OK
Examples with CPU (user + system) or elapsed time > 5s
                     user system elapsed
TrajectoryAnalysis 14.337  0.355  15.024
PlotMST            14.147  0.249  15.328
PlotTrajectory     13.680  0.305  14.377
BDSM               13.621  0.259  14.584
EstClusters        13.446  0.193  14.107
SimS               13.323  0.267  13.856
getLineage         13.293  0.225  14.395
NeigRepresent      13.228  0.252  14.250
PlotPseudoTime     13.071  0.194  13.958
GenesFilter        12.797  0.342  13.733
* checking for unstated dependencies in vignettes ... OK
* checking package vignettes ... OK
* checking running R code from vignettes ... SKIPPED
* checking re-building of vignette outputs ... SKIPPED
* checking PDF version of manual ... OK
* DONE

Status: 3 NOTEs
See
  ‘/Users/biocbuild/bbs-3.23-bioc/meat/RCSL.Rcheck/00check.log’
for details.


Installation output

RCSL.Rcheck/00install.out

##############################################################################
##############################################################################
###
### Running command:
###
###   /Library/Frameworks/R.framework/Resources/bin/R CMD INSTALL RCSL
###
##############################################################################
##############################################################################


* installing to library ‘/Library/Frameworks/R.framework/Versions/4.6-arm64/Resources/library’
* installing *source* package ‘RCSL’ ...
** this is package ‘RCSL’ version ‘1.19.0’
** using staged installation
** R
** data
*** moving datasets to lazyload DB
** byte-compile and prepare package for lazy loading
** help
*** installing help indices
** building package indices
** installing vignettes
** testing if installed package can be loaded from temporary location
** testing if installed package can be loaded from final location
** testing if installed package keeps a record of temporary installation path
* DONE (RCSL)

Tests output


Example timings

RCSL.Rcheck/RCSL-Ex.timings

nameusersystemelapsed
BDSM13.621 0.25914.584
EstClusters13.446 0.19314.107
GenesFilter12.797 0.34213.733
NeigRepresent13.228 0.25214.250
PlotMST14.147 0.24915.328
PlotPseudoTime13.071 0.19413.958
PlotTrajectory13.680 0.30514.377
RCSL3.3470.3573.886
SimS13.323 0.26713.856
TrajectoryAnalysis14.337 0.35515.024
getLineage13.293 0.22514.395