Back to Multiple platform build/check report for BioC 3.23:   simplified   long
ABCDEFGHIJKLMNOPQ[R]STUVWXYZ

This page was generated on 2025-11-17 11:39 -0500 (Mon, 17 Nov 2025).

HostnameOSArch (*)R versionInstalled pkgs
nebbiolo1Linux (Ubuntu 24.04.3 LTS)x86_64R Under development (unstable) (2025-10-20 r88955) -- "Unsuffered Consequences" 4826
lconwaymacOS 12.7.6 Montereyx86_64R Under development (unstable) (2025-10-21 r88958) -- "Unsuffered Consequences" 4491
kjohnson3macOS 13.7.7 Venturaarm64R Under development (unstable) (2025-11-04 r88984) -- "Unsuffered Consequences" 4562
Click on any hostname to see more info about the system (e.g. compilers)      (*) as reported by 'uname -p', except on Windows and Mac OS X

Package 1679/2325HostnameOS / ArchINSTALLBUILDCHECKBUILD BIN
RAIDS 1.9.0  (landing page)
Pascal Belleau
Snapshot Date: 2025-11-16 13:40 -0500 (Sun, 16 Nov 2025)
git_url: https://git.bioconductor.org/packages/RAIDS
git_branch: devel
git_last_commit: 27cee94
git_last_commit_date: 2025-10-29 11:25:36 -0500 (Wed, 29 Oct 2025)
nebbiolo1Linux (Ubuntu 24.04.3 LTS) / x86_64  OK    OK    OK  NO, package depends on 'GENESIS' which is not available
lconwaymacOS 12.7.6 Monterey / x86_64  OK    OK    OK    OK  NO, package depends on 'GENESIS' which is not available
kjohnson3macOS 13.7.7 Ventura / arm64  OK    OK    OK    OK  NO, package depends on 'GENESIS' which is not available


CHECK results for RAIDS on nebbiolo1

To the developers/maintainers of the RAIDS package:
- Allow up to 24 hours (and sometimes 48 hours) for your latest push to git@git.bioconductor.org:packages/RAIDS.git to reflect on this report. See Troubleshooting Build Report for more information.
- Use the following Renviron settings to reproduce errors and warnings.
- If 'R CMD check' started to fail recently on the Linux builder(s) over a missing dependency, add the missing dependency to 'Suggests:' in your DESCRIPTION file. See Renviron.bioc for more information.

raw results


Summary

Package: RAIDS
Version: 1.9.0
Command: /home/biocbuild/bbs-3.23-bioc/R/bin/R CMD check --install=check:RAIDS.install-out.txt --library=/home/biocbuild/bbs-3.23-bioc/R/site-library --timings RAIDS_1.9.0.tar.gz
StartedAt: 2025-11-17 03:04:54 -0500 (Mon, 17 Nov 2025)
EndedAt: 2025-11-17 03:13:35 -0500 (Mon, 17 Nov 2025)
EllapsedTime: 521.0 seconds
RetCode: 0
Status:   OK  
CheckDir: RAIDS.Rcheck
Warnings: 0

Command output

##############################################################################
##############################################################################
###
### Running command:
###
###   /home/biocbuild/bbs-3.23-bioc/R/bin/R CMD check --install=check:RAIDS.install-out.txt --library=/home/biocbuild/bbs-3.23-bioc/R/site-library --timings RAIDS_1.9.0.tar.gz
###
##############################################################################
##############################################################################


* using log directory ‘/home/biocbuild/bbs-3.23-bioc/meat/RAIDS.Rcheck’
* using R Under development (unstable) (2025-10-20 r88955)
* using platform: x86_64-pc-linux-gnu
* R was compiled by
    gcc (Ubuntu 13.3.0-6ubuntu2~24.04) 13.3.0
    GNU Fortran (Ubuntu 13.3.0-6ubuntu2~24.04) 13.3.0
* running under: Ubuntu 24.04.3 LTS
* using session charset: UTF-8
* checking for file ‘RAIDS/DESCRIPTION’ ... OK
* checking extension type ... Package
* this is package ‘RAIDS’ version ‘1.9.0’
* package encoding: UTF-8
* checking package namespace information ... OK
* checking package dependencies ... OK
* checking if this is a source package ... OK
* checking if there is a namespace ... OK
* checking for hidden files and directories ... OK
* checking for portable file names ... OK
* checking for sufficient/correct file permissions ... OK
* checking whether package ‘RAIDS’ can be installed ... OK
* checking installed package size ... OK
* checking package directory ... OK
* checking ‘build’ directory ... OK
* checking DESCRIPTION meta-information ... OK
* checking top-level files ... OK
* checking for left-over files ... OK
* checking index information ... OK
* checking package subdirectories ... OK
* checking code files for non-ASCII characters ... OK
* checking R files for syntax errors ... OK
* checking whether the package can be loaded ... OK
* checking whether the package can be loaded with stated dependencies ... OK
* checking whether the package can be unloaded cleanly ... OK
* checking whether the namespace can be loaded with stated dependencies ... OK
* checking whether the namespace can be unloaded cleanly ... OK
* checking loading without being on the library search path ... OK
* checking dependencies in R code ... OK
* checking S3 generic/method consistency ... OK
* checking replacement functions ... OK
* checking foreign function calls ... OK
* checking R code for possible problems ... OK
* checking Rd files ... OK
* checking Rd metadata ... OK
* checking Rd cross-references ... OK
* checking for missing documentation entries ... OK
* checking for code/documentation mismatches ... OK
* checking Rd \usage sections ... NOTE
Documented arguments not in \usage in Rd file 'wrapperAncestry.Rd':
  ‘pathGeno’

Functions with \usage entries need to have the appropriate \alias
entries, and all their arguments documented.
The \usage entries must correspond to syntactically valid R code.
See chapter ‘Writing R documentation files’ in the ‘Writing R
Extensions’ manual.
* checking Rd contents ... OK
* checking for unstated dependencies in examples ... OK
* checking contents of ‘data’ directory ... OK
* checking data for non-ASCII characters ... OK
* checking data for ASCII and uncompressed saves ... OK
* checking files in ‘vignettes’ ... OK
* checking examples ... OK
Examples with CPU (user + system) or elapsed time > 5s
                                  user system elapsed
readSNVBAM                       5.143  0.103   5.247
computeAncestryFromSyntheticFile 5.041  0.153   5.196
* checking for unstated dependencies in ‘tests’ ... OK
* checking tests ...
  Running ‘testthat.R’
 OK
* checking for unstated dependencies in vignettes ... OK
* checking package vignettes ... OK
* checking re-building of vignette outputs ... OK
* checking PDF version of manual ... OK
* DONE

Status: 1 NOTE
See
  ‘/home/biocbuild/bbs-3.23-bioc/meat/RAIDS.Rcheck/00check.log’
for details.


Installation output

RAIDS.Rcheck/00install.out

##############################################################################
##############################################################################
###
### Running command:
###
###   /home/biocbuild/bbs-3.23-bioc/R/bin/R CMD INSTALL RAIDS
###
##############################################################################
##############################################################################


* installing to library ‘/home/biocbuild/bbs-3.23-bioc/R/site-library’
* installing *source* package ‘RAIDS’ ...
** this is package ‘RAIDS’ version ‘1.9.0’
** using staged installation
** R
** data
** inst
** byte-compile and prepare package for lazy loading
** help
*** installing help indices
** building package indices
** installing vignettes
** testing if installed package can be loaded from temporary location
** testing if installed package can be loaded from final location
** testing if installed package keeps a record of temporary installation path
* DONE (RAIDS)

Tests output

RAIDS.Rcheck/tests/testthat.Rout


R Under development (unstable) (2025-10-20 r88955) -- "Unsuffered Consequences"
Copyright (C) 2025 The R Foundation for Statistical Computing
Platform: x86_64-pc-linux-gnu

R is free software and comes with ABSOLUTELY NO WARRANTY.
You are welcome to redistribute it under certain conditions.
Type 'license()' or 'licence()' for distribution details.

R is a collaborative project with many contributors.
Type 'contributors()' for more information and
'citation()' on how to cite R or R packages in publications.

Type 'demo()' for some demos, 'help()' for on-line help, or
'help.start()' for an HTML browser interface to help.
Type 'q()' to quit R.

> library(testthat)
> library(RAIDS)
Loading required package: gdsfmt
Loading required package: SNPRelate
SNPRelate -- supported by Streaming SIMD Extensions 2 (SSE2)
Loading required package: GENESIS
Loading required package: dplyr

Attaching package: 'dplyr'

The following objects are masked from 'package:stats':

    filter, lag

The following objects are masked from 'package:base':

    intersect, setdiff, setequal, union

Loading required package: Rsamtools
Loading required package: Seqinfo
Loading required package: BiocGenerics
Loading required package: generics

Attaching package: 'generics'

The following object is masked from 'package:dplyr':

    explain

The following objects are masked from 'package:base':

    as.difftime, as.factor, as.ordered, intersect, is.element, setdiff,
    setequal, union


Attaching package: 'BiocGenerics'

The following object is masked from 'package:dplyr':

    combine

The following objects are masked from 'package:stats':

    IQR, mad, sd, var, xtabs

The following objects are masked from 'package:base':

    Filter, Find, Map, Position, Reduce, anyDuplicated, aperm, append,
    as.data.frame, basename, cbind, colnames, dirname, do.call,
    duplicated, eval, evalq, get, grep, grepl, is.unsorted, lapply,
    mapply, match, mget, order, paste, pmax, pmax.int, pmin, pmin.int,
    rank, rbind, rownames, sapply, saveRDS, table, tapply, unique,
    unsplit, which.max, which.min

Loading required package: GenomicRanges
Loading required package: stats4
Loading required package: S4Vectors

Attaching package: 'S4Vectors'

The following objects are masked from 'package:dplyr':

    first, rename

The following object is masked from 'package:utils':

    findMatches

The following objects are masked from 'package:base':

    I, expand.grid, unname

Loading required package: IRanges

Attaching package: 'IRanges'

The following objects are masked from 'package:dplyr':

    collapse, desc, slice

Loading required package: Biostrings
Loading required package: XVector

Attaching package: 'Biostrings'

The following object is masked from 'package:base':

    strsplit

> 
> ## Run all unit tests
> test_check("RAIDS")

Attaching package: 'Matrix'

The following object is masked from 'package:S4Vectors':

    expand

[ FAIL 0 | WARN 0 | SKIP 0 | PASS 478 ]
> 
> proc.time()
   user  system elapsed 
 34.932   1.686  36.613 

Example timings

RAIDS.Rcheck/RAIDS-Ex.timings

nameusersystemelapsed
add1KG2SampleGDS0.0460.0160.069
addBlockFromDetFile0.0020.0010.005
addBlockInGDSAnnot0.0040.0020.007
addGDS1KGLDBlock0.0020.0000.002
addGDSRef0.0030.0000.003
addGDSStudyPruning0.0000.0010.001
addGeneBlockGDSRefAnnot0.7760.1700.964
addGeneBlockRefAnnot0.0010.0010.002
addRef2GDS1KG0.0020.0030.006
addStudy1Kg0.0060.0030.008
addStudyGDSSample0.0060.0010.007
addUpdateLap0.0010.0000.002
addUpdateSegment0.0010.0000.002
appendGDSRefSample0.0070.0000.007
appendGDSSampleOnly0.0000.0010.001
appendGDSgenotype0.0110.0030.015
appendGDSgenotypeMat0.0020.0000.001
calcAFMLRNA0.0030.0020.005
computeAlleleFraction0.0020.0000.003
computeAllelicFractionDNA0.1270.0200.147
computeAllelicFractionRNA0.2190.0010.221
computeAllelicImbDNAChr0.0050.0020.007
computeAncestryFromSynthetic0.0170.0010.019
computeAncestryFromSyntheticFile5.0410.1535.196
computeKNNRefSample0.0130.0060.019
computeKNNRefSynthetic1.4990.0371.537
computeLOHBlocksDNAChr0.0080.0010.009
computePCAMultiSynthetic0.0080.0020.010
computePCARefRMMulti0.1420.0160.158
computePCARefSample0.1720.0010.173
computePoolSyntheticAncestryGr0.4630.0020.465
computeSyntheticConfMat0.0110.0030.015
computeSyntheticROC0.0370.0040.041
createAUROCGraph1.9120.1842.097
createAccuracyGraph0.7620.0200.783
createProfile0.0470.0090.057
createStudy2GDS1KG0.0490.0040.054
demoKnownSuperPop1KG1.4240.0321.456
demoPCA1KG0.0060.0030.009
demoPCASyntheticProfiles1.3970.0021.399
demoPedigreeEx10.0140.0030.017
estimateAllelicFraction0.0730.0030.076
extractNucleotide0.0000.0000.001
generateGDS1KG0.0090.0030.012
generateGDS1KGgenotypeFromSNPPileup0.0400.0010.041
generateGDSRefSample0.0040.0000.004
generateGDSSNPinfo0.0030.0010.004
generateGDSgenotype0.0100.0020.012
generateGeneBlock0.0000.0010.001
generateMapSnvSel0.0020.0020.003
generatePhase1KG2GDS0.0090.0040.013
generatePhaseRef0.0090.0020.011
generateProfileGDS0.0390.0020.041
getBlockIDs0.0010.0010.002
getRef1KGPop0.0020.0010.003
getRefSuperPop0.0020.0010.003
getTableSNV0.0110.0010.011
groupChr1KGSNV0.0410.0100.051
identifyRelative0.0050.0040.009
identifyRelativeRef0.0030.0030.006
inferAncestry0.0120.0010.013
inferAncestryDNA0.0120.0010.013
inferAncestryGeneAware0.0110.0010.012
matKNNSynthetic0.0370.0020.038
pedSynthetic0.0400.0010.041
prepPed1KG0.0040.0010.005
prepPedSynthetic1KG0.0040.0020.006
prepSynthetic0.0100.0020.011
processBlockChr0.0030.0010.003
processPileupChrBin3.0500.0053.056
profileAncestry0.0160.0020.017
pruning1KGbyChr0.0040.0010.004
pruningSample0.0370.0160.053
readSNVBAM5.1430.1035.247
readSNVFileGeneric0.0030.0010.004
readSNVPileupFile0.0310.0010.032
readSNVVCF4.8830.0724.957
runExomeAncestry0.0160.0020.017
runIBDKING0.0530.0030.058
runLDPruning0.0200.0040.024
runProfileAncestry0.0140.0040.018
runRNAAncestry0.0140.0030.016
runWrapperAncestry0.0150.0020.017
selParaPCAUpQuartile4.6360.0584.695
select1KGPop0.0040.0010.005
select1KGPopForSynthetic0.0020.0020.005
snpPositionDemo0.0030.0000.003
snvListVCF0.0020.0020.004
splitSelectByPop0.0010.0000.001
syntheticGeno0.0240.0040.028
tableBlockAF0.0360.0030.039
testAlleleFractionChange0.0020.0000.002
testEmptyBox0.0010.0010.002
validateAccuracyGraphInternal000
validateAdd1KG2SampleGDS0.0010.0010.002
validateAddStudy1Kg0.0000.0020.002
validateCharacterString0.0000.0000.001
validateComputeAncestryFromSyntheticFile0.0020.0000.003
validateComputeKNNRefSample0.0040.0010.005
validateComputeKNNRefSynthetic0.0040.0020.006
validateComputePCAMultiSynthetic0.0040.0000.005
validateComputePCARefSample0.0000.0010.002
validateComputePoolSyntheticAncestryGr0.0010.0010.002
validateComputeSyntheticRoc0.0090.0030.012
validateCreateAccuracyGraph0.0000.0010.001
validateCreateStudy2GDS1KG0.0020.0000.002
validateDataRefSynParameter0.0010.0000.000
validateEstimateAllelicFraction0.0010.0020.004
validateGDSClass0.0010.0010.002
validateGenerateGDS1KG0.0010.0000.002
validateLogical000
validatePEDStudyParameter0.0000.0010.001
validatePepSynthetic0.0010.0000.002
validatePositiveIntegerVector000
validatePrepPed1KG0.0000.0010.001
validateProfileGDSExist0.0010.0000.001
validatePruningSample0.0010.0010.002
validateRunExomeOrRNAAncestry0.0020.0020.005
validateSingleRatio000
validateStudyDataFrameParameter0.0000.0000.001
validateSyntheticGeno0.0000.0020.002
validatecreateAUROCGraph0.0000.0010.002
validatecreateProfile0.0010.0010.002
wrapperAncestry0.0140.0020.015