Back to Multiple platform build/check report for BioC 3.22:   simplified   long
ABCDEFGHIJKLMNO[P]QRSTUVWXYZ

This page was generated on 2025-05-28 12:09 -0400 (Wed, 28 May 2025).

HostnameOSArch (*)R versionInstalled pkgs
nebbiolo2Linux (Ubuntu 24.04.1 LTS)x86_644.5.0 (2025-04-11) -- "How About a Twenty-Six" 4756
palomino8Windows Server 2022 Datacenterx644.5.0 (2025-04-11 ucrt) -- "How About a Twenty-Six" 4531
lconwaymacOS 12.7.1 Montereyx86_644.5.0 Patched (2025-04-21 r88169) -- "How About a Twenty-Six" 4568
kjohnson3macOS 13.7.1 Venturaarm644.5.0 Patched (2025-04-21 r88169) -- "How About a Twenty-Six" 4508
taishanLinux (openEuler 24.03 LTS)aarch644.5.0 (2025-04-11) -- "How About a Twenty-Six" 4464
Click on any hostname to see more info about the system (e.g. compilers)      (*) as reported by 'uname -p', except on Windows and Mac OS X

Package 1535/2306HostnameOS / ArchINSTALLBUILDCHECKBUILD BIN
Pedixplorer 1.5.3  (landing page)
Louis Le Nezet
Snapshot Date: 2025-05-27 13:25 -0400 (Tue, 27 May 2025)
git_url: https://git.bioconductor.org/packages/Pedixplorer
git_branch: devel
git_last_commit: d77b51b
git_last_commit_date: 2025-05-05 05:52:30 -0400 (Mon, 05 May 2025)
nebbiolo2Linux (Ubuntu 24.04.1 LTS) / x86_64  OK    OK    OK  UNNEEDED, same version is already published
palomino8Windows Server 2022 Datacenter / x64  OK    OK    OK    OK  UNNEEDED, same version is already published
lconwaymacOS 12.7.1 Monterey / x86_64  OK    OK    OK    OK  UNNEEDED, same version is already published
kjohnson3macOS 13.7.1 Ventura / arm64  OK    OK    OK    OK  UNNEEDED, same version is already published
taishanLinux (openEuler 24.03 LTS) / aarch64  OK    OK    OK  


CHECK results for Pedixplorer on lconway

To the developers/maintainers of the Pedixplorer package:
- Allow up to 24 hours (and sometimes 48 hours) for your latest push to git@git.bioconductor.org:packages/Pedixplorer.git to reflect on this report. See Troubleshooting Build Report for more information.
- Use the following Renviron settings to reproduce errors and warnings.
- If 'R CMD check' started to fail recently on the Linux builder(s) over a missing dependency, add the missing dependency to 'Suggests:' in your DESCRIPTION file. See Renviron.bioc for more information.

raw results


Summary

Package: Pedixplorer
Version: 1.5.3
Command: /Library/Frameworks/R.framework/Resources/bin/R CMD check --install=check:Pedixplorer.install-out.txt --library=/Library/Frameworks/R.framework/Resources/library --no-vignettes --timings Pedixplorer_1.5.3.tar.gz
StartedAt: 2025-05-27 22:22:26 -0400 (Tue, 27 May 2025)
EndedAt: 2025-05-27 22:25:56 -0400 (Tue, 27 May 2025)
EllapsedTime: 210.3 seconds
RetCode: 0
Status:   OK  
CheckDir: Pedixplorer.Rcheck
Warnings: 0

Command output

##############################################################################
##############################################################################
###
### Running command:
###
###   /Library/Frameworks/R.framework/Resources/bin/R CMD check --install=check:Pedixplorer.install-out.txt --library=/Library/Frameworks/R.framework/Resources/library --no-vignettes --timings Pedixplorer_1.5.3.tar.gz
###
##############################################################################
##############################################################################


* using log directory ‘/Users/biocbuild/bbs-3.22-bioc/meat/Pedixplorer.Rcheck’
* using R version 4.5.0 Patched (2025-04-21 r88169)
* using platform: x86_64-apple-darwin20
* R was compiled by
    Apple clang version 14.0.0 (clang-1400.0.29.202)
    GNU Fortran (GCC) 14.2.0
* running under: macOS Monterey 12.7.6
* using session charset: UTF-8
* using option ‘--no-vignettes’
* checking for file ‘Pedixplorer/DESCRIPTION’ ... OK
* this is package ‘Pedixplorer’ version ‘1.5.3’
* package encoding: UTF-8
* checking package namespace information ... OK
* checking package dependencies ... INFO
Imports includes 24 non-default packages.
Importing from so many packages makes the package vulnerable to any of
them becoming unavailable.  Move as many as possible to Suggests and
use conditionally.
* checking if this is a source package ... OK
* checking if there is a namespace ... OK
* checking for hidden files and directories ... OK
* checking for portable file names ... OK
* checking for sufficient/correct file permissions ... OK
* checking whether package ‘Pedixplorer’ can be installed ... OK
* checking installed package size ... OK
* checking package directory ... OK
* checking ‘build’ directory ... OK
* checking DESCRIPTION meta-information ... OK
* checking top-level files ... OK
* checking for left-over files ... OK
* checking index information ... OK
* checking package subdirectories ... OK
* checking code files for non-ASCII characters ... OK
* checking R files for syntax errors ... OK
* checking whether the package can be loaded ... OK
* checking whether the package can be loaded with stated dependencies ... OK
* checking whether the package can be unloaded cleanly ... OK
* checking whether the namespace can be loaded with stated dependencies ... OK
* checking whether the namespace can be unloaded cleanly ... OK
* checking dependencies in R code ... OK
* checking S3 generic/method consistency ... OK
* checking replacement functions ... OK
* checking foreign function calls ... OK
* checking R code for possible problems ... OK
* checking Rd files ... OK
* checking Rd metadata ... OK
* checking Rd cross-references ... OK
* checking for missing documentation entries ... OK
* checking for code/documentation mismatches ... OK
* checking Rd \usage sections ... OK
* checking Rd contents ... OK
* checking for unstated dependencies in examples ... OK
* checking contents of ‘data’ directory ... OK
* checking data for non-ASCII characters ... OK
* checking data for ASCII and uncompressed saves ... OK
* checking files in ‘vignettes’ ... OK
* checking examples ... OK
Examples with CPU (user + system) or elapsed time > 5s
        user system elapsed
shrink 6.463  0.044   6.533
* checking for unstated dependencies in ‘tests’ ... OK
* checking tests ...
  Running ‘testthat.R’
 OK
* checking for unstated dependencies in vignettes ... OK
* checking package vignettes ... OK
* checking running R code from vignettes ... SKIPPED
* checking re-building of vignette outputs ... SKIPPED
* checking PDF version of manual ... OK
* DONE

Status: OK


Installation output

Pedixplorer.Rcheck/00install.out

##############################################################################
##############################################################################
###
### Running command:
###
###   /Library/Frameworks/R.framework/Resources/bin/R CMD INSTALL Pedixplorer
###
##############################################################################
##############################################################################


* installing to library ‘/Library/Frameworks/R.framework/Versions/4.5-x86_64/Resources/library’
* installing *source* package ‘Pedixplorer’ ...
** this is package ‘Pedixplorer’ version ‘1.5.3’
** using staged installation
** R
** data
** inst
** byte-compile and prepare package for lazy loading
** help
*** installing help indices
** building package indices
** installing vignettes
** testing if installed package can be loaded from temporary location
** testing if installed package can be loaded from final location
** testing if installed package keeps a record of temporary installation path
* DONE (Pedixplorer)

Tests output

Pedixplorer.Rcheck/tests/testthat.Rout


R version 4.5.0 Patched (2025-04-21 r88169) -- "How About a Twenty-Six"
Copyright (C) 2025 The R Foundation for Statistical Computing
Platform: x86_64-apple-darwin20

R is free software and comes with ABSOLUTELY NO WARRANTY.
You are welcome to redistribute it under certain conditions.
Type 'license()' or 'licence()' for distribution details.

R is a collaborative project with many contributors.
Type 'contributors()' for more information and
'citation()' on how to cite R or R packages in publications.

Type 'demo()' for some demos, 'help()' for on-line help, or
'help.start()' for an HTML browser interface to help.
Type 'q()' to quit R.

> # This file is part of the standard setup for testthat.
> # It is recommended that you do not modify it.
> #
> # Where should you do additional test configuration?
> # Learn more about the roles of various files in:
> # * https://r-pkgs.org/tests.html
> # * https://testthat.r-lib.org/reference/test_package.html#special-files
> 
> ## Beware when testing with shinytest2
> ## the package version used will be the one avalailable through
> ## `library(Pedixplorer)` as an independant R session is launched
> ## To do so you need to `unload("Pedixplorer")`, `build()`
> ## and `install("../Pedixplorer*.tar.gz")` the package before running the tests
> 
> library(Pedixplorer)
> library(shinytest2)
Loading required package: testthat
> library(R.devices)
R.devices v2.17.2 (2024-01-29 13:30:11 UTC) successfully loaded. See ?R.devices for help.
> library(rlang)

Attaching package: 'rlang'

The following objects are masked from 'package:testthat':

    is_false, is_null, is_true

> 
> ## Set up the environment
> Sys.setenv(
+     CHROMOTE_CHROME = Sys.getenv("CHROMOTE_CHROME"),
+     CHROMOTE_HEADLESS = Sys.getenv("CHROMOTE_HEADLESS"),
+     SKIP_SHINY_TESTS = Sys.getenv("SKIP_SHINY_TESTS"),
+     CHROMOTE_ARGS = Sys.getenv("CHROMOTE_ARGS"),
+     R_TESTS = ""
+ )
> 
> print(Sys.getenv("CHROMOTE_CHROME"))
[1] ""
> 
> ## Set up the environment
> options(
+     shiny.testmode = TRUE,
+     shinytest2.load_timeout = 120000,
+     shiny.fullstacktrace = TRUE,
+     shiny.port = 3929,
+     chromote.verbose = TRUE,
+     digits = 4, width = 150,
+     browser = Sys.getenv("CHROMOTE_CHROME"),
+     keep.source = TRUE,
+     pager = "internal",
+     papersize = "a4",
+     pkgType = "source",
+     showErrorCalls = TRUE,
+     timeout = 600,
+     unzip = "internal",
+     error = rlang::entrace,
+     rlang_backtrace_on_error_report = "full",
+     rlang_backtrace_on_warning_report = "full"
+ )
> 
> rlang::global_entrace()
> 
> 
> ## Clean up any open devices
> all_dev <- grDevices::dev.list()
> for (devi in all_dev) {
+     grDevices::dev.off(devi)
+ }
> 
> ## Set up the plotting device
> par_lst <- list(
+     "pin" = c(8, 8), "cex" = 1,
+     "fin" = c(6, 6), "bg" = "white", "family" = "HersheySans",
+     "usr" = c(0, 1, 0, 1), "xaxp" = c(0, 1, 5), "yaxp" = c(0, 1, 5),
+     "fig" = c(0, 1, 0, 1), "mar" = rep(1, 4), "xpd" = TRUE,
+     "lwd" = 1, "oma" = rep(1, 4)
+ )
> 
> op <- par(par_lst)
> 
> R.devices::devNew("pdf", width = 10, height = 10, par = par_lst)
> 
> ## Run the tests
> test_check("Pedixplorer")
Individuals:  1_113 won't be plotted
Individuals:  113 won't be plotted
Individuals:  1_113 won't be plotted
Multiple families present, only plotting family 1
Individuals:  1_113 won't be plotted
Multiple families present, only plotting family 1
Individuals:  1_113 won't be plotted
Multiple families present, only plotting family 1
Individuals:  1_113 won't be plotted
Multiple families present, only plotting family 1
Individuals:  1_113 won't be plotted
Multiple families present, only plotting family 1
Individuals:  1_113 won't be plotted
Individuals:  1_113 won't be plotted
Individuals:  5_26050, 5_26051, 5_68, 5_71, 5_72, 5_73, 5_74, 5_75, 5_76, 5_77, 5_78 won't be plotted
[ FAIL 0 | WARN 0 | SKIP 45 | PASS 342 ]

══ Skipped tests (45) ════════════════════════════════════════════════════════════════════════════════════════════════════════════════════════════════
• On CRAN (45): 'test-align.R:34:5', 'test-align.R:80:5', 'test-align.R:96:5', 'test-app.R:6:5', 'test-class.R:18:5', 'test-class.R:127:5',
  'test-class.R:170:5', 'test-class.R:215:5', 'test-fix_parents.R:5:5', 'test-fix_parents.R:20:5', 'test-fix_parents.R:61:5',
  'test-fix_parents.R:80:5', 'test-ibdmatrix.R:11:5', 'test-is_informative.R:69:5', 'test-kindepth.R:42:5', 'test-kinship.R:127:5',
  'test-modules.R:6:5', 'test-modules.R:22:5', 'test-modules.R:38:5', 'test-modules.R:48:5', 'test-modules.R:74:5', 'test-modules.R:109:5',
  'test-modules.R:139:5', 'test-modules.R:149:5', 'test-modules.R:189:5', 'test-norm_data.R:26:5', 'test-norm_data.R:143:5', 'test-parameters.R:2:5',
  'test-parameters.R:32:5', 'test-ped_to_legdf.R:20:5', 'test-plot.R:27:5', 'test-plot.R:64:5', 'test-plot.R:89:5', 'test-plot.R:113:5',
  'test-plot.R:119:5', 'test-plot.R:176:5', 'test-plot_fct.R:11:5', 'test-plot_fct.R:78:5', 'test-plot_fct.R:82:5', 'test-plot_fct.R:105:5',
  'test-shrink.R:20:5', 'test-shrink.R:130:5', 'test-twins.R:14:5', 'test-useful_inds.R:36:5', 'test-utils.R:76:5'

[ FAIL 0 | WARN 0 | SKIP 45 | PASS 342 ]
Deleting unused snapshots:
• align/sampleped-norel.svg
• kindepth/double-marriage.svg
• linux-4.4/app/ped_shiny-001-Ped_F2_K3_T_IAll_SF1.png
• linux-4.4/app/ped_shiny-002-Ped_F1_K2_I1_121-1_131_SF1.csv
• linux-4.4/modules/color_picker-001.json
• linux-4.4/modules/color_picker-001_.png
• linux-4.4/modules/color_picker-002.json
• linux-4.4/modules/color_picker-002_.png
• linux-4.4/modules/data_col_sel-001.json
• linux-4.4/modules/data_col_sel-001_.png
• linux-4.4/modules/data_col_sel-002.json
• linux-4.4/modules/data_col_sel-002_.png
• linux-4.4/modules/data_download-001-mtcars_data_file.csv
• linux-4.4/modules/data_import-001.json
• linux-4.4/modules/data_import-001_.png
• linux-4.4/modules/data_import-002.json
• linux-4.4/modules/data_import-002_.png
• linux-4.4/modules/health_sel-001.json
• linux-4.4/modules/health_sel-001_.png
• linux-4.4/modules/health_sel-002.json
• linux-4.4/modules/health_sel-002_.png
• linux-4.4/modules/health_sel-003.json
• linux-4.4/modules/health_sel-003_.png
• linux-4.4/modules/inf_sel-001.json
• linux-4.4/modules/inf_sel-001_.png
• linux-4.4/modules/inf_sel-002.json
• linux-4.4/modules/inf_sel-002_.png
• linux-4.4/modules/inf_sel-003.json
• linux-4.4/modules/inf_sel-003_.png
• linux-4.4/modules/ped_avaf_infos-001.json
• linux-4.4/modules/ped_avaf_infos-001_.png
• ped_to_legdf/legend-alone.svg
• ped_to_legdf/plot-with-legend.svg
• plot/ped-2-affections-ggplot.svg
• plot/ped-simple-affection-ggplot.svg
• plot/ped-with-all-annotations-ggplot.svg
• plot/ped1reorder.svg
• plot_fct/subregion.svg
• shrink/pedigree-shrink-2.svg
• shrink/shrinked-ped.svg
• windows-4.4/app/ped_shiny-001-Ped_F2_K3_T_IAll_SF1.png
• windows-4.4/app/ped_shiny-002-Ped_F1_K2_I1_121-1_131_SF1.csv
• windows-4.4/modules/color_picker-001.json
• windows-4.4/modules/color_picker-001_.png
• windows-4.4/modules/color_picker-002.json
• windows-4.4/modules/color_picker-002_.png
• windows-4.4/modules/data_col_sel-001.json
• windows-4.4/modules/data_col_sel-001_.png
• windows-4.4/modules/data_col_sel-002.json
• windows-4.4/modules/data_col_sel-002_.png
• windows-4.4/modules/data_download-001-mtcars_data_file.csv
• windows-4.4/modules/data_import-001.json
• windows-4.4/modules/data_import-001_.png
• windows-4.4/modules/data_import-002.json
• windows-4.4/modules/data_import-002_.png
• windows-4.4/modules/health_sel-001.json
• windows-4.4/modules/health_sel-001_.png
• windows-4.4/modules/health_sel-002.json
• windows-4.4/modules/health_sel-002_.png
• windows-4.4/modules/health_sel-003.json
• windows-4.4/modules/health_sel-003_.png
• windows-4.4/modules/inf_sel-001.json
• windows-4.4/modules/inf_sel-001_.png
• windows-4.4/modules/inf_sel-002.json
• windows-4.4/modules/inf_sel-002_.png
• windows-4.4/modules/inf_sel-003.json
• windows-4.4/modules/inf_sel-003_.png
• windows-4.4/modules/ped_avaf_infos-001.json
• windows-4.4/modules/ped_avaf_infos-001_.png
> 
> dev.off()
pdf 
  2 
> par(op)
> 
> proc.time()
   user  system elapsed 
 63.480   2.307  66.602 

Example timings

Pedixplorer.Rcheck/Pedixplorer-Ex.timings

nameusersystemelapsed
Hints-class0.0160.0040.021
Ped-class0.2920.0360.328
Pedigree-class0.6840.0260.714
Pedixplorer_package0.0000.0000.001
Rel-class0.0900.0020.093
Scales-class0.0050.0010.006
align0.9590.0130.992
alignped10.4390.0070.448
alignped20.4640.0080.473
alignped30.4520.0080.462
alignped40.4450.0070.454
ancestors0.0010.0010.001
anchor_to_factor0.0000.0000.001
app_plot_all0.0000.0010.000
app_resize_plot000
auto_hint0.2060.0030.211
best_hint0.7100.0120.729
bit_size0.1930.0040.200
char_to_date0.0010.0000.000
check_col_config0.0000.0010.001
check_columns0.0020.0010.004
circfun0.0000.0010.003
color_picker0.0000.0000.001
complete_twins0.0690.0020.071
create_text_column0.0090.0010.009
data_col_sel0.0000.0000.001
data_download000
data_import0.0000.0010.000
descendants0.1910.0030.195
distribute_by0.0010.0000.000
family_check0.2380.0030.243
family_infos_table0.2450.0040.249
family_sel0.0010.0000.001
fertility_to_factor0.0010.0000.001
find_avail_affected1.3590.0111.377
find_avail_noninform0.2460.0030.250
find_ray_intersections0.0010.0000.000
find_unavailable0.2470.0030.251
fix_parents0.0470.0020.049
generate_aff_inds0.0040.0000.005
generate_border0.0010.0000.002
generate_colors0.2280.0040.233
generate_fill0.0090.0010.009
get_dataframe0.0010.0000.000
get_famid0.0000.0000.001
get_families_table0.0360.0030.039
get_title0.0000.0000.001
health_sel0.0000.0000.001
ibd_matrix0.0150.0010.015
inf_sel0.0000.0000.001
is_disconnected0.0140.0010.015
is_founder0.0000.0000.001
is_informative0.4030.0060.411
is_parent0.1890.0030.193
kindepth0.2050.0040.211
kinship0.5350.0220.560
make_class_info0.0010.0000.001
make_famid0.2500.0060.256
make_reactive0.0080.0010.008
make_rownames0.0010.0000.001
min_dist_inf0.3010.0050.307
minnbreast2.5910.1092.717
miscarriage_to_factor0.0000.0000.001
na_to_length000
norm_ped0.0410.0020.044
norm_rel0.0220.0000.023
num_child0.3240.0070.331
parent_of0.1940.0100.206
paste0max0.0000.0000.001
ped_avaf_infos000
ped_server000
ped_shiny000
ped_to_legdf0.2080.0040.213
ped_to_plotdf0.3670.0050.374
ped_ui000
permute0.0010.0000.001
plink_to_pedigree0.1710.0020.174
plot_download000
plot_fromdf0.6340.0070.643
plot_legend_app000
plot_ped0.1830.0030.187
plot_pedigree0.2180.0030.221
polyfun0.0120.0000.013
polygons0.0110.0030.013
read_data000
rel_code_to_factor0.0020.0000.002
relped0.2420.0050.247
sampleped0.2060.0030.210
sex_to_factor0.0000.0000.001
shrink6.4630.0446.533
unrelated0.2200.0030.224
upd_famid0.4260.0110.438
useful_inds0.2290.0050.235
validate_and_rename_df0.0020.0010.002
vect_to_binary0.0010.0000.001