| Back to Build/check report for BioC 3.23: simplified long |
|
This page was generated on 2025-11-06 11:32 -0500 (Thu, 06 Nov 2025).
| Hostname | OS | Arch (*) | R version | Installed pkgs |
|---|---|---|---|---|
| nebbiolo1 | Linux (Ubuntu 24.04.3 LTS) | x86_64 | R Under development (unstable) (2025-10-20 r88955) -- "Unsuffered Consequences" | 4818 |
| Click on any hostname to see more info about the system (e.g. compilers) (*) as reported by 'uname -p', except on Windows and Mac OS X | ||||
| Package 1472/2323 | Hostname | OS / Arch | INSTALL | BUILD | CHECK | BUILD BIN | ||||||||
| OmaDB 2.27.0 (landing page) Klara Kaleb
| nebbiolo1 | Linux (Ubuntu 24.04.3 LTS) / x86_64 | OK | OK | OK | |||||||||
|
To the developers/maintainers of the OmaDB package: - Allow up to 24 hours (and sometimes 48 hours) for your latest push to git@git.bioconductor.org:packages/OmaDB.git to reflect on this report. See Troubleshooting Build Report for more information. - Use the following Renviron settings to reproduce errors and warnings. - If 'R CMD check' started to fail recently on the Linux builder(s) over a missing dependency, add the missing dependency to 'Suggests:' in your DESCRIPTION file. See Renviron.bioc for more information. |
| Package: OmaDB |
| Version: 2.27.0 |
| Command: /home/biocbuild/bbs-3.23-bioc/R/bin/R CMD check --install=check:OmaDB.install-out.txt --library=/home/biocbuild/bbs-3.23-bioc/R/site-library --timings OmaDB_2.27.0.tar.gz |
| StartedAt: 2025-11-06 02:06:54 -0500 (Thu, 06 Nov 2025) |
| EndedAt: 2025-11-06 02:14:05 -0500 (Thu, 06 Nov 2025) |
| EllapsedTime: 430.6 seconds |
| RetCode: 0 |
| Status: OK |
| CheckDir: OmaDB.Rcheck |
| Warnings: 0 |
##############################################################################
##############################################################################
###
### Running command:
###
### /home/biocbuild/bbs-3.23-bioc/R/bin/R CMD check --install=check:OmaDB.install-out.txt --library=/home/biocbuild/bbs-3.23-bioc/R/site-library --timings OmaDB_2.27.0.tar.gz
###
##############################################################################
##############################################################################
* using log directory ‘/home/biocbuild/bbs-3.23-bioc/meat/OmaDB.Rcheck’
* using R Under development (unstable) (2025-10-20 r88955)
* using platform: x86_64-pc-linux-gnu
* R was compiled by
gcc (Ubuntu 13.3.0-6ubuntu2~24.04) 13.3.0
GNU Fortran (Ubuntu 13.3.0-6ubuntu2~24.04) 13.3.0
* running under: Ubuntu 24.04.3 LTS
* using session charset: UTF-8
* checking for file ‘OmaDB/DESCRIPTION’ ... OK
* this is package ‘OmaDB’ version ‘2.27.0’
* package encoding: UTF-8
* checking package namespace information ... OK
* checking package dependencies ... OK
* checking if this is a source package ... OK
* checking if there is a namespace ... OK
* checking for hidden files and directories ... OK
* checking for portable file names ... OK
* checking for sufficient/correct file permissions ... OK
* checking whether package ‘OmaDB’ can be installed ... OK
* checking installed package size ... OK
* checking package directory ... OK
* checking ‘build’ directory ... OK
* checking DESCRIPTION meta-information ... OK
* checking top-level files ... OK
* checking for left-over files ... OK
* checking index information ... OK
* checking package subdirectories ... OK
* checking code files for non-ASCII characters ... OK
* checking R files for syntax errors ... OK
* checking whether the package can be loaded ... OK
* checking whether the package can be loaded with stated dependencies ... OK
* checking whether the package can be unloaded cleanly ... OK
* checking whether the namespace can be loaded with stated dependencies ... OK
* checking whether the namespace can be unloaded cleanly ... OK
* checking loading without being on the library search path ... OK
* checking dependencies in R code ... OK
* checking S3 generic/method consistency ... OK
* checking replacement functions ... OK
* checking foreign function calls ... OK
* checking R code for possible problems ... OK
* checking Rd files ... OK
* checking Rd metadata ... OK
* checking Rd cross-references ... OK
* checking for missing documentation entries ... OK
* checking for code/documentation mismatches ... OK
* checking Rd \usage sections ... NOTE
Documented arguments not in \usage in Rd file 'getGenomeAlignment-deprecated.Rd':
‘genome_id1’ ‘genome_id2’ ‘per_page’
Functions with \usage entries need to have the appropriate \alias
entries, and all their arguments documented.
The \usage entries must correspond to syntactically valid R code.
See chapter ‘Writing R documentation files’ in the ‘Writing R
Extensions’ manual.
* checking Rd contents ... OK
* checking for unstated dependencies in examples ... OK
* checking contents of ‘data’ directory ... OK
* checking data for non-ASCII characters ... OK
* checking LazyData ... OK
* checking data for ASCII and uncompressed saves ... OK
* checking files in ‘vignettes’ ... OK
* checking examples ... OK
Examples with CPU (user + system) or elapsed time > 5s
user system elapsed
getGenome 148.273 2.786 247.051
getGenomePairs 14.071 1.119 20.640
getOMAGroup 1.756 0.330 10.133
mapSequence 1.005 0.166 6.982
* checking for unstated dependencies in ‘tests’ ... OK
* checking tests ...
Running ‘testthat.R’
OK
* checking for unstated dependencies in vignettes ... OK
* checking package vignettes ... OK
* checking re-building of vignette outputs ... OK
* checking PDF version of manual ... OK
* DONE
Status: 1 NOTE
See
‘/home/biocbuild/bbs-3.23-bioc/meat/OmaDB.Rcheck/00check.log’
for details.
OmaDB.Rcheck/00install.out
############################################################################## ############################################################################## ### ### Running command: ### ### /home/biocbuild/bbs-3.23-bioc/R/bin/R CMD INSTALL OmaDB ### ############################################################################## ############################################################################## * installing to library ‘/home/biocbuild/bbs-3.23-bioc/R/site-library’ * installing *source* package ‘OmaDB’ ... ** this is package ‘OmaDB’ version ‘2.27.0’ ** using staged installation ** R ** data *** moving datasets to lazyload DB ** inst ** byte-compile and prepare package for lazy loading ** help *** installing help indices ** building package indices ** installing vignettes ** testing if installed package can be loaded from temporary location ** testing if installed package can be loaded from final location ** testing if installed package keeps a record of temporary installation path * DONE (OmaDB)
OmaDB.Rcheck/tests/testthat.Rout
R Under development (unstable) (2025-10-20 r88955) -- "Unsuffered Consequences"
Copyright (C) 2025 The R Foundation for Statistical Computing
Platform: x86_64-pc-linux-gnu
R is free software and comes with ABSOLUTELY NO WARRANTY.
You are welcome to redistribute it under certain conditions.
Type 'license()' or 'licence()' for distribution details.
R is a collaborative project with many contributors.
Type 'contributors()' for more information and
'citation()' on how to cite R or R packages in publications.
Type 'demo()' for some demos, 'help()' for on-line help, or
'help.start()' for an HTML browser interface to help.
Type 'q()' to quit R.
> library(testthat)
>
> test_that("Testing the URL validity", {
+ expect_equal(httr::status_code(httr::GET("https://omabrowser.org/api")), 200 ) #checking that the server is live and accesible
+
+ })
Test passed 🥇
>
>
>
>
> proc.time()
user system elapsed
0.927 0.068 3.388
OmaDB.Rcheck/OmaDB-Ex.timings
| name | user | system | elapsed | |
| annotateSequence | 0.645 | 0.080 | 2.083 | |
| formatTopGO | 0.100 | 0.014 | 1.580 | |
| getAttribute | 0.011 | 0.004 | 0.256 | |
| getGenome | 148.273 | 2.786 | 247.051 | |
| getGenomePairs | 14.071 | 1.119 | 20.640 | |
| getHOG | 0.100 | 0.014 | 0.668 | |
| getLocus | 0.059 | 0.011 | 0.224 | |
| getOMAGroup | 1.756 | 0.330 | 10.133 | |
| getObjectAttributes | 0.014 | 0.002 | 0.134 | |
| getProtein | 0.329 | 0.139 | 1.697 | |
| getTaxonomy | 0.061 | 0.003 | 0.709 | |
| getTopGO | 0.870 | 0.081 | 1.581 | |
| getTree | 0.012 | 0.001 | 0.170 | |
| getVersion | 0.011 | 0.000 | 0.097 | |
| mapSequence | 1.005 | 0.166 | 6.982 | |
| resolveURL | 0.022 | 0.029 | 0.621 | |
| searchProtein | 0.012 | 0.005 | 0.372 | |