Back to Multiple platform build/check report for BioC 3.22: simplified long |
|
This page was generated on 2025-10-15 12:07 -0400 (Wed, 15 Oct 2025).
Hostname | OS | Arch (*) | R version | Installed pkgs |
---|---|---|---|---|
nebbiolo2 | Linux (Ubuntu 24.04.3 LTS) | x86_64 | 4.5.1 Patched (2025-08-23 r88802) -- "Great Square Root" | 4866 |
lconway | macOS 12.7.6 Monterey | x86_64 | 4.5.1 Patched (2025-09-10 r88807) -- "Great Square Root" | 4653 |
kjohnson3 | macOS 13.7.7 Ventura | arm64 | 4.5.1 Patched (2025-09-10 r88807) -- "Great Square Root" | 4598 |
taishan | Linux (openEuler 24.03 LTS) | aarch64 | 4.5.0 (2025-04-11) -- "How About a Twenty-Six" | 4610 |
Click on any hostname to see more info about the system (e.g. compilers) (*) as reported by 'uname -p', except on Windows and Mac OS X |
Package 1522/2346 | Hostname | OS / Arch | INSTALL | BUILD | CHECK | BUILD BIN | ||||||||
OUTRIDER 1.27.2 (landing page) Christian Mertes
| nebbiolo2 | Linux (Ubuntu 24.04.3 LTS) / x86_64 | OK | OK | OK | ![]() | ||||||||
lconway | macOS 12.7.6 Monterey / x86_64 | OK | OK | OK | OK | ![]() | ||||||||
kjohnson3 | macOS 13.7.7 Ventura / arm64 | OK | OK | OK | OK | ![]() | ||||||||
taishan | Linux (openEuler 24.03 LTS) / aarch64 | OK | OK | OK | ||||||||||
To the developers/maintainers of the OUTRIDER package: - Allow up to 24 hours (and sometimes 48 hours) for your latest push to git@git.bioconductor.org:packages/OUTRIDER.git to reflect on this report. See Troubleshooting Build Report for more information. - Use the following Renviron settings to reproduce errors and warnings. - If 'R CMD check' started to fail recently on the Linux builder(s) over a missing dependency, add the missing dependency to 'Suggests:' in your DESCRIPTION file. See Renviron.bioc for more information. - See Martin Grigorov's blog post for how to debug Linux ARM64 related issues on a x86_64 host. |
Package: OUTRIDER |
Version: 1.27.2 |
Command: /home/biocbuild/R/R/bin/R CMD check --install=check:OUTRIDER.install-out.txt --library=/home/biocbuild/R/R/site-library --no-vignettes --timings OUTRIDER_1.27.2.tar.gz |
StartedAt: 2025-10-14 11:08:48 -0000 (Tue, 14 Oct 2025) |
EndedAt: 2025-10-14 11:20:12 -0000 (Tue, 14 Oct 2025) |
EllapsedTime: 684.6 seconds |
RetCode: 0 |
Status: OK |
CheckDir: OUTRIDER.Rcheck |
Warnings: 0 |
############################################################################## ############################################################################## ### ### Running command: ### ### /home/biocbuild/R/R/bin/R CMD check --install=check:OUTRIDER.install-out.txt --library=/home/biocbuild/R/R/site-library --no-vignettes --timings OUTRIDER_1.27.2.tar.gz ### ############################################################################## ############################################################################## * using log directory ‘/home/biocbuild/bbs-3.22-bioc/meat/OUTRIDER.Rcheck’ * using R version 4.5.0 (2025-04-11) * using platform: aarch64-unknown-linux-gnu * R was compiled by aarch64-unknown-linux-gnu-gcc (GCC) 14.2.0 GNU Fortran (GCC) 14.2.0 * running under: openEuler 24.03 (LTS) * using session charset: UTF-8 * using option ‘--no-vignettes’ * checking for file ‘OUTRIDER/DESCRIPTION’ ... OK * checking extension type ... Package * this is package ‘OUTRIDER’ version ‘1.27.2’ * package encoding: UTF-8 * checking package namespace information ... OK * checking package dependencies ... INFO Imports includes 22 non-default packages. Importing from so many packages makes the package vulnerable to any of them becoming unavailable. Move as many as possible to Suggests and use conditionally. * checking if this is a source package ... OK * checking if there is a namespace ... OK * checking for hidden files and directories ... OK * checking for portable file names ... OK * checking for sufficient/correct file permissions ... OK * checking whether package ‘OUTRIDER’ can be installed ... OK * used C++ compiler: ‘aarch64-unknown-linux-gnu-g++ (GCC) 14.2.0’ * checking installed package size ... OK * checking package directory ... OK * checking ‘build’ directory ... OK * checking DESCRIPTION meta-information ... OK * checking top-level files ... OK * checking for left-over files ... OK * checking index information ... OK * checking package subdirectories ... OK * checking code files for non-ASCII characters ... OK * checking R files for syntax errors ... OK * checking whether the package can be loaded ... OK * checking whether the package can be loaded with stated dependencies ... OK * checking whether the package can be unloaded cleanly ... OK * checking whether the namespace can be loaded with stated dependencies ... OK * checking whether the namespace can be unloaded cleanly ... OK * checking loading without being on the library search path ... OK * checking dependencies in R code ... NOTE Unexported object imported by a ':::' call: 'ggbio:::.buildFacetsFromArgs' See the note in ?`:::` about the use of this operator. There are ::: calls to the package's namespace in its code. A package almost never needs to use ::: for its own objects: 'checkOutriderDataSet' * checking S3 generic/method consistency ... OK * checking replacement functions ... OK * checking foreign function calls ... OK * checking R code for possible problems ... NOTE estimateBestQ: no visible binding for global variable ‘oht’ plotEncDimSearch.OUTRIDER: no visible binding for global variable ‘oht’ plotEncDimSearch.OUTRIDER: no visible binding for global variable ‘singular_values’ plotEncDimSearch,OutriderDataSet: no visible binding for global variable ‘oht’ plotEncDimSearch,OutriderDataSet: no visible binding for global variable ‘singular_values’ Undefined global functions or variables: oht singular_values * checking Rd files ... OK * checking Rd metadata ... OK * checking Rd cross-references ... NOTE Non-topic package-anchored link(s) in Rd file 'getter_setter_functions.Rd': ‘[DESeq2]{estimateDispersions}’ Non-topic package-anchored link(s) in Rd file 'sizeFactors.Rd': ‘[DESeq2]{estimateSizeFactors}’ See section 'Cross-references' in the 'Writing R Extensions' manual. * checking for missing documentation entries ... OK * checking for code/documentation mismatches ... OK * checking Rd \usage sections ... OK * checking Rd contents ... OK * checking for unstated dependencies in examples ... OK * checking line endings in C/C++/Fortran sources/headers ... OK * checking line endings in Makefiles ... OK * checking compilation flags in Makevars ... OK * checking for GNU extensions in Makefiles ... OK * checking for portable use of $(BLAS_LIBS) and $(LAPACK_LIBS) ... OK * checking use of PKG_*FLAGS in Makefiles ... OK * checking compiled code ... NOTE Note: information on .o files is not available * checking files in ‘vignettes’ ... OK * checking examples ... OK Examples with CPU (user + system) or elapsed time > 5s user system elapsed plotFunctions 25.854 0.453 26.475 estimateBestQ 17.711 0.649 18.416 OUTRIDER 13.913 4.089 16.204 computePvalues 3.133 3.153 3.829 results 5.069 0.255 5.340 * checking for unstated dependencies in ‘tests’ ... OK * checking tests ... Running ‘testthat.R’ OK * checking for unstated dependencies in vignettes ... OK * checking package vignettes ... OK * checking running R code from vignettes ... SKIPPED * checking re-building of vignette outputs ... SKIPPED * checking PDF version of manual ... OK * DONE Status: 4 NOTEs See ‘/home/biocbuild/bbs-3.22-bioc/meat/OUTRIDER.Rcheck/00check.log’ for details.
OUTRIDER.Rcheck/00install.out
############################################################################## ############################################################################## ### ### Running command: ### ### /home/biocbuild/R/R/bin/R CMD INSTALL OUTRIDER ### ############################################################################## ############################################################################## * installing to library ‘/home/biocbuild/R/R-4.5.0/site-library’ * installing *source* package ‘OUTRIDER’ ... ** this is package ‘OUTRIDER’ version ‘1.27.2’ ** using staged installation ** libs using C++ compiler: ‘aarch64-unknown-linux-gnu-g++ (GCC) 14.2.0’ /opt/ohpc/pub/compiler/gcc/14.2.0/bin/aarch64-unknown-linux-gnu-g++ -std=gnu++17 -I"/home/biocbuild/R/R-4.5.0/include" -DNDEBUG -I'/home/biocbuild/R/R-4.5.0/site-library/Rcpp/include' -I'/home/biocbuild/R/R-4.5.0/site-library/RcppArmadillo/include' -I/usr/local/include -fopenmp -DARMA_DONT_USE_OPENMP -fPIC -g -O2 -Wall -Werror=format-security -c RcppExports.cpp -o RcppExports.o /opt/ohpc/pub/compiler/gcc/14.2.0/bin/aarch64-unknown-linux-gnu-g++ -std=gnu++17 -I"/home/biocbuild/R/R-4.5.0/include" -DNDEBUG -I'/home/biocbuild/R/R-4.5.0/site-library/Rcpp/include' -I'/home/biocbuild/R/R-4.5.0/site-library/RcppArmadillo/include' -I/usr/local/include -fopenmp -DARMA_DONT_USE_OPENMP -fPIC -g -O2 -Wall -Werror=format-security -c loss_n_gradient_functions.cpp -o loss_n_gradient_functions.o /opt/ohpc/pub/compiler/gcc/14.2.0/bin/aarch64-unknown-linux-gnu-g++ -std=gnu++17 -shared -L/home/biocbuild/R/R-4.5.0/lib -L/usr/local/lib -o OUTRIDER.so RcppExports.o loss_n_gradient_functions.o -fopenmp -lopenblas -lgfortran -lm -L/home/biocbuild/R/R-4.5.0/lib -lR installing to /home/biocbuild/R/R-4.5.0/site-library/00LOCK-OUTRIDER/00new/OUTRIDER/libs ** R ** inst ** byte-compile and prepare package for lazy loading ** help *** installing help indices ** building package indices ** installing vignettes ** testing if installed package can be loaded from temporary location ** checking absolute paths in shared objects and dynamic libraries ** testing if installed package can be loaded from final location ** testing if installed package keeps a record of temporary installation path * DONE (OUTRIDER)
OUTRIDER.Rcheck/tests/testthat.Rout
R version 4.5.0 (2025-04-11) -- "How About a Twenty-Six" Copyright (C) 2025 The R Foundation for Statistical Computing Platform: aarch64-unknown-linux-gnu R is free software and comes with ABSOLUTELY NO WARRANTY. You are welcome to redistribute it under certain conditions. Type 'license()' or 'licence()' for distribution details. R is a collaborative project with many contributors. Type 'contributors()' for more information and 'citation()' on how to cite R or R packages in publications. Type 'demo()' for some demos, 'help()' for on-line help, or 'help.start()' for an HTML browser interface to help. Type 'q()' to quit R. > library(testthat) > library(OUTRIDER) Loading required package: BiocParallel Loading required package: GenomicFeatures Loading required package: BiocGenerics Loading required package: generics Attaching package: 'generics' The following objects are masked from 'package:base': as.difftime, as.factor, as.ordered, intersect, is.element, setdiff, setequal, union Attaching package: 'BiocGenerics' The following objects are masked from 'package:stats': IQR, mad, sd, var, xtabs The following objects are masked from 'package:base': Filter, Find, Map, Position, Reduce, anyDuplicated, aperm, append, as.data.frame, basename, cbind, colnames, dirname, do.call, duplicated, eval, evalq, get, grep, grepl, is.unsorted, lapply, mapply, match, mget, order, paste, pmax, pmax.int, pmin, pmin.int, rank, rbind, rownames, sapply, saveRDS, table, tapply, unique, unsplit, which.max, which.min Loading required package: S4Vectors Loading required package: stats4 Attaching package: 'S4Vectors' The following object is masked from 'package:utils': findMatches The following objects are masked from 'package:base': I, expand.grid, unname Loading required package: IRanges Loading required package: Seqinfo Loading required package: GenomicRanges Loading required package: AnnotationDbi Loading required package: Biobase Welcome to Bioconductor Vignettes contain introductory material; view with 'browseVignettes()'. To cite Bioconductor, see 'citation("Biobase")', and for packages 'citation("pkgname")'. Loading required package: SummarizedExperiment Loading required package: MatrixGenerics Loading required package: matrixStats Attaching package: 'matrixStats' The following objects are masked from 'package:Biobase': anyMissing, rowMedians Attaching package: 'MatrixGenerics' The following objects are masked from 'package:matrixStats': colAlls, colAnyNAs, colAnys, colAvgsPerRowSet, colCollapse, colCounts, colCummaxs, colCummins, colCumprods, colCumsums, colDiffs, colIQRDiffs, colIQRs, colLogSumExps, colMadDiffs, colMads, colMaxs, colMeans2, colMedians, colMins, colOrderStats, colProds, colQuantiles, colRanges, colRanks, colSdDiffs, colSds, colSums2, colTabulates, colVarDiffs, colVars, colWeightedMads, colWeightedMeans, colWeightedMedians, colWeightedSds, colWeightedVars, rowAlls, rowAnyNAs, rowAnys, rowAvgsPerColSet, rowCollapse, rowCounts, rowCummaxs, rowCummins, rowCumprods, rowCumsums, rowDiffs, rowIQRDiffs, rowIQRs, rowLogSumExps, rowMadDiffs, rowMads, rowMaxs, rowMeans2, rowMedians, rowMins, rowOrderStats, rowProds, rowQuantiles, rowRanges, rowRanks, rowSdDiffs, rowSds, rowSums2, rowTabulates, rowVarDiffs, rowVars, rowWeightedMads, rowWeightedMeans, rowWeightedMedians, rowWeightedSds, rowWeightedVars The following object is masked from 'package:Biobase': rowMedians Loading required package: data.table Attaching package: 'data.table' The following object is masked from 'package:SummarizedExperiment': shift The following object is masked from 'package:GenomicRanges': shift The following object is masked from 'package:IRanges': shift The following objects are masked from 'package:S4Vectors': first, second > > register(SerialParam()) > > test_check("OUTRIDER") [1] "Tue Oct 14 11:18:28 2025: Initial PCA loss: 6.23315875513452" [1] "Tue Oct 14 11:18:30 2025: Iteration: 1 loss: 4.37167208933686" [1] "Tue Oct 14 11:18:31 2025: Iteration: 2 loss: 4.28826748328899" [1] "Tue Oct 14 11:18:32 2025: Iteration: 3 loss: 4.26112044534117" [1] "Tue Oct 14 11:18:33 2025: Iteration: 4 loss: 4.25034717432466" [1] "Tue Oct 14 11:18:33 2025: Iteration: 5 loss: 4.24836945889595" [1] "Tue Oct 14 11:18:34 2025: Iteration: 6 loss: 4.24817919897669" Time difference of 5.797166 secs [1] "Tue Oct 14 11:18:34 2025: 6 Final nb-AE loss: 4.24817919897669" [1] "Tue Oct 14 11:18:36 2025: Initial PCA loss: 6.23315875513452" [1] "Tue Oct 14 11:18:38 2025: Iteration: 1 loss: 4.37167208933686" [1] "Tue Oct 14 11:18:39 2025: Iteration: 2 loss: 4.28826748328899" [1] "Tue Oct 14 11:18:40 2025: Iteration: 3 loss: 4.26112044534117" [1] "Tue Oct 14 11:18:41 2025: Iteration: 4 loss: 4.25034717432466" [1] "Tue Oct 14 11:18:42 2025: Iteration: 5 loss: 4.24836945889595" [1] "Tue Oct 14 11:18:43 2025: Iteration: 6 loss: 4.24817919897669" Time difference of 5.739646 secs [1] "Tue Oct 14 11:18:43 2025: 6 Final nb-AE loss: 4.24817919897669" class: OutriderDataSet class: RangedSummarizedExperiment dim: 100 50 metadata(1): version assays(1): counts rownames(100): ENSG00000223972.4 ENSG00000227232.4 ... ENSG00000107404.13 ENSG00000162576.12 rowData names(0): colnames(50): GTEX.UPK5.0426.SM.3GAEK GTEX.WFG7.2026.SM.3GIL7 ... GTEX.11UD2.2526.SM.5CVNU GTEX.13O61.1426.SM.5KM3D colData names(1): sampleID [1] "Tue Oct 14 11:18:51 2025: Initial PCA loss: 4.42995032959144" [1] "Tue Oct 14 11:18:53 2025: Iteration: 1 loss: 4.07777118539282" [1] "Tue Oct 14 11:18:54 2025: Iteration: 2 loss: 4.06110017295929" Time difference of 1.9291 secs [1] "Tue Oct 14 11:18:54 2025: 2 Final nb-AE loss: 4.06110017295929" [1] "Evaluation loss: 0.114941427745076 for q=3" [1] "Tue Oct 14 11:18:55 2025: Initial PCA loss: 4.40372355170754" [1] "Tue Oct 14 11:18:57 2025: Iteration: 1 loss: 4.01481702007715" [1] "Tue Oct 14 11:18:58 2025: Iteration: 2 loss: 4.00462697234462" Time difference of 1.992061 secs [1] "Tue Oct 14 11:18:58 2025: 2 Final nb-AE loss: 4.00462697234462" [1] "Evaluation loss: 0.322759612874587 for q=4" [1] "Tue Oct 14 11:18:59 2025: Initial PCA loss: 4.38362258719597" [1] "Tue Oct 14 11:19:01 2025: Iteration: 1 loss: 3.94297552818498" [1] "Tue Oct 14 11:19:02 2025: Iteration: 2 loss: 3.92654830555655" Time difference of 2.010143 secs [1] "Tue Oct 14 11:19:02 2025: 2 Final nb-AE loss: 3.92654830555655" [1] "Evaluation loss: 0.0348973823293959 for q=5" Optimal encoding dimension: 4 Optimal encoding dimension: 50 Optimal encoding dimension: 20 Optimal encoding dimension: 2 Optimal encoding dimension: 4 [1] "Tue Oct 14 11:19:37 2025: Initial PCA loss: 7.16457134714849" [1] "Tue Oct 14 11:19:39 2025: Iteration: 1 loss: 6.82914904822917" [1] "Tue Oct 14 11:19:40 2025: Iteration: 2 loss: 6.82749374530494" Time difference of 2.303129 secs [1] "Tue Oct 14 11:19:40 2025: 2 Final nb-AE loss: 6.82749374530494" [ FAIL 0 | WARN 12 | SKIP 0 | PASS 131 ] [ FAIL 0 | WARN 12 | SKIP 0 | PASS 131 ] > > proc.time() user system elapsed 121.053 2.265 123.713
OUTRIDER.Rcheck/OUTRIDER-Ex.timings
name | user | system | elapsed | |
OUTRIDER | 13.913 | 4.089 | 16.204 | |
OutriderDataSet-class | 1.234 | 0.155 | 1.394 | |
aberrant | 2.858 | 1.669 | 3.026 | |
computeGeneLength | 2.150 | 0.406 | 2.567 | |
computeLatentSpace | 1.160 | 0.092 | 1.256 | |
computePvalues | 3.133 | 3.153 | 3.829 | |
computeZscores | 1.367 | 0.259 | 1.632 | |
controlForConfounders | 1.742 | 0.219 | 1.968 | |
counts | 0.855 | 0.039 | 0.897 | |
estimateBestQ | 17.711 | 0.649 | 18.416 | |
filterExpression | 2.173 | 0.063 | 2.245 | |
fit | 1.344 | 0.036 | 1.384 | |
fpkm | 1.131 | 0.012 | 1.147 | |
getter_setter_functions | 4.680 | 0.084 | 4.778 | |
makeExampleOutriderDataSet | 1.657 | 0.012 | 1.673 | |
normalizationFactors | 1.088 | 0.000 | 1.092 | |
plotFunctions | 25.854 | 0.453 | 26.475 | |
results | 5.069 | 0.255 | 5.340 | |
sampleExclusionMask | 0.651 | 0.004 | 0.658 | |
sizeFactors | 0.892 | 0.000 | 0.894 | |