Back to Multiple platform build/check report for BioC 3.21:   simplified   long
ABCDEFGHIJKLMN[O]PQRSTUVWXYZ

This page was generated on 2025-02-03 12:38 -0500 (Mon, 03 Feb 2025).

HostnameOSArch (*)R versionInstalled pkgs
nebbiolo1Linux (Ubuntu 24.04.1 LTS)x86_64R Under development (unstable) (2025-01-20 r87609) -- "Unsuffered Consequences" 4704
palomino7Windows Server 2022 Datacenterx64R Under development (unstable) (2025-01-21 r87610 ucrt) -- "Unsuffered Consequences" 4467
lconwaymacOS 12.7.1 Montereyx86_64R Under development (unstable) (2025-01-22 r87618) -- "Unsuffered Consequences" 4478
Click on any hostname to see more info about the system (e.g. compilers)      (*) as reported by 'uname -p', except on Windows and Mac OS X

Package 1441/2289HostnameOS / ArchINSTALLBUILDCHECKBUILD BIN
OLIN 1.85.0  (landing page)
Matthias Futschik
Snapshot Date: 2025-02-02 13:40 -0500 (Sun, 02 Feb 2025)
git_url: https://git.bioconductor.org/packages/OLIN
git_branch: devel
git_last_commit: f6d5168
git_last_commit_date: 2024-10-29 09:23:16 -0500 (Tue, 29 Oct 2024)
nebbiolo1Linux (Ubuntu 24.04.1 LTS) / x86_64  OK    OK    OK  UNNEEDED, same version is already published
palomino7Windows Server 2022 Datacenter / x64  OK    OK    OK    OK  UNNEEDED, same version is already published
lconwaymacOS 12.7.1 Monterey / x86_64  OK    OK    OK    OK  UNNEEDED, same version is already published


BUILD BIN results for OLIN on palomino7

To the developers/maintainers of the OLIN package:
- Allow up to 24 hours (and sometimes 48 hours) for your latest push to git@git.bioconductor.org:packages/OLIN.git to reflect on this report. See Troubleshooting Build Report for more information.
- Use the following Renviron settings to reproduce errors and warnings.
- If 'R CMD check' started to fail recently on the Linux builder(s) over a missing dependency, add the missing dependency to 'Suggests:' in your DESCRIPTION file. See Renviron.bioc for more information.

raw results


Summary

Package: OLIN
Version: 1.85.0
Command: rm -rf OLIN.buildbin-libdir && mkdir OLIN.buildbin-libdir && E:\biocbuild\bbs-3.21-bioc\R\bin\R.exe CMD INSTALL --build --library=OLIN.buildbin-libdir OLIN_1.85.0.tar.gz
StartedAt: 2025-02-03 07:52:00 -0500 (Mon, 03 Feb 2025)
EndedAt: 2025-02-03 07:52:12 -0500 (Mon, 03 Feb 2025)
EllapsedTime: 11.6 seconds
RetCode: 0
Status:   OK  
PackageFile: OLIN_1.85.0.zip
PackageFileSize: 2.595 MiB

Command output

##############################################################################
##############################################################################
###
### Running command:
###
###   rm -rf OLIN.buildbin-libdir && mkdir OLIN.buildbin-libdir && E:\biocbuild\bbs-3.21-bioc\R\bin\R.exe CMD INSTALL --build --library=OLIN.buildbin-libdir OLIN_1.85.0.tar.gz
###
##############################################################################
##############################################################################


* installing *source* package 'OLIN' ...
** this is package 'OLIN' version '1.85.0'
** using staged installation
** R
** data
** inst
** byte-compile and prepare package for lazy loading
** help
*** installing help indices
** building package indices
** installing vignettes
** testing if installed package can be loaded from temporary location
** testing if installed package can be loaded from final location
** testing if installed package keeps a record of temporary installation path
* MD5 sums
packaged installation of 'OLIN' as OLIN_1.85.0.zip
* DONE (OLIN)