| Back to Multiple platform build/check report for BioC 3.22: simplified long |
|
This page was generated on 2025-08-15 12:07 -0400 (Fri, 15 Aug 2025).
| Hostname | OS | Arch (*) | R version | Installed pkgs |
|---|---|---|---|---|
| nebbiolo2 | Linux (Ubuntu 24.04.3 LTS) | x86_64 | 4.5.1 (2025-06-13) -- "Great Square Root" | 4818 |
| palomino8 | Windows Server 2022 Datacenter | x64 | 4.5.1 (2025-06-13 ucrt) -- "Great Square Root" | 4554 |
| lconway | macOS 12.7.1 Monterey | x86_64 | 4.5.1 (2025-06-13) -- "Great Square Root" | 4595 |
| kjohnson3 | macOS 13.7.7 Ventura | arm64 | 4.5.1 Patched (2025-06-14 r88325) -- "Great Square Root" | 4537 |
| taishan | Linux (openEuler 24.03 LTS) | aarch64 | 4.5.0 (2025-04-11) -- "How About a Twenty-Six" | 4535 |
| Click on any hostname to see more info about the system (e.g. compilers) (*) as reported by 'uname -p', except on Windows and Mac OS X | ||||
| Package 1411/2317 | Hostname | OS / Arch | INSTALL | BUILD | CHECK | BUILD BIN | ||||||||
| NanoMethViz 3.5.5 (landing page) Shian Su
| nebbiolo2 | Linux (Ubuntu 24.04.3 LTS) / x86_64 | OK | OK | OK | |||||||||
| palomino8 | Windows Server 2022 Datacenter / x64 | OK | OK | OK | OK | |||||||||
| lconway | macOS 12.7.1 Monterey / x86_64 | OK | OK | OK | OK | |||||||||
| kjohnson3 | macOS 13.7.7 Ventura / arm64 | OK | OK | OK | OK | |||||||||
| taishan | Linux (openEuler 24.03 LTS) / aarch64 | OK | OK | OK | ||||||||||
|
To the developers/maintainers of the NanoMethViz package: - Allow up to 24 hours (and sometimes 48 hours) for your latest push to git@git.bioconductor.org:packages/NanoMethViz.git to reflect on this report. See Troubleshooting Build Report for more information. - Use the following Renviron settings to reproduce errors and warnings. - If 'R CMD check' started to fail recently on the Linux builder(s) over a missing dependency, add the missing dependency to 'Suggests:' in your DESCRIPTION file. See Renviron.bioc for more information. |
| Package: NanoMethViz |
| Version: 3.5.5 |
| Command: F:\biocbuild\bbs-3.22-bioc\R\bin\R.exe CMD check --no-multiarch --install=check:NanoMethViz.install-out.txt --library=F:\biocbuild\bbs-3.22-bioc\R\library --no-vignettes --timings NanoMethViz_3.5.5.tar.gz |
| StartedAt: 2025-08-15 05:46:28 -0400 (Fri, 15 Aug 2025) |
| EndedAt: 2025-08-15 05:59:38 -0400 (Fri, 15 Aug 2025) |
| EllapsedTime: 790.3 seconds |
| RetCode: 0 |
| Status: OK |
| CheckDir: NanoMethViz.Rcheck |
| Warnings: 0 |
##############################################################################
##############################################################################
###
### Running command:
###
### F:\biocbuild\bbs-3.22-bioc\R\bin\R.exe CMD check --no-multiarch --install=check:NanoMethViz.install-out.txt --library=F:\biocbuild\bbs-3.22-bioc\R\library --no-vignettes --timings NanoMethViz_3.5.5.tar.gz
###
##############################################################################
##############################################################################
* using log directory 'F:/biocbuild/bbs-3.22-bioc/meat/NanoMethViz.Rcheck'
* using R version 4.5.1 (2025-06-13 ucrt)
* using platform: x86_64-w64-mingw32
* R was compiled by
gcc.exe (GCC) 14.2.0
GNU Fortran (GCC) 14.2.0
* running under: Windows Server 2022 x64 (build 20348)
* using session charset: UTF-8
* using option '--no-vignettes'
* checking for file 'NanoMethViz/DESCRIPTION' ... OK
* checking extension type ... Package
* this is package 'NanoMethViz' version '3.5.5'
* package encoding: UTF-8
* checking package namespace information ... OK
* checking package dependencies ... INFO
Imports includes 31 non-default packages.
Importing from so many packages makes the package vulnerable to any of
them becoming unavailable. Move as many as possible to Suggests and
use conditionally.
* checking if this is a source package ... OK
* checking if there is a namespace ... OK
* checking for hidden files and directories ... OK
* checking for portable file names ... OK
* checking whether package 'NanoMethViz' can be installed ... OK
* used C++ compiler: 'G__~1.EXE (GCC) 14.2.0'
* checking C++ specification ... OK
Not all R platforms support C++20
* checking installed package size ... INFO
installed size is 14.1Mb
sub-directories of 1Mb or more:
libs 1.2Mb
* checking package directory ... OK
* checking 'build' directory ... OK
* checking DESCRIPTION meta-information ... OK
* checking top-level files ... OK
* checking for left-over files ... OK
* checking index information ... OK
* checking package subdirectories ... OK
* checking code files for non-ASCII characters ... OK
* checking R files for syntax errors ... OK
* checking whether the package can be loaded ... OK
* checking whether the package can be loaded with stated dependencies ... OK
* checking whether the package can be unloaded cleanly ... OK
* checking whether the namespace can be loaded with stated dependencies ... OK
* checking whether the namespace can be unloaded cleanly ... OK
* checking whether startup messages can be suppressed ... OK
* checking dependencies in R code ... OK
* checking S3 generic/method consistency ... OK
* checking replacement functions ... OK
* checking foreign function calls ... OK
* checking R code for possible problems ... NOTE
reformat_modkit: no visible binding for global variable 'ref_position'
Undefined global functions or variables:
ref_position
* checking Rd files ... OK
* checking Rd metadata ... OK
* checking Rd cross-references ... OK
* checking for missing documentation entries ... OK
* checking for code/documentation mismatches ... OK
* checking Rd \usage sections ... OK
* checking Rd contents ... OK
* checking for unstated dependencies in examples ... OK
* checking line endings in C/C++/Fortran sources/headers ... OK
* checking line endings in Makefiles ... OK
* checking compilation flags in Makevars ... OK
* checking for GNU extensions in Makefiles ... OK
* checking for portable use of $(BLAS_LIBS) and $(LAPACK_LIBS) ... OK
* checking use of PKG_*FLAGS in Makefiles ... OK
* checking compiled code ... NOTE
Note: information on .o files for x64 is not available
File 'F:/biocbuild/bbs-3.22-bioc/R/library/NanoMethViz/libs/x64/NanoMethViz.dll':
Found '_exit', possibly from '_exit' (C)
Found 'abort', possibly from 'abort' (C), 'runtime' (Fortran)
Found 'exit', possibly from 'exit' (C), 'stop' (Fortran)
Compiled code should not call entry points which might terminate R nor
write to stdout/stderr instead of to the console, nor use Fortran I/O
nor system RNGs nor [v]sprintf. The detected symbols are linked into
the code but might come from libraries and not actually be called.
See 'Writing portable packages' in the 'Writing R Extensions' manual.
* checking files in 'vignettes' ... OK
* checking examples ... OK
Examples with CPU (user + system) or elapsed time > 5s
user system elapsed
get_exons 63.25 4.12 74.21
filter_methy 20.87 0.31 21.28
get_exons_mus_musculus 15.91 1.31 17.21
get_exons_homo_sapiens 13.66 1.08 14.72
plot_gene 12.95 0.50 13.42
plot_gene_heatmap 11.91 0.25 12.14
plot_grange 9.48 0.20 9.69
plot_region 9.23 0.28 9.50
plot_region_heatmap 8.86 0.25 9.10
NanoMethResult-class 6.17 2.06 8.23
plot_grange_heatmap 7.94 0.16 8.09
plot_agg_regions 5.74 0.19 5.90
plot_agg_genes 4.81 0.29 5.10
cluster_regions 4.94 0.10 5.05
* checking for unstated dependencies in 'tests' ... OK
* checking tests ...
Running 'testthat.R'
OK
* checking for unstated dependencies in vignettes ... OK
* checking package vignettes ... OK
* checking running R code from vignettes ... SKIPPED
* checking re-building of vignette outputs ... SKIPPED
* checking PDF version of manual ... OK
* DONE
Status: 2 NOTEs
See
'F:/biocbuild/bbs-3.22-bioc/meat/NanoMethViz.Rcheck/00check.log'
for details.
NanoMethViz.Rcheck/00install.out
##############################################################################
##############################################################################
###
### Running command:
###
### F:\biocbuild\bbs-3.22-bioc\R\bin\R.exe CMD INSTALL NanoMethViz
###
##############################################################################
##############################################################################
* installing to library 'F:/biocbuild/bbs-3.22-bioc/R/library'
* installing *source* package 'NanoMethViz' ...
** this is package 'NanoMethViz' version '3.5.5'
** using staged installation
** libs
using C++ compiler: 'G__~1.EXE (GCC) 14.2.0'
using C++20
g++ -std=gnu++20 -I"F:/biocbuild/bbs-3.22-bioc/R/include" -DNDEBUG -I'F:/biocbuild/bbs-3.22-bioc/R/library/Rcpp/include' -I"C:/rtools45/x86_64-w64-mingw32.static.posix/include" -O2 -Wall -mfpmath=sse -msse2 -mstackrealign -c RcppExports.cpp -o RcppExports.o
g++ -std=gnu++20 -I"F:/biocbuild/bbs-3.22-bioc/R/include" -DNDEBUG -I'F:/biocbuild/bbs-3.22-bioc/R/library/Rcpp/include' -I"C:/rtools45/x86_64-w64-mingw32.static.posix/include" -O2 -Wall -mfpmath=sse -msse2 -mstackrealign -c convert_methy_to_dss.cpp -o convert_methy_to_dss.o
g++ -std=gnu++20 -I"F:/biocbuild/bbs-3.22-bioc/R/include" -DNDEBUG -I'F:/biocbuild/bbs-3.22-bioc/R/library/Rcpp/include' -I"C:/rtools45/x86_64-w64-mingw32.static.posix/include" -O2 -Wall -mfpmath=sse -msse2 -mstackrealign -c count_cg.cpp -o count_cg.o
g++ -std=gnu++20 -I"F:/biocbuild/bbs-3.22-bioc/R/include" -DNDEBUG -I'F:/biocbuild/bbs-3.22-bioc/R/library/Rcpp/include' -I"C:/rtools45/x86_64-w64-mingw32.static.posix/include" -O2 -Wall -mfpmath=sse -msse2 -mstackrealign -c genome.cpp -o genome.o
genome.cpp: In member function 'bool Genome::check_if_motif(const std::string&, int, const std::string&, int)':
genome.cpp:43:21: warning: variable 'chrom_view' set but not used [-Wunused-but-set-variable]
43 | string_view chrom_view = this->bases_at(chrom, motif_start, motif_end);
| ^~~~~~~~~~
g++ -std=gnu++20 -I"F:/biocbuild/bbs-3.22-bioc/R/include" -DNDEBUG -I'F:/biocbuild/bbs-3.22-bioc/R/library/Rcpp/include' -I"C:/rtools45/x86_64-w64-mingw32.static.posix/include" -O2 -Wall -mfpmath=sse -msse2 -mstackrealign -c modbam.cpp -o modbam.o
modbam.cpp: In function 'GenomicModPos parse_bam(const std::string&, const std::string&, const std::string&, const std::string&, const std::string&, int)':
modbam.cpp:331:44: warning: comparison of integer expressions of different signedness: 'int' and 'std::basic_string_view<char>::size_type' {aka 'long long unsigned int'} [-Wsign-compare]
331 | while ( mod_string_end < mm_tok.size() && std::isalnum(mm_tok[mod_string_end]) ) {
| ~~~~~~~~~~~~~~~^~~~~~~~~~~~~~~
modbam.cpp:339:40: warning: comparison of integer expressions of different signedness: 'int' and 'std::basic_string_view<char>::size_type' {aka 'long long unsigned int'} [-Wsign-compare]
339 | if (mod_string_end == mm_tok.size() || mm_tok[mod_string_end] == '?') {
| ~~~~~~~~~~~~~~~^~~~~~~~~~~~~~~~
modbam.cpp:363:17: warning: 'target_base' may be used uninitialized [-Wmaybe-uninitialized]
363 | if (seq.at(seq_ind) == target_base) {
| ^~
modbam.cpp:305:14: note: 'target_base' was declared here
305 | char target_base;
| ^~~~~~~~~~~
modbam.cpp:364:21: warning: 'parse_mode' may be used uninitialized [-Wmaybe-uninitialized]
364 | switch (parse_mode) {
| ^~~~~~
modbam.cpp:308:19: note: 'parse_mode' was declared here
308 | ParseMode parse_mode;
| ^~~~~~~~~~
In file included from C:/rtools45/x86_64-w64-mingw32.static.posix/lib/gcc/x86_64-w64-mingw32.static.posix/14.2.0/include/c++/bits/stl_iterator.h:78,
from C:/rtools45/x86_64-w64-mingw32.static.posix/lib/gcc/x86_64-w64-mingw32.static.posix/14.2.0/include/c++/bits/stl_algobase.h:67,
from C:/rtools45/x86_64-w64-mingw32.static.posix/lib/gcc/x86_64-w64-mingw32.static.posix/14.2.0/include/c++/algorithm:60,
from modbam.cpp:1:
In function 'constexpr decltype (::new(void*(0)) _Tp) std::construct_at(_Tp*, _Args&& ...) [with _Tp = char; _Args = {const char&}]',
inlined from 'static constexpr void std::allocator_traits<std::allocator<_CharT> >::construct(allocator_type&, _Up*, _Args&& ...) [with _Up = char; _Args = {const char&}; _Tp = char]' at C:/rtools45/x86_64-w64-mingw32.static.posix/lib/gcc/x86_64-w64-mingw32.static.posix/14.2.0/include/c++/bits/alloc_traits.h:536:21,
inlined from 'constexpr void std::vector<_Tp, _Alloc>::_M_realloc_append(_Args&& ...) [with _Args = {const char&}; _Tp = char; _Alloc = std::allocator<char>]' at C:/rtools45/x86_64-w64-mingw32.static.posix/lib/gcc/x86_64-w64-mingw32.static.posix/14.2.0/include/c++/bits/vector.tcc:634:26,
inlined from 'constexpr void std::vector<_Tp, _Alloc>::push_back(const value_type&) [with _Tp = char; _Alloc = std::allocator<char>]' at C:/rtools45/x86_64-w64-mingw32.static.posix/lib/gcc/x86_64-w64-mingw32.static.posix/14.2.0/include/c++/bits/stl_vector.h:1294:21,
inlined from 'GenomicModPos parse_bam(const std::string&, const std::string&, const std::string&, const std::string&, const std::string&, int)' at modbam.cpp:368:50:
C:/rtools45/x86_64-w64-mingw32.static.posix/lib/gcc/x86_64-w64-mingw32.static.posix/14.2.0/include/c++/bits/stl_construct.h:97:14: warning: 'current_base' may be used uninitialized [-Wmaybe-uninitialized]
97 | { return ::new((void*)__location) _Tp(std::forward<_Args>(__args)...); }
| ^~~~~~~~~~~~~~~~~~~~~~~~~~~~~~~~~~~~~~~~~~~~~~~~~~~~~~~~~~~~
modbam.cpp: In function 'GenomicModPos parse_bam(const std::string&, const std::string&, const std::string&, const std::string&, const std::string&, int)':
modbam.cpp:304:14: note: 'current_base' was declared here
304 | char current_base;
| ^~~~~~~~~~~~
g++ -std=gnu++20 -I"F:/biocbuild/bbs-3.22-bioc/R/include" -DNDEBUG -I'F:/biocbuild/bbs-3.22-bioc/R/library/Rcpp/include' -I"C:/rtools45/x86_64-w64-mingw32.static.posix/include" -O2 -Wall -mfpmath=sse -msse2 -mstackrealign -c utils.cpp -o utils.o
g++ -shared -s -static-libgcc -o NanoMethViz.dll tmp.def RcppExports.o convert_methy_to_dss.o count_cg.o genome.o modbam.o utils.o -lz -LC:/rtools45/x86_64-w64-mingw32.static.posix/lib/x64 -LC:/rtools45/x86_64-w64-mingw32.static.posix/lib -LF:/biocbuild/bbs-3.22-bioc/R/bin/x64 -lR
installing to F:/biocbuild/bbs-3.22-bioc/R/library/00LOCK-NanoMethViz/00new/NanoMethViz/libs/x64
** R
** inst
** byte-compile and prepare package for lazy loading
** help
*** installing help indices
*** copying figures
** building package indices
** installing vignettes
** testing if installed package can be loaded from temporary location
** testing if installed package can be loaded from final location
** testing if installed package keeps a record of temporary installation path
* DONE (NanoMethViz)
NanoMethViz.Rcheck/tests/testthat.Rout
R version 4.5.1 (2025-06-13 ucrt) -- "Great Square Root"
Copyright (C) 2025 The R Foundation for Statistical Computing
Platform: x86_64-w64-mingw32/x64
R is free software and comes with ABSOLUTELY NO WARRANTY.
You are welcome to redistribute it under certain conditions.
Type 'license()' or 'licence()' for distribution details.
R is a collaborative project with many contributors.
Type 'contributors()' for more information and
'citation()' on how to cite R or R packages in publications.
Type 'demo()' for some demos, 'help()' for on-line help, or
'help.start()' for an HTML browser interface to help.
Type 'q()' to quit R.
> library(testthat)
> library(NanoMethViz)
Loading required package: ggplot2
>
> test_check("NanoMethViz")
Starting 2 test processes
[ FAIL 0 | WARN 0 | SKIP 0 | PASS 694 ]
>
> proc.time()
user system elapsed
20.01 1.37 170.25
NanoMethViz.Rcheck/NanoMethViz-Ex.timings
| name | user | system | elapsed | |
| NanoMethResult-class | 6.17 | 2.06 | 8.23 | |
| bsseq_to_edger | 0.98 | 0.00 | 1.11 | |
| bsseq_to_log_methy_ratio | 1.37 | 0.10 | 1.55 | |
| cluster_regions | 4.94 | 0.10 | 5.05 | |
| create_tabix_file | 2.17 | 0.41 | 2.43 | |
| exons_to_genes | 0.35 | 0.03 | 0.38 | |
| filter_methy | 20.87 | 0.31 | 21.28 | |
| get_example_exons_mus_musculus | 0.34 | 0.07 | 0.41 | |
| get_exons | 63.25 | 4.12 | 74.21 | |
| get_exons_homo_sapiens | 13.66 | 1.08 | 14.72 | |
| get_exons_mus_musculus | 15.91 | 1.31 | 17.21 | |
| load_example_modbamresult | 0.42 | 0.00 | 0.42 | |
| load_example_nanomethresult | 0.34 | 0.02 | 0.36 | |
| methy | 0 | 0 | 0 | |
| methy_col_names | 0 | 0 | 0 | |
| methy_to_bsseq | 1.44 | 0.06 | 1.61 | |
| methy_to_edger | 1.81 | 0.06 | 1.92 | |
| modbam_to_tabix | 2.44 | 0.94 | 2.65 | |
| plot_agg_genes | 4.81 | 0.29 | 5.10 | |
| plot_agg_regions | 5.74 | 0.19 | 5.90 | |
| plot_gene | 12.95 | 0.50 | 13.42 | |
| plot_gene_heatmap | 11.91 | 0.25 | 12.14 | |
| plot_grange | 9.48 | 0.20 | 9.69 | |
| plot_grange_heatmap | 7.94 | 0.16 | 8.09 | |
| plot_mds | 1.76 | 0.05 | 1.86 | |
| plot_pca | 1.88 | 0.14 | 2.05 | |
| plot_region | 9.23 | 0.28 | 9.50 | |
| plot_region_heatmap | 8.86 | 0.25 | 9.10 | |
| plot_violin | 2.83 | 0.20 | 3.04 | |
| query_methy | 0.45 | 0.00 | 0.45 | |
| region_methy_stats | 1.02 | 0.11 | 1.12 | |