Back to Multiple platform build/check report for BioC 3.23:   simplified   long
ABCDEFGHIJKL[M]NOPQRSTUVWXYZ

This page was generated on 2025-11-22 11:37 -0500 (Sat, 22 Nov 2025).

HostnameOSArch (*)R versionInstalled pkgs
nebbiolo1Linux (Ubuntu 24.04.3 LTS)x86_64R Under development (unstable) (2025-10-20 r88955) -- "Unsuffered Consequences" 4829
lconwaymacOS 12.7.6 Montereyx86_64R Under development (unstable) (2025-10-21 r88958) -- "Unsuffered Consequences" 4603
kjohnson3macOS 13.7.7 Venturaarm64R Under development (unstable) (2025-11-04 r88984) -- "Unsuffered Consequences" 4567
Click on any hostname to see more info about the system (e.g. compilers)      (*) as reported by 'uname -p', except on Windows and Mac OS X

Package 1413/2327HostnameOS / ArchINSTALLBUILDCHECKBUILD BIN
MutationalPatterns 3.21.0  (landing page)
Mark van Roosmalen
Snapshot Date: 2025-11-21 13:40 -0500 (Fri, 21 Nov 2025)
git_url: https://git.bioconductor.org/packages/MutationalPatterns
git_branch: devel
git_last_commit: b3f3115
git_last_commit_date: 2025-10-29 10:35:07 -0500 (Wed, 29 Oct 2025)
nebbiolo1Linux (Ubuntu 24.04.3 LTS) / x86_64  OK    OK    ERROR  
lconwaymacOS 12.7.6 Monterey / x86_64  OK    ERROR  skippedskipped
kjohnson3macOS 13.7.7 Ventura / arm64  OK    ERROR  skippedskipped


CHECK results for MutationalPatterns on nebbiolo1

To the developers/maintainers of the MutationalPatterns package:
- Allow up to 24 hours (and sometimes 48 hours) for your latest push to git@git.bioconductor.org:packages/MutationalPatterns.git to reflect on this report. See Troubleshooting Build Report for more information.
- Use the following Renviron settings to reproduce errors and warnings.
- If 'R CMD check' started to fail recently on the Linux builder(s) over a missing dependency, add the missing dependency to 'Suggests:' in your DESCRIPTION file. See Renviron.bioc for more information.

raw results


Summary

Package: MutationalPatterns
Version: 3.21.0
Command: /home/biocbuild/bbs-3.23-bioc/R/bin/R CMD check --install=check:MutationalPatterns.install-out.txt --library=/home/biocbuild/bbs-3.23-bioc/R/site-library --timings MutationalPatterns_3.21.0.tar.gz
StartedAt: 2025-11-22 01:56:02 -0500 (Sat, 22 Nov 2025)
EndedAt: 2025-11-22 02:16:15 -0500 (Sat, 22 Nov 2025)
EllapsedTime: 1212.9 seconds
RetCode: 1
Status:   ERROR  
CheckDir: MutationalPatterns.Rcheck
Warnings: NA

Command output

##############################################################################
##############################################################################
###
### Running command:
###
###   /home/biocbuild/bbs-3.23-bioc/R/bin/R CMD check --install=check:MutationalPatterns.install-out.txt --library=/home/biocbuild/bbs-3.23-bioc/R/site-library --timings MutationalPatterns_3.21.0.tar.gz
###
##############################################################################
##############################################################################


* using log directory ‘/home/biocbuild/bbs-3.23-bioc/meat/MutationalPatterns.Rcheck’
* using R Under development (unstable) (2025-10-20 r88955)
* using platform: x86_64-pc-linux-gnu
* R was compiled by
    gcc (Ubuntu 13.3.0-6ubuntu2~24.04) 13.3.0
    GNU Fortran (Ubuntu 13.3.0-6ubuntu2~24.04) 13.3.0
* running under: Ubuntu 24.04.3 LTS
* using session charset: UTF-8
* checking for file ‘MutationalPatterns/DESCRIPTION’ ... OK
* checking extension type ... Package
* this is package ‘MutationalPatterns’ version ‘3.21.0’
* package encoding: UTF-8
* checking package namespace information ... OK
* checking package dependencies ... OK
* checking if this is a source package ... OK
* checking if there is a namespace ... OK
* checking for hidden files and directories ... OK
* checking for portable file names ... OK
* checking for sufficient/correct file permissions ... OK
* checking whether package ‘MutationalPatterns’ can be installed ... OK
* checking installed package size ... OK
* checking package directory ... OK
* checking ‘build’ directory ... OK
* checking DESCRIPTION meta-information ... NOTE
License stub is invalid DCF.
* checking top-level files ... OK
* checking for left-over files ... OK
* checking index information ... OK
* checking package subdirectories ... OK
* checking code files for non-ASCII characters ... OK
* checking R files for syntax errors ... OK
* checking whether the package can be loaded ... OK
* checking whether the package can be loaded with stated dependencies ... OK
* checking whether the package can be unloaded cleanly ... OK
* checking whether the namespace can be loaded with stated dependencies ... OK
* checking whether the namespace can be unloaded cleanly ... OK
* checking loading without being on the library search path ... OK
* checking dependencies in R code ... OK
* checking S3 generic/method consistency ... OK
* checking replacement functions ... OK
* checking foreign function calls ... OK
* checking R code for possible problems ... OK
* checking Rd files ... OK
* checking Rd metadata ... OK
* checking Rd cross-references ... OK
* checking for missing documentation entries ... OK
* checking for code/documentation mismatches ... OK
* checking Rd \usage sections ... OK
* checking Rd contents ... OK
* checking for unstated dependencies in examples ... OK
* checking files in ‘vignettes’ ... OK
* checking examples ... OK
Examples with CPU (user + system) or elapsed time > 5s
                                    user system elapsed
context_potential_damage_analysis 23.940  0.796  24.738
read_vcfs_as_granges              18.735  0.331  23.618
plot_lesion_segregation           16.397  0.053  16.451
get_mut_type                      11.312  0.048  11.361
calculate_lesion_segregation      10.460  0.430  10.891
plot_compare_indels               10.506  0.028  10.536
genomic_distribution              10.009  0.263  10.284
plot_indel_contexts               10.016  0.025  10.042
bin_mutation_density               9.473  0.430   9.904
get_indel_context                  6.651  0.935   7.586
fit_to_signatures_bootstrapped     6.785  0.119   6.905
plot_compare_dbs                   6.598  0.026   6.625
plot_profile_heatmap               5.586  0.070   5.657
mut_matrix_stranded                5.055  0.557   5.613
plot_river                         5.530  0.052   5.582
plot_spectrum_region               5.208  0.136   5.344
plot_spectrum                      5.052  0.263   5.316
* checking for unstated dependencies in ‘tests’ ... OK
* checking tests ...
  Running ‘testthat.R’
 ERROR
Running the tests in ‘tests/testthat.R’ failed.
Last 13 lines of output:
  [68] 2 - 1 ==  1
  [69] 4 - 3 ==  1
  [70] 5 - 6 == -1
  [71] 2 - 1 ==  1
  [72] 1 - 0 ==  1
  [74] 3 - 2 ==  1
  [77] 4 - 3 ==  1
  [78] 2 - 1 ==  1
  [79] 1 - 0 ==  1
  ...
  
  [ FAIL 3 | WARN 41 | SKIP 0 | PASS 471 ]
  Error:
  ! Test failures.
  Execution halted
* checking for unstated dependencies in vignettes ... OK
* checking package vignettes ... OK
* checking re-building of vignette outputs ... OK
* checking PDF version of manual ... OK
* DONE

Status: 1 ERROR, 1 NOTE
See
  ‘/home/biocbuild/bbs-3.23-bioc/meat/MutationalPatterns.Rcheck/00check.log’
for details.


Installation output

MutationalPatterns.Rcheck/00install.out

##############################################################################
##############################################################################
###
### Running command:
###
###   /home/biocbuild/bbs-3.23-bioc/R/bin/R CMD INSTALL MutationalPatterns
###
##############################################################################
##############################################################################


* installing to library ‘/home/biocbuild/bbs-3.23-bioc/R/site-library’
* installing *source* package ‘MutationalPatterns’ ...
** this is package ‘MutationalPatterns’ version ‘3.21.0’
** using staged installation
** R
** inst
** byte-compile and prepare package for lazy loading
** help
*** installing help indices
** building package indices
** installing vignettes
** testing if installed package can be loaded from temporary location
** testing if installed package can be loaded from final location
** testing if installed package keeps a record of temporary installation path
* DONE (MutationalPatterns)

Tests output

MutationalPatterns.Rcheck/tests/testthat.Rout.fail


R Under development (unstable) (2025-10-20 r88955) -- "Unsuffered Consequences"
Copyright (C) 2025 The R Foundation for Statistical Computing
Platform: x86_64-pc-linux-gnu

R is free software and comes with ABSOLUTELY NO WARRANTY.
You are welcome to redistribute it under certain conditions.
Type 'license()' or 'licence()' for distribution details.

R is a collaborative project with many contributors.
Type 'contributors()' for more information and
'citation()' on how to cite R or R packages in publications.

Type 'demo()' for some demos, 'help()' for on-line help, or
'help.start()' for an HTML browser interface to help.
Type 'q()' to quit R.

> library(testthat)
> library(MutationalPatterns)
Loading required package: GenomicRanges
Loading required package: stats4
Loading required package: BiocGenerics
Loading required package: generics

Attaching package: 'generics'

The following objects are masked from 'package:base':

    as.difftime, as.factor, as.ordered, intersect, is.element, setdiff,
    setequal, union


Attaching package: 'BiocGenerics'

The following objects are masked from 'package:stats':

    IQR, mad, sd, var, xtabs

The following objects are masked from 'package:base':

    Filter, Find, Map, Position, Reduce, anyDuplicated, aperm, append,
    as.data.frame, basename, cbind, colnames, dirname, do.call,
    duplicated, eval, evalq, get, grep, grepl, is.unsorted, lapply,
    mapply, match, mget, order, paste, pmax, pmax.int, pmin, pmin.int,
    rank, rbind, rownames, sapply, saveRDS, table, tapply, unique,
    unsplit, which.max, which.min

Loading required package: S4Vectors

Attaching package: 'S4Vectors'

The following object is masked from 'package:utils':

    findMatches

The following objects are masked from 'package:base':

    I, expand.grid, unname

Loading required package: IRanges
Loading required package: Seqinfo
Loading required package: NMF
Loading required package: registry
Loading required package: rngtools
Loading required package: cluster
NMF - BioConductor layer [OK] | Shared memory capabilities [NO: bigmemory] | Cores 2/2
  To enable shared memory capabilities, try: install.extras('
NMF
')

Attaching package: 'NMF'

The following object is masked from 'package:S4Vectors':

    nrun

The following object is masked from 'package:generics':

    fit

The following object is masked from 'package:testthat':

    compare

> 
> test_check("MutationalPatterns")
Saving _problems/test-context_potential_damage_analysis-46.R
Saving _problems/test-mut_matrix_stranded-20.R
Saving _problems/test-mut_matrix_stranded-29.R
[ FAIL 3 | WARN 41 | SKIP 0 | PASS 471 ]

══ Failed tests ════════════════════════════════════════════════════════════════
── Failure ('test-context_potential_damage_analysis.R:46:3'): Output is equal to expected ──
Expected `output` to equal `expected`.
Differences:
Component "n": Mean relative difference: 0.09452736
Component "ratio": Mean relative difference: 0.06150134
Component "blosum62": Mean relative difference: 0.2656804
── Failure ('test-mut_matrix_stranded.R:20:3'): transforms correctly ───────────
Expected `output` to equal `expected`.
Differences:
382/1728 mismatches (average diff: 1.45)
[68] 2 - 1 ==  1
[69] 4 - 3 ==  1
[70] 5 - 6 == -1
[71] 2 - 1 ==  1
[72] 1 - 0 ==  1
[74] 3 - 2 ==  1
[77] 4 - 3 ==  1
[78] 2 - 1 ==  1
[79] 1 - 0 ==  1
...
── Failure ('test-mut_matrix_stranded.R:29:3'): a list is also acceptable input ──
Expected `output_list` to equal `expected`.
Differences:
382/1728 mismatches (average diff: 1.45)
[68] 2 - 1 ==  1
[69] 4 - 3 ==  1
[70] 5 - 6 == -1
[71] 2 - 1 ==  1
[72] 1 - 0 ==  1
[74] 3 - 2 ==  1
[77] 4 - 3 ==  1
[78] 2 - 1 ==  1
[79] 1 - 0 ==  1
...

[ FAIL 3 | WARN 41 | SKIP 0 | PASS 471 ]
Error:
! Test failures.
Execution halted

Example timings

MutationalPatterns.Rcheck/MutationalPatterns-Ex.timings

nameusersystemelapsed
bin_mutation_density9.4730.4309.904
binomial_test0.0090.0000.009
calculate_lesion_segregation10.460 0.43010.891
cluster_signatures0.0400.0050.045
context_potential_damage_analysis23.940 0.79624.738
convert_sigs_to_ref0.0380.0020.042
cos_sim000
cos_sim_matrix0.0180.0050.023
count_dbs_contexts0.0850.0010.086
count_indel_contexts0.1340.0020.135
count_mbs_contexts0.0720.0000.072
determine_regional_similarity2.8570.4053.262
enrichment_depletion_test0.1360.0020.138
extract_signatures0.0020.0000.002
fit_to_signatures0.0880.0100.099
fit_to_signatures_bootstrapped6.7850.1196.905
fit_to_signatures_strict3.6790.0143.695
genomic_distribution10.009 0.26310.284
get_dbs_context0.3570.0030.360
get_indel_context6.6510.9357.586
get_known_signatures0.2150.4500.669
get_mut_type11.312 0.04811.361
lengthen_mut_matrix0.0080.0110.019
merge_signatures1.0230.1291.152
mut_context1.0710.2191.290
mut_matrix2.0060.2882.294
mut_matrix_stranded5.0550.5575.613
mut_strand1.8520.0821.935
mut_type0.0290.0010.029
mut_type_occurrences0.8550.1290.984
mutations_from_vcf0.0270.0010.028
plot_192_profile3.4990.0063.506
plot_96_profile2.8540.0052.859
plot_bootstrapped_contribution2.4480.0042.452
plot_compare_dbs6.5980.0266.625
plot_compare_indels10.506 0.02810.536
plot_compare_mbs1.3610.0021.363
plot_compare_profiles2.6250.0022.627
plot_contribution2.2440.0012.245
plot_contribution_heatmap2.2570.0042.261
plot_correlation_bootstrap1.7360.0001.736
plot_cosine_heatmap2.6820.0042.686
plot_dbs_contexts4.8080.0024.812
plot_enrichment_depletion4.7500.0034.753
plot_indel_contexts10.016 0.02510.042
plot_lesion_segregation16.397 0.05316.451
plot_main_dbs_contexts0.8850.0010.887
plot_main_indel_contexts0.8430.0020.845
plot_mbs_contexts0.7550.0010.756
plot_original_vs_reconstructed0.9480.0020.951
plot_profile_heatmap5.5860.0705.657
plot_profile_region1.2140.0041.219
plot_rainfall2.0400.0042.044
plot_regional_similarity2.4970.0072.505
plot_river5.5300.0525.582
plot_signature_strand_bias2.0830.0932.175
plot_spectrum5.0520.2635.316
plot_spectrum_region5.2080.1365.344
plot_strand0.2670.0050.272
plot_strand_bias0.8860.0020.888
pool_mut_mat0.0340.0020.036
read_vcfs_as_granges18.735 0.33123.618
rename_nmf_signatures0.0300.0290.058
signature_potential_damage_analysis0.0930.0020.096
split_muts_region3.9180.0263.944
strand_bias_test0.1020.0010.103
strand_occurrences0.1380.0050.143
type_context1.2030.2371.440