Back to Build/check report for BioC 3.23:   simplified   long
ABCDEFGHIJKL[M]NOPQRSTUVWXYZ

This page was generated on 2025-11-13 11:32 -0500 (Thu, 13 Nov 2025).

HostnameOSArch (*)R versionInstalled pkgs
kjohnson3macOS 13.7.7 Venturaarm64R Under development (unstable) (2025-11-04 r88984) -- "Unsuffered Consequences" 4013
Click on any hostname to see more info about the system (e.g. compilers)      (*) as reported by 'uname -p', except on Windows and Mac OS X

Package 1401/2325HostnameOS / ArchINSTALLBUILDCHECKBUILD BIN
MultiRNAflow 1.9.0  (landing page)
Rodolphe Loubaton
Snapshot Date: 2025-11-12 13:40 -0500 (Wed, 12 Nov 2025)
git_url: https://git.bioconductor.org/packages/MultiRNAflow
git_branch: devel
git_last_commit: 3c2e28d
git_last_commit_date: 2025-10-29 11:24:54 -0500 (Wed, 29 Oct 2025)
kjohnson3macOS 13.7.7 Ventura / arm64  OK    OK    OK    OK  NO, package depends on 'DESeq2' which is only available as a source package that needs compilation


CHECK results for MultiRNAflow on kjohnson3

To the developers/maintainers of the MultiRNAflow package:
- Allow up to 24 hours (and sometimes 48 hours) for your latest push to git@git.bioconductor.org:packages/MultiRNAflow.git to reflect on this report. See Troubleshooting Build Report for more information.
- Use the following Renviron settings to reproduce errors and warnings.
- If 'R CMD check' started to fail recently on the Linux builder(s) over a missing dependency, add the missing dependency to 'Suggests:' in your DESCRIPTION file. See Renviron.bioc for more information.

raw results


Summary

Package: MultiRNAflow
Version: 1.9.0
Command: /Library/Frameworks/R.framework/Resources/bin/R CMD check --install=check:MultiRNAflow.install-out.txt --library=/Library/Frameworks/R.framework/Resources/library --no-vignettes --timings MultiRNAflow_1.9.0.tar.gz
StartedAt: 2025-11-12 19:36:19 -0500 (Wed, 12 Nov 2025)
EndedAt: 2025-11-12 19:46:22 -0500 (Wed, 12 Nov 2025)
EllapsedTime: 603.7 seconds
RetCode: 0
Status:   OK  
CheckDir: MultiRNAflow.Rcheck
Warnings: 0

Command output

##############################################################################
##############################################################################
###
### Running command:
###
###   /Library/Frameworks/R.framework/Resources/bin/R CMD check --install=check:MultiRNAflow.install-out.txt --library=/Library/Frameworks/R.framework/Resources/library --no-vignettes --timings MultiRNAflow_1.9.0.tar.gz
###
##############################################################################
##############################################################################


* using log directory ‘/Users/biocbuild/bbs-3.23-bioc/meat/MultiRNAflow.Rcheck’
* using R Under development (unstable) (2025-11-04 r88984)
* using platform: aarch64-apple-darwin20
* R was compiled by
    Apple clang version 16.0.0 (clang-1600.0.26.6)
    GNU Fortran (GCC) 14.2.0
* running under: macOS Ventura 13.7.8
* using session charset: UTF-8
* using option ‘--no-vignettes’
* checking for file ‘MultiRNAflow/DESCRIPTION’ ... OK
* this is package ‘MultiRNAflow’ version ‘1.9.0’
* package encoding: UTF-8
* checking package namespace information ... OK
* checking package dependencies ... OK
* checking if this is a source package ... OK
* checking if there is a namespace ... OK
* checking for hidden files and directories ... OK
* checking for portable file names ... OK
* checking for sufficient/correct file permissions ... OK
* checking whether package ‘MultiRNAflow’ can be installed ... OK
* checking installed package size ... OK
* checking package directory ... OK
* checking ‘build’ directory ... OK
* checking DESCRIPTION meta-information ... OK
* checking top-level files ... OK
* checking for left-over files ... OK
* checking index information ... OK
* checking package subdirectories ... OK
* checking code files for non-ASCII characters ... OK
* checking R files for syntax errors ... OK
* checking whether the package can be loaded ... OK
* checking whether the package can be loaded with stated dependencies ... OK
* checking whether the package can be unloaded cleanly ... OK
* checking whether the namespace can be loaded with stated dependencies ... OK
* checking whether the namespace can be unloaded cleanly ... OK
* checking dependencies in R code ... OK
* checking S3 generic/method consistency ... OK
* checking replacement functions ... OK
* checking foreign function calls ... OK
* checking R code for possible problems ... OK
* checking Rd files ... OK
* checking Rd metadata ... OK
* checking Rd cross-references ... OK
* checking for missing documentation entries ... OK
* checking for code/documentation mismatches ... OK
* checking Rd \usage sections ... OK
* checking Rd contents ... OK
* checking for unstated dependencies in examples ... OK
* checking contents of ‘data’ directory ... OK
* checking data for non-ASCII characters ... OK
* checking data for ASCII and uncompressed saves ... OK
* checking sizes of PDF files under ‘inst/doc’ ... OK
* checking files in ‘vignettes’ ... OK
* checking examples ... OK
Examples with CPU (user + system) or elapsed time > 5s
                        user system elapsed
DEanalysisTimeAndGroup 4.589  1.147  14.968
PCAanalysis            4.019  0.463   9.106
DEplotHeatmaps         3.247  1.178  15.785
DEanalysisTime         2.326  0.693   8.787
DEplotVolcanoMA        1.717  0.487   5.883
DEresultGroupPerTime   1.444  0.541   7.244
GSEApreprocessing      1.355  0.452   6.314
DEanalysisGroup        1.112  0.446   5.090
* checking for unstated dependencies in ‘tests’ ... OK
* checking tests ...
  Running ‘testthat.R’
 OK
* checking for unstated dependencies in vignettes ... OK
* checking package vignettes ... OK
* checking running R code from vignettes ... SKIPPED
* checking re-building of vignette outputs ... SKIPPED
* checking PDF version of manual ... OK
* DONE

Status: OK


Installation output

MultiRNAflow.Rcheck/00install.out

##############################################################################
##############################################################################
###
### Running command:
###
###   /Library/Frameworks/R.framework/Resources/bin/R CMD INSTALL MultiRNAflow
###
##############################################################################
##############################################################################


* installing to library ‘/Library/Frameworks/R.framework/Versions/4.6-arm64/Resources/library’
* installing *source* package ‘MultiRNAflow’ ...
** this is package ‘MultiRNAflow’ version ‘1.9.0’
** using staged installation
** R
** data
** inst
** byte-compile and prepare package for lazy loading
** help
*** installing help indices
** building package indices
** installing vignettes
** testing if installed package can be loaded from temporary location
** testing if installed package can be loaded from final location
** testing if installed package keeps a record of temporary installation path
* DONE (MultiRNAflow)

Tests output

MultiRNAflow.Rcheck/tests/testthat.Rout


R Under development (unstable) (2025-11-04 r88984) -- "Unsuffered Consequences"
Copyright (C) 2025 The R Foundation for Statistical Computing
Platform: aarch64-apple-darwin20

R is free software and comes with ABSOLUTELY NO WARRANTY.
You are welcome to redistribute it under certain conditions.
Type 'license()' or 'licence()' for distribution details.

R is a collaborative project with many contributors.
Type 'contributors()' for more information and
'citation()' on how to cite R or R packages in publications.

Type 'demo()' for some demos, 'help()' for on-line help, or
'help.start()' for an HTML browser interface to help.
Type 'q()' to quit R.

> # This file is part of the standard setup for testthat.
> # It is recommended that you do not modify it.
> #
> # Where should you do additional test configuration?
> # Learn more about the roles of various files in:
> # * https://r-pkgs.org/tests.html
> # * https://testthat.r-lib.org/reference/test_package.html#special-files
> 
> library(testthat)
> library(MultiRNAflow)
Loading required package: Mfuzz
Loading required package: Biobase
Loading required package: BiocGenerics
Loading required package: generics

Attaching package: 'generics'

The following objects are masked from 'package:base':

    as.difftime, as.factor, as.ordered, intersect, is.element, setdiff,
    setequal, union


Attaching package: 'BiocGenerics'

The following objects are masked from 'package:stats':

    IQR, mad, sd, var, xtabs

The following objects are masked from 'package:base':

    Filter, Find, Map, Position, Reduce, anyDuplicated, aperm, append,
    as.data.frame, basename, cbind, colnames, dirname, do.call,
    duplicated, eval, evalq, get, grep, grepl, is.unsorted, lapply,
    mapply, match, mget, order, paste, pmax, pmax.int, pmin, pmin.int,
    rank, rbind, rownames, sapply, saveRDS, table, tapply, unique,
    unsplit, which.max, which.min

Welcome to Bioconductor

    Vignettes contain introductory material; view with
    'browseVignettes()'. To cite Bioconductor, see
    'citation("Biobase")', and for packages 'citation("pkgname")'.

Loading required package: e1071

Attaching package: 'e1071'

The following object is masked from 'package:generics':

    interpolate


Attaching package: 'DynDoc'

The following object is masked from 'package:BiocGenerics':

    path

> 
> test_check("MultiRNAflow")
[1] "3 genes deleted."
converting counts to integer mode
converting counts to integer mode
converting counts to integer mode
converting counts to integer mode
converting counts to integer mode
converting counts to integer mode
[1] "3 genes deleted."
[1] "Preprocessing"
[1] "Differential expression step with DESeq2::DESeq()"
estimating size factors
estimating dispersions
gene-wise dispersion estimates
mean-dispersion relationship
final dispersion estimates
fitting model and testing
[1] "Case 1 analysis : Biological conditions only"
[1] "Preprocessing"
[1] "Differential expression step with DESeq2::DESeq()"
estimating size factors
estimating dispersions
gene-wise dispersion estimates
mean-dispersion relationship
final dispersion estimates
fitting model and testing
[1] "Case 2 analysis : Time only"
estimating size factors
estimating dispersions
gene-wise dispersion estimates
mean-dispersion relationship
final dispersion estimates
fitting model and testing
estimating size factors
estimating dispersions
gene-wise dispersion estimates
mean-dispersion relationship
final dispersion estimates
fitting model and testing
[1] "DE time analysis for each biological condition."
[1] "DE group analysis for each time measurement."
[1] "Combined time and group results."
[1] "DE time analysis for each biological condition."
[1] "DE group analysis for each time measurement."
[1] "Combined time and group results."
[1] "DE time analysis for each biological condition."
[1] "DE group analysis for each time measurement."
[1] "Combined time and group results."
[1] "DE time analysis for each biological condition."
[1] "DE group analysis for each time measurement."
[1] "Combined time and group results."
estimating size factors
estimating dispersions
gene-wise dispersion estimates
mean-dispersion relationship
final dispersion estimates
fitting model and testing
estimating size factors
estimating dispersions
gene-wise dispersion estimates
mean-dispersion relationship
final dispersion estimates
fitting model and testing
converting counts to integer mode
converting counts to integer mode
0 genes excluded.
0 genes excluded.
0 genes excluded.
0 genes excluded.
0 genes excluded.
0 genes excluded.
0 genes excluded.
0 genes excluded.
0 genes excluded.
0 genes excluded.
converting counts to integer mode
converting counts to integer mode
converting counts to integer mode
converting counts to integer mode
[ FAIL 0 | WARN 3 | SKIP 0 | PASS 324 ]

[ FAIL 0 | WARN 3 | SKIP 0 | PASS 324 ]
> 
> proc.time()
   user  system elapsed 
 95.858  23.522 268.281 

Example timings

MultiRNAflow.Rcheck/MultiRNAflow-Ex.timings

nameusersystemelapsed
CharacterNumbers000
ColnamesToFactors0.0050.0020.018
DATAnormalization0.5240.1621.894
DATAplotBoxplotSamples0.3570.1111.361
DATAplotExpression1Gene0.3290.0841.215
DATAplotExpressionGenes0.5730.1561.902
DATAprepSE0.0970.0370.517
DEanalysisGlobal1.1880.4123.694
DEanalysisGroup1.1120.4465.090
DEanalysisSubData0.2890.1051.157
DEanalysisTime2.3260.6938.787
DEanalysisTimeAndGroup 4.589 1.14714.968
DEplotAlluvial0.2770.0390.708
DEplotBarplot0.1620.0180.317
DEplotBarplotFacetGrid0.3850.0510.816
DEplotBarplotTime0.1710.0210.379
DEplotHeatmaps 3.247 1.17815.785
DEplotVennBarplotGroup0.4670.0591.134
DEplotVennBarplotTime0.5280.0711.626
DEplotVolcanoMA1.7170.4875.883
DEresultGroup0.9380.3783.540
DEresultGroupPerTime1.4440.5417.244
GSEAQuickAnalysis0.0910.0350.507
GSEApreprocessing1.3550.4526.314
HCPCanalysis1.2330.2434.243
MFUZZanalysis0.8600.1953.024
MFUZZclustersNumber0.4040.1171.607
PCAanalysis4.0190.4639.106
PCAgraphics2.0760.2734.659
PCApreprocessing0.2640.1110.942
PCArealization0.2570.0850.810
RawCountsSimulation0.0160.0160.080
RawCounts_Antoszewski2022_MOUSEsub5000.0010.0010.003
RawCounts_Leong2014_FISSIONsub500wt0.0020.0010.003
RawCounts_Schleiss2021_CLLsub5000.0050.0010.007
RawCounts_Weger2021_MOUSEsub5000.0080.0020.014
Results_DEanalysis_sub5000.0440.0030.051
Transcript_HomoSapiens_Database0.0410.0020.044