Back to Multiple platform build/check report for BioC 3.23:   simplified   long
ABCDEFGHIJKL[M]NOPQRSTUVWXYZ

This page was generated on 2025-11-27 11:37 -0500 (Thu, 27 Nov 2025).

HostnameOSArch (*)R versionInstalled pkgs
nebbiolo1Linux (Ubuntu 24.04.3 LTS)x86_64R Under development (unstable) (2025-10-20 r88955) -- "Unsuffered Consequences" 4865
lconwaymacOS 12.7.6 Montereyx86_64R Under development (unstable) (2025-10-21 r88958) -- "Unsuffered Consequences" 4614
kjohnson3macOS 13.7.7 Venturaarm64R Under development (unstable) (2025-11-04 r88984) -- "Unsuffered Consequences" 4571
Click on any hostname to see more info about the system (e.g. compilers)      (*) as reported by 'uname -p', except on Windows and Mac OS X

Package 1379/2328HostnameOS / ArchINSTALLBUILDCHECKBUILD BIN
MsQuality 1.11.0  (landing page)
Thomas Naake
Snapshot Date: 2025-11-26 13:40 -0500 (Wed, 26 Nov 2025)
git_url: https://git.bioconductor.org/packages/MsQuality
git_branch: devel
git_last_commit: 58f05c8
git_last_commit_date: 2025-10-29 11:20:21 -0500 (Wed, 29 Oct 2025)
nebbiolo1Linux (Ubuntu 24.04.3 LTS) / x86_64  OK    OK    OK  UNNEEDED, same version is already published
lconwaymacOS 12.7.6 Monterey / x86_64  OK    OK    OK    OK  UNNEEDED, same version is already published
kjohnson3macOS 13.7.7 Ventura / arm64  OK    OK    OK    OK  UNNEEDED, same version is already published


CHECK results for MsQuality on nebbiolo1

To the developers/maintainers of the MsQuality package:
- Allow up to 24 hours (and sometimes 48 hours) for your latest push to git@git.bioconductor.org:packages/MsQuality.git to reflect on this report. See Troubleshooting Build Report for more information.
- Use the following Renviron settings to reproduce errors and warnings.
- If 'R CMD check' started to fail recently on the Linux builder(s) over a missing dependency, add the missing dependency to 'Suggests:' in your DESCRIPTION file. See Renviron.bioc for more information.

raw results


Summary

Package: MsQuality
Version: 1.11.0
Command: /home/biocbuild/bbs-3.23-bioc/R/bin/R CMD check --install=check:MsQuality.install-out.txt --library=/home/biocbuild/bbs-3.23-bioc/R/site-library --timings MsQuality_1.11.0.tar.gz
StartedAt: 2025-11-27 01:48:50 -0500 (Thu, 27 Nov 2025)
EndedAt: 2025-11-27 01:55:16 -0500 (Thu, 27 Nov 2025)
EllapsedTime: 386.5 seconds
RetCode: 0
Status:   OK  
CheckDir: MsQuality.Rcheck
Warnings: 0

Command output

##############################################################################
##############################################################################
###
### Running command:
###
###   /home/biocbuild/bbs-3.23-bioc/R/bin/R CMD check --install=check:MsQuality.install-out.txt --library=/home/biocbuild/bbs-3.23-bioc/R/site-library --timings MsQuality_1.11.0.tar.gz
###
##############################################################################
##############################################################################


* using log directory ‘/home/biocbuild/bbs-3.23-bioc/meat/MsQuality.Rcheck’
* using R Under development (unstable) (2025-10-20 r88955)
* using platform: x86_64-pc-linux-gnu
* R was compiled by
    gcc (Ubuntu 13.3.0-6ubuntu2~24.04) 13.3.0
    GNU Fortran (Ubuntu 13.3.0-6ubuntu2~24.04) 13.3.0
* running under: Ubuntu 24.04.3 LTS
* using session charset: UTF-8
* checking for file ‘MsQuality/DESCRIPTION’ ... OK
* checking extension type ... Package
* this is package ‘MsQuality’ version ‘1.11.0’
* package encoding: UTF-8
* checking package namespace information ... OK
* checking package dependencies ... OK
* checking if this is a source package ... OK
* checking if there is a namespace ... OK
* checking for hidden files and directories ... OK
* checking for portable file names ... OK
* checking for sufficient/correct file permissions ... OK
* checking whether package ‘MsQuality’ can be installed ... OK
* checking installed package size ... OK
* checking package directory ... OK
* checking ‘build’ directory ... OK
* checking DESCRIPTION meta-information ... OK
* checking top-level files ... OK
* checking for left-over files ... OK
* checking index information ... OK
* checking package subdirectories ... OK
* checking code files for non-ASCII characters ... OK
* checking R files for syntax errors ... OK
* checking whether the package can be loaded ... OK
* checking whether the package can be loaded with stated dependencies ... OK
* checking whether the package can be unloaded cleanly ... OK
* checking whether the namespace can be loaded with stated dependencies ... OK
* checking whether the namespace can be unloaded cleanly ... OK
* checking loading without being on the library search path ... OK
* checking dependencies in R code ... OK
* checking S3 generic/method consistency ... OK
* checking replacement functions ... OK
* checking foreign function calls ... OK
* checking R code for possible problems ... OK
* checking Rd files ... OK
* checking Rd metadata ... OK
* checking Rd cross-references ... OK
* checking for missing documentation entries ... OK
* checking for code/documentation mismatches ... OK
* checking Rd \usage sections ... OK
* checking Rd contents ... OK
* checking for unstated dependencies in examples ... OK
* checking contents of ‘data’ directory ... OK
* checking data for non-ASCII characters ... OK
* checking data for ASCII and uncompressed saves ... OK
* checking files in ‘vignettes’ ... OK
* checking examples ... OK
Examples with CPU (user + system) or elapsed time > 5s
                                  user system elapsed
calculateMetricsFromSpectra      8.554  1.780   7.414
calculateMetrics                 5.454  0.846   5.964
calculateMetricsFromMsExperiment 4.865  1.353   2.796
* checking for unstated dependencies in ‘tests’ ... OK
* checking tests ...
  Running ‘testthat.R’
 OK
* checking for unstated dependencies in vignettes ... OK
* checking package vignettes ... OK
* checking re-building of vignette outputs ... OK
* checking PDF version of manual ... OK
* DONE

Status: OK


Installation output

MsQuality.Rcheck/00install.out

##############################################################################
##############################################################################
###
### Running command:
###
###   /home/biocbuild/bbs-3.23-bioc/R/bin/R CMD INSTALL MsQuality
###
##############################################################################
##############################################################################


* installing to library ‘/home/biocbuild/bbs-3.23-bioc/R/site-library’
* installing *source* package ‘MsQuality’ ...
** this is package ‘MsQuality’ version ‘1.11.0’
** using staged installation
** R
** data
** inst
** byte-compile and prepare package for lazy loading
** help
*** installing help indices
** building package indices
** installing vignettes
** testing if installed package can be loaded from temporary location
** testing if installed package can be loaded from final location
** testing if installed package keeps a record of temporary installation path
* DONE (MsQuality)

Tests output

MsQuality.Rcheck/tests/testthat.Rout


R Under development (unstable) (2025-10-20 r88955) -- "Unsuffered Consequences"
Copyright (C) 2025 The R Foundation for Statistical Computing
Platform: x86_64-pc-linux-gnu

R is free software and comes with ABSOLUTELY NO WARRANTY.
You are welcome to redistribute it under certain conditions.
Type 'license()' or 'licence()' for distribution details.

R is a collaborative project with many contributors.
Type 'contributors()' for more information and
'citation()' on how to cite R or R packages in publications.

Type 'demo()' for some demos, 'help()' for on-line help, or
'help.start()' for an HTML browser interface to help.
Type 'q()' to quit R.

> library("testthat")
> library("MsQuality")
> library("Spectra")
Loading required package: S4Vectors
Loading required package: stats4
Loading required package: BiocGenerics
Loading required package: generics

Attaching package: 'generics'

The following objects are masked from 'package:base':

    as.difftime, as.factor, as.ordered, intersect, is.element, setdiff,
    setequal, union


Attaching package: 'BiocGenerics'

The following objects are masked from 'package:stats':

    IQR, mad, sd, var, xtabs

The following objects are masked from 'package:base':

    Filter, Find, Map, Position, Reduce, anyDuplicated, aperm, append,
    as.data.frame, basename, cbind, colnames, dirname, do.call,
    duplicated, eval, evalq, get, grep, grepl, is.unsorted, lapply,
    mapply, match, mget, order, paste, pmax, pmax.int, pmin, pmin.int,
    rank, rbind, rownames, sapply, saveRDS, table, tapply, unique,
    unsplit, which.max, which.min


Attaching package: 'S4Vectors'

The following object is masked from 'package:utils':

    findMatches

The following objects are masked from 'package:base':

    I, expand.grid, unname

Loading required package: BiocParallel
> library("MsExperiment")
Loading required package: ProtGenerics

Attaching package: 'ProtGenerics'

The following object is masked from 'package:stats':

    smooth

> library("msdata")
> library("S4Vectors")
> 
> test_check("MsQuality")
trying URL 'https://api.github.com/repos/HUPO-PSI/psi-ms-CV/releases/latest'
Content type 'application/json; charset=utf-8' length 7684 bytes
==================================================
downloaded 7684 bytes

trying URL 'https://github.com/HUPO-PSI/psi-ms-CV/releases/download/v4.1.217/psi-ms.obo'
Content type 'application/octet-stream' length 1101150 bytes (1.1 MB)
==================================================
downloaded 1.1 MB

[ FAIL 0 | WARN 0 | SKIP 0 | PASS 860 ]
> 
> proc.time()
   user  system elapsed 
112.018  30.944  91.496 

Example timings

MsQuality.Rcheck/MsQuality-Ex.timings

nameusersystemelapsed
MsQuality-package0.0000.0000.001
areaUnderTic0.1630.0150.179
areaUnderTicRtQuantiles0.1540.0030.158
calculateMetrics5.4540.8465.964
calculateMetricsFromMsExperiment4.8651.3532.796
calculateMetricsFromOneSampleSpectra2.7160.4822.054
calculateMetricsFromSpectra8.5541.7807.414
chromatographyDuration0.0870.0130.100
dot-rtOrderSpectra0.1010.0050.106
extentIdentifiedPrecursorIntensity0.0980.0030.100
meanCharge0.0830.0100.093
medianCharge0.0870.0100.097
medianPrecursorMz0.0820.0070.089
medianTicOfRtRange0.1680.0380.206
medianTicRtIqr0.0890.0040.093
msSignal10xChange0.0800.0060.086
mzAcquisitionRange0.0800.0030.083
numberEmptyScans0.0900.0190.110
numberSpectra0.0770.0100.087
plotMetric2.6950.8612.561
plotMetricTibble2.2550.8271.673
precursorIntensityMean0.1730.0450.217
precursorIntensityQuartiles0.1400.0280.167
precursorIntensityRange0.1340.0400.174
precursorIntensitySd0.1230.0220.145
qualityMetrics0.1270.0170.144
ratioCharge1over20.1100.0220.132
ratioCharge3over20.1060.0120.118
ratioCharge4over20.1040.0150.119
rtAcquisitionRange0.0950.0140.108
rtIqr0.1010.0110.113
rtIqrRate0.1010.0150.116
rtOverMsQuarters0.0970.0110.108
shinyMsQuality1.2270.4951.595
ticQuantileRtFraction1.0340.2530.157
ticQuartileToQuartileLogRatio0.1330.0300.163
transformIntoMzQC2.0880.8261.576