Back to Multiple platform build/check report for BioC 3.22:   simplified   long
ABCDEFGHIJKL[M]NOPQRSTUVWXYZ

This page was generated on 2025-04-23 12:06 -0400 (Wed, 23 Apr 2025).

HostnameOSArch (*)R versionInstalled pkgs
nebbiolo2Linux (Ubuntu 24.04.1 LTS)x86_644.5.0 (2025-04-11) -- "How About a Twenty-Six" 4722
palomino8Windows Server 2022 Datacenterx644.5.0 (2025-04-11 ucrt) -- "How About a Twenty-Six" 4492
lconwaymacOS 12.7.1 Montereyx86_644.5.0 Patched (2025-04-21 r88169) -- "How About a Twenty-Six" 4404
taishanLinux (openEuler 24.03 LTS)aarch644.5.0 (2025-04-11) -- "How About a Twenty-Six" 4271
Click on any hostname to see more info about the system (e.g. compilers)      (*) as reported by 'uname -p', except on Windows and Mac OS X

Package 1339/2302HostnameOS / ArchINSTALLBUILDCHECKBUILD BIN
MsBackendMetaboLights 1.3.0  (landing page)
Johannes Rainer
Snapshot Date: 2025-04-22 13:00 -0400 (Tue, 22 Apr 2025)
git_url: https://git.bioconductor.org/packages/MsBackendMetaboLights
git_branch: devel
git_last_commit: 1822892
git_last_commit_date: 2025-04-15 13:42:03 -0400 (Tue, 15 Apr 2025)
nebbiolo2Linux (Ubuntu 24.04.1 LTS) / x86_64  OK    OK    ERROR  
palomino8Windows Server 2022 Datacenter / x64  OK    OK    ERROR    OK  
lconwaymacOS 12.7.1 Monterey / x86_64  OK    OK    ERROR    OK  
taishanLinux (openEuler 24.03 LTS) / aarch64  OK    OK    OK  


CHECK results for MsBackendMetaboLights on lconway

To the developers/maintainers of the MsBackendMetaboLights package:
- Allow up to 24 hours (and sometimes 48 hours) for your latest push to git@git.bioconductor.org:packages/MsBackendMetaboLights.git to reflect on this report. See Troubleshooting Build Report for more information.
- Use the following Renviron settings to reproduce errors and warnings.
- If 'R CMD check' started to fail recently on the Linux builder(s) over a missing dependency, add the missing dependency to 'Suggests:' in your DESCRIPTION file. See Renviron.bioc for more information.

raw results


Summary

Package: MsBackendMetaboLights
Version: 1.3.0
Command: /Library/Frameworks/R.framework/Resources/bin/R CMD check --install=check:MsBackendMetaboLights.install-out.txt --library=/Library/Frameworks/R.framework/Resources/library --no-vignettes --timings MsBackendMetaboLights_1.3.0.tar.gz
StartedAt: 2025-04-22 23:35:51 -0400 (Tue, 22 Apr 2025)
EndedAt: 2025-04-22 23:41:34 -0400 (Tue, 22 Apr 2025)
EllapsedTime: 342.9 seconds
RetCode: 1
Status:   ERROR  
CheckDir: MsBackendMetaboLights.Rcheck
Warnings: NA

Command output

##############################################################################
##############################################################################
###
### Running command:
###
###   /Library/Frameworks/R.framework/Resources/bin/R CMD check --install=check:MsBackendMetaboLights.install-out.txt --library=/Library/Frameworks/R.framework/Resources/library --no-vignettes --timings MsBackendMetaboLights_1.3.0.tar.gz
###
##############################################################################
##############################################################################


* using log directory ‘/Users/biocbuild/bbs-3.22-bioc/meat/MsBackendMetaboLights.Rcheck’
* using R version 4.5.0 Patched (2025-04-21 r88169)
* using platform: x86_64-apple-darwin20
* R was compiled by
    Apple clang version 14.0.0 (clang-1400.0.29.202)
    GNU Fortran (GCC) 14.2.0
* running under: macOS Monterey 12.7.6
* using session charset: UTF-8
* using option ‘--no-vignettes’
* checking for file ‘MsBackendMetaboLights/DESCRIPTION’ ... OK
* this is package ‘MsBackendMetaboLights’ version ‘1.3.0’
* package encoding: UTF-8
* checking package namespace information ... OK
* checking package dependencies ... OK
* checking if this is a source package ... OK
* checking if there is a namespace ... OK
* checking for hidden files and directories ... OK
* checking for portable file names ... OK
* checking for sufficient/correct file permissions ... OK
* checking whether package ‘MsBackendMetaboLights’ can be installed ... OK
* checking installed package size ... OK
* checking package directory ... OK
* checking ‘build’ directory ... OK
* checking DESCRIPTION meta-information ... OK
* checking top-level files ... OK
* checking for left-over files ... OK
* checking index information ... OK
* checking package subdirectories ... OK
* checking code files for non-ASCII characters ... OK
* checking R files for syntax errors ... OK
* checking whether the package can be loaded ... OK
* checking whether the package can be loaded with stated dependencies ... OK
* checking whether the package can be unloaded cleanly ... OK
* checking whether the namespace can be loaded with stated dependencies ... OK
* checking whether the namespace can be unloaded cleanly ... OK
* checking dependencies in R code ... OK
* checking S3 generic/method consistency ... OK
* checking replacement functions ... OK
* checking foreign function calls ... OK
* checking R code for possible problems ... OK
* checking Rd files ... OK
* checking Rd metadata ... OK
* checking Rd cross-references ... OK
* checking for missing documentation entries ... OK
* checking for code/documentation mismatches ... OK
* checking Rd \usage sections ... OK
* checking Rd contents ... OK
* checking for unstated dependencies in examples ... OK
* checking files in ‘vignettes’ ... OK
* checking examples ... OK
Examples with CPU (user + system) or elapsed time > 5s
                       user system elapsed
MsBackendMetaboLights 9.783  1.617  18.599
MetaboLights-utils    0.456  0.034  12.241
* checking for unstated dependencies in ‘tests’ ... OK
* checking tests ...
  Running ‘testthat.R’
 ERROR
Running the tests in ‘tests/testthat.R’ failed.
Last 13 lines of output:
    6.         ├─utils::capture.output(...)
    7.         │ └─base::withVisible(...elt(i))
    8.         ├─base::suppressMessages(...)
    9.         │ └─base::withCallingHandlers(...)
   10.         └─MsBackendMetaboLights:::.retry(...)
  ── Error ('test_MsBackendMetaboLights.R:171:5'): mtbls_cached_data_files works ──
  Error: No locally cached data files found for the specified parameters.
  Backtrace:
      ▆
   1. └─MsBackendMetaboLights::mtbls_cached_data_files() at test_MsBackendMetaboLights.R:171:5
   2.   └─MsBackendMetaboLights:::.mtbls_data_files_offline(...)
  
  [ FAIL 4 | WARN 0 | SKIP 0 | PASS 46 ]
  Error: Test failures
  Execution halted
* checking for unstated dependencies in vignettes ... OK
* checking package vignettes ... OK
* checking running R code from vignettes ... SKIPPED
* checking re-building of vignette outputs ... SKIPPED
* checking PDF version of manual ... OK
* DONE

Status: 1 ERROR
See
  ‘/Users/biocbuild/bbs-3.22-bioc/meat/MsBackendMetaboLights.Rcheck/00check.log’
for details.


Installation output

MsBackendMetaboLights.Rcheck/00install.out

##############################################################################
##############################################################################
###
### Running command:
###
###   /Library/Frameworks/R.framework/Resources/bin/R CMD INSTALL MsBackendMetaboLights
###
##############################################################################
##############################################################################


* installing to library ‘/Library/Frameworks/R.framework/Versions/4.5-x86_64/Resources/library’
* installing *source* package ‘MsBackendMetaboLights’ ...
** this is package ‘MsBackendMetaboLights’ version ‘1.3.0’
** using staged installation
** R
** byte-compile and prepare package for lazy loading
** help
*** installing help indices
*** copying figures
** building package indices
** installing vignettes
** testing if installed package can be loaded from temporary location
** testing if installed package can be loaded from final location
** testing if installed package keeps a record of temporary installation path
* DONE (MsBackendMetaboLights)

Tests output

MsBackendMetaboLights.Rcheck/tests/testthat.Rout.fail


R version 4.5.0 Patched (2025-04-21 r88169) -- "How About a Twenty-Six"
Copyright (C) 2025 The R Foundation for Statistical Computing
Platform: x86_64-apple-darwin20

R is free software and comes with ABSOLUTELY NO WARRANTY.
You are welcome to redistribute it under certain conditions.
Type 'license()' or 'licence()' for distribution details.

R is a collaborative project with many contributors.
Type 'contributors()' for more information and
'citation()' on how to cite R or R packages in publications.

Type 'demo()' for some demos, 'help()' for on-line help, or
'help.start()' for an HTML browser interface to help.
Type 'q()' to quit R.

> #' MetaboLights ID: MTBLS8735
> #' ftp://ftp.ebi.ac.uk/pub/databases/metabolights/studies/public/MTBLS8735
> 
> library(testthat)
> library(MsBackendMetaboLights)
Loading required package: Spectra
Loading required package: S4Vectors
Loading required package: stats4
Loading required package: BiocGenerics
Loading required package: generics

Attaching package: 'generics'

The following objects are masked from 'package:base':

    as.difftime, as.factor, as.ordered, intersect, is.element, setdiff,
    setequal, union


Attaching package: 'BiocGenerics'

The following objects are masked from 'package:stats':

    IQR, mad, sd, var, xtabs

The following objects are masked from 'package:base':

    Filter, Find, Map, Position, Reduce, anyDuplicated, aperm, append,
    as.data.frame, basename, cbind, colnames, dirname, do.call,
    duplicated, eval, evalq, get, grep, grepl, is.unsorted, lapply,
    mapply, match, mget, order, paste, pmax, pmax.int, pmin, pmin.int,
    rank, rbind, rownames, sapply, saveRDS, table, tapply, unique,
    unsplit, which.max, which.min


Attaching package: 'S4Vectors'

The following object is masked from 'package:utils':

    findMatches

The following objects are masked from 'package:base':

    I, expand.grid, unname

Loading required package: BiocParallel
> 
> test_check("MsBackendMetaboLights")
[ FAIL 4 | WARN 0 | SKIP 0 | PASS 46 ]

══ Failed tests ════════════════════════════════════════════════════════════════
── Error ('test_MsBackendMetaboLights.R:65:5'): mtbls_sync works ───────────────
Error in `bfcrpath(bfc, paste0(fpath, z), fname = "exact", progress = list())`: not all 'rnames' found or unique.
Backtrace:
     ▆
  1. └─MsBackendMetaboLights::mtbls_sync(x, offline = FALSE) at test_MsBackendMetaboLights.R:65:5
  2.   └─base::lapply(...)
  3.     └─MsBackendMetaboLights (local) FUN(X[[i]], ...)
  4.       └─MsBackendMetaboLights::mtbls_sync_data_files(...)
  5.         └─MsBackendMetaboLights:::.mtbls_data_files(...)
  6.           ├─base::unlist(...)
  7.           └─base::lapply(...)
  8.             └─MsBackendMetaboLights (local) FUN(X[[i]], ...)
  9.               ├─utils::capture.output(...)
 10.               │ └─base::withVisible(...elt(i))
 11.               ├─base::suppressMessages(...)
 12.               │ └─base::withCallingHandlers(...)
 13.               └─MsBackendMetaboLights:::.retry(...)
── Error ('test_MsBackendMetaboLights.R:120:5'): .mtbls_data_files and .mtbls_data_files_offline works ──
Error in `bfcrpath(bfc, paste0(fpath, z), fname = "exact", progress = list())`: not all 'rnames' found or unique.
Backtrace:
    ▆
 1. └─MsBackendMetaboLights:::.mtbls_data_files("MTBLS39", pattern = "63A.cdf") at test_MsBackendMetaboLights.R:120:5
 2.   ├─base::unlist(...)
 3.   └─base::lapply(...)
 4.     └─MsBackendMetaboLights (local) FUN(X[[i]], ...)
 5.       ├─utils::capture.output(...)
 6.       │ └─base::withVisible(...elt(i))
 7.       ├─base::suppressMessages(...)
 8.       │ └─base::withCallingHandlers(...)
 9.       └─MsBackendMetaboLights:::.retry(...)
── Error ('test_MsBackendMetaboLights.R:163:5'): mtbls_sync_data_files works ───
Error in `bfcrpath(bfc, paste0(fpath, z), fname = "exact", progress = list())`: not all 'rnames' found or unique.
Backtrace:
     ▆
  1. └─MsBackendMetaboLights::mtbls_sync_data_files(...) at test_MsBackendMetaboLights.R:163:5
  2.   └─MsBackendMetaboLights:::.mtbls_data_files(...)
  3.     ├─base::unlist(...)
  4.     └─base::lapply(...)
  5.       └─MsBackendMetaboLights (local) FUN(X[[i]], ...)
  6.         ├─utils::capture.output(...)
  7.         │ └─base::withVisible(...elt(i))
  8.         ├─base::suppressMessages(...)
  9.         │ └─base::withCallingHandlers(...)
 10.         └─MsBackendMetaboLights:::.retry(...)
── Error ('test_MsBackendMetaboLights.R:171:5'): mtbls_cached_data_files works ──
Error: No locally cached data files found for the specified parameters.
Backtrace:
    ▆
 1. └─MsBackendMetaboLights::mtbls_cached_data_files() at test_MsBackendMetaboLights.R:171:5
 2.   └─MsBackendMetaboLights:::.mtbls_data_files_offline(...)

[ FAIL 4 | WARN 0 | SKIP 0 | PASS 46 ]
Error: Test failures
Execution halted

Example timings

MsBackendMetaboLights.Rcheck/MsBackendMetaboLights-Ex.timings

nameusersystemelapsed
MetaboLights-utils 0.456 0.03412.241
MsBackendMetaboLights 9.783 1.61718.599