Back to Multiple platform build/check report for BioC 3.21:   simplified   long
ABCDEFGHIJKL[M]NOPQRSTUVWXYZ

This page was generated on 2025-02-03 12:37 -0500 (Mon, 03 Feb 2025).

HostnameOSArch (*)R versionInstalled pkgs
nebbiolo1Linux (Ubuntu 24.04.1 LTS)x86_64R Under development (unstable) (2025-01-20 r87609) -- "Unsuffered Consequences" 4704
palomino7Windows Server 2022 Datacenterx64R Under development (unstable) (2025-01-21 r87610 ucrt) -- "Unsuffered Consequences" 4467
lconwaymacOS 12.7.1 Montereyx86_64R Under development (unstable) (2025-01-22 r87618) -- "Unsuffered Consequences" 4478
Click on any hostname to see more info about the system (e.g. compilers)      (*) as reported by 'uname -p', except on Windows and Mac OS X

Package 1328/2289HostnameOS / ArchINSTALLBUILDCHECKBUILD BIN
MsBackendMassbank 1.15.2  (landing page)
RforMassSpectrometry Package Maintainer
Snapshot Date: 2025-02-02 13:40 -0500 (Sun, 02 Feb 2025)
git_url: https://git.bioconductor.org/packages/MsBackendMassbank
git_branch: devel
git_last_commit: 0a91070
git_last_commit_date: 2025-01-17 03:25:07 -0500 (Fri, 17 Jan 2025)
nebbiolo1Linux (Ubuntu 24.04.1 LTS) / x86_64  OK    OK    OK  UNNEEDED, same version is already published
palomino7Windows Server 2022 Datacenter / x64  OK    OK    OK    OK  UNNEEDED, same version is already published
lconwaymacOS 12.7.1 Monterey / x86_64  OK    OK    OK    OK  UNNEEDED, same version is already published


BUILD results for MsBackendMassbank on nebbiolo1

To the developers/maintainers of the MsBackendMassbank package:
- Allow up to 24 hours (and sometimes 48 hours) for your latest push to git@git.bioconductor.org:packages/MsBackendMassbank.git to reflect on this report. See Troubleshooting Build Report for more information.
- Use the following Renviron settings to reproduce errors and warnings.
- If 'R CMD check' started to fail recently on the Linux builder(s) over a missing dependency, add the missing dependency to 'Suggests:' in your DESCRIPTION file. See Renviron.bioc for more information.

raw results


Summary

Package: MsBackendMassbank
Version: 1.15.2
Command: /home/biocbuild/bbs-3.21-bioc/R/bin/R CMD build --keep-empty-dirs --no-resave-data MsBackendMassbank
StartedAt: 2025-02-02 18:12:57 -0500 (Sun, 02 Feb 2025)
EndedAt: 2025-02-02 18:13:20 -0500 (Sun, 02 Feb 2025)
EllapsedTime: 23.0 seconds
RetCode: 0
Status:   OK  
PackageFile: MsBackendMassbank_1.15.2.tar.gz
PackageFileSize: 413.7 KiB

Command output

##############################################################################
##############################################################################
###
### Running command:
###
###   /home/biocbuild/bbs-3.21-bioc/R/bin/R CMD build --keep-empty-dirs --no-resave-data MsBackendMassbank
###
##############################################################################
##############################################################################


* checking for file ‘MsBackendMassbank/DESCRIPTION’ ... OK
* preparing ‘MsBackendMassbank’:
* checking DESCRIPTION meta-information ... OK
* installing the package to build vignettes
* creating vignettes ... OK
* checking for LF line-endings in source and make files and shell scripts
* checking for empty or unneeded directories
WARNING: directory ‘MsBackendMassbank/man/figures’ is empty
Omitted ‘LazyData’ from DESCRIPTION
* building ‘MsBackendMassbank_1.15.2.tar.gz’