Back to Multiple platform build/check report for BioC 3.21:   simplified   long
ABCDEFGHIJKL[M]NOPQRSTUVWXYZ

This page was generated on 2025-02-04 11:43 -0500 (Tue, 04 Feb 2025).

HostnameOSArch (*)R versionInstalled pkgs
nebbiolo1Linux (Ubuntu 24.04.1 LTS)x86_64R Under development (unstable) (2025-01-20 r87609) -- "Unsuffered Consequences" 4716
palomino7Windows Server 2022 Datacenterx64R Under development (unstable) (2025-01-21 r87610 ucrt) -- "Unsuffered Consequences" 4478
lconwaymacOS 12.7.1 Montereyx86_64R Under development (unstable) (2025-01-22 r87618) -- "Unsuffered Consequences" 4489
kjohnson3macOS 13.7.1 Venturaarm64R Under development (unstable) (2025-01-20 r87609) -- "Unsuffered Consequences" 4442
Click on any hostname to see more info about the system (e.g. compilers)      (*) as reported by 'uname -p', except on Windows and Mac OS X

Package 1204/2295HostnameOS / ArchINSTALLBUILDCHECKBUILD BIN
MetaboDynamics 0.99.18  (landing page)
Katja Danielzik
Snapshot Date: 2025-02-03 13:40 -0500 (Mon, 03 Feb 2025)
git_url: https://git.bioconductor.org/packages/MetaboDynamics
git_branch: devel
git_last_commit: 8ec64e1
git_last_commit_date: 2025-02-01 18:21:19 -0500 (Sat, 01 Feb 2025)
nebbiolo1Linux (Ubuntu 24.04.1 LTS) / x86_64  OK    OK    OK  YES
palomino7Windows Server 2022 Datacenter / x64  OK    OK    OK    OK  YES
lconwaymacOS 12.7.1 Monterey / x86_64  OK    OK    OK    OK  YES
kjohnson3macOS 13.7.1 Ventura / arm64  OK    OK    OK    OK  YES


INSTALL results for MetaboDynamics on lconway

To the developers/maintainers of the MetaboDynamics package:
- Allow up to 24 hours (and sometimes 48 hours) for your latest push to git@git.bioconductor.org:packages/MetaboDynamics.git to reflect on this report. See Troubleshooting Build Report for more information.
- Use the following Renviron settings to reproduce errors and warnings.
- If 'R CMD check' started to fail recently on the Linux builder(s) over a missing dependency, add the missing dependency to 'Suggests:' in your DESCRIPTION file. See Renviron.bioc for more information.

raw results


Summary

Package: MetaboDynamics
Version: 0.99.18
Command: /Library/Frameworks/R.framework/Resources/bin/R CMD INSTALL MetaboDynamics
StartedAt: 2025-02-03 15:16:05 -0500 (Mon, 03 Feb 2025)
EndedAt: 2025-02-03 15:19:31 -0500 (Mon, 03 Feb 2025)
EllapsedTime: 205.5 seconds
RetCode: 0
Status:   OK  

Command output

##############################################################################
##############################################################################
###
### Running command:
###
###   /Library/Frameworks/R.framework/Resources/bin/R CMD INSTALL MetaboDynamics
###
##############################################################################
##############################################################################


* installing to library ‘/Library/Frameworks/R.framework/Versions/4.5-x86_64/Resources/library’
* installing *source* package ‘MetaboDynamics’ ...
** this is package ‘MetaboDynamics’ version ‘0.99.18’
** using staged installation
** libs
using C++ compiler: ‘Apple clang version 14.0.0 (clang-1400.0.29.202)’
using C++17
using SDK: ‘MacOSX11.3.sdk’


clang++ -arch x86_64 -std=gnu++17 -I"/Library/Frameworks/R.framework/Resources/include" -DNDEBUG -I"../inst/include" -I"/Library/Frameworks/R.framework/Versions/4.5-x86_64/Resources/library/StanHeaders/include/src" -DBOOST_DISABLE_ASSERTS -DEIGEN_NO_DEBUG -DBOOST_MATH_OVERFLOW_ERROR_POLICY=errno_on_error -DUSE_STANC3 -D_HAS_AUTO_PTR_ETC=0 -I'/Library/Frameworks/R.framework/Versions/4.5-x86_64/Resources/library/BH/include' -I'/Library/Frameworks/R.framework/Versions/4.5-x86_64/Resources/library/Rcpp/include' -I'/Library/Frameworks/R.framework/Versions/4.5-x86_64/Resources/library/RcppEigen/include' -I'/Library/Frameworks/R.framework/Versions/4.5-x86_64/Resources/library/RcppParallel/include' -I'/Library/Frameworks/R.framework/Versions/4.5-x86_64/Resources/library/rstan/include' -I'/Library/Frameworks/R.framework/Versions/4.5-x86_64/Resources/library/StanHeaders/include' -I/opt/R/x86_64/include    -I'/Library/Frameworks/R.framework/Versions/4.5-x86_64/Resources/library/RcppParallel/include' -D_REENTRANT -DSTAN_THREADS   -fPIC  -falign-functions=64 -Wall -g -O2  -DR_NO_REMAP -c RcppExports.cpp -o RcppExports.o


clang++ -arch x86_64 -std=gnu++17 -I"/Library/Frameworks/R.framework/Resources/include" -DNDEBUG -I"../inst/include" -I"/Library/Frameworks/R.framework/Versions/4.5-x86_64/Resources/library/StanHeaders/include/src" -DBOOST_DISABLE_ASSERTS -DEIGEN_NO_DEBUG -DBOOST_MATH_OVERFLOW_ERROR_POLICY=errno_on_error -DUSE_STANC3 -D_HAS_AUTO_PTR_ETC=0 -I'/Library/Frameworks/R.framework/Versions/4.5-x86_64/Resources/library/BH/include' -I'/Library/Frameworks/R.framework/Versions/4.5-x86_64/Resources/library/Rcpp/include' -I'/Library/Frameworks/R.framework/Versions/4.5-x86_64/Resources/library/RcppEigen/include' -I'/Library/Frameworks/R.framework/Versions/4.5-x86_64/Resources/library/RcppParallel/include' -I'/Library/Frameworks/R.framework/Versions/4.5-x86_64/Resources/library/rstan/include' -I'/Library/Frameworks/R.framework/Versions/4.5-x86_64/Resources/library/StanHeaders/include' -I/opt/R/x86_64/include    -I'/Library/Frameworks/R.framework/Versions/4.5-x86_64/Resources/library/RcppParallel/include' -D_REENTRANT -DSTAN_THREADS   -fPIC  -falign-functions=64 -Wall -g -O2  -DR_NO_REMAP -c stanExports_m_ANOVA_partial_pooling.cc -o stanExports_m_ANOVA_partial_pooling.o
In file included from stanExports_m_ANOVA_partial_pooling.cc:5:
In file included from ./stanExports_m_ANOVA_partial_pooling.h:23:
In file included from /Library/Frameworks/R.framework/Versions/4.5-x86_64/Resources/library/rstan/include/rstan/rstaninc.hpp:4:
In file included from /Library/Frameworks/R.framework/Versions/4.5-x86_64/Resources/library/rstan/include/rstan/stan_fit.hpp:21:
/Library/Frameworks/R.framework/Versions/4.5-x86_64/Resources/library/rstan/include/rstan/io/r_ostream.hpp:47:31: warning: 'rstan::io::r_cout_streambuf::xsputn' hides overloaded virtual function [-Woverloaded-virtual]
      virtual std::streamsize xsputn(const char_type* s, int n) {
                              ^
/Library/Developer/CommandLineTools/SDKs/MacOSX11.sdk/usr/include/c++/v1/streambuf:291:24: note: hidden overloaded virtual function 'std::basic_streambuf<char>::xsputn' declared here: type mismatch at 2nd parameter ('std::streamsize' (aka 'long') vs 'int')
    virtual streamsize xsputn(const char_type* __s, streamsize __n);
                       ^
In file included from stanExports_m_ANOVA_partial_pooling.cc:5:
In file included from ./stanExports_m_ANOVA_partial_pooling.h:23:
In file included from /Library/Frameworks/R.framework/Versions/4.5-x86_64/Resources/library/rstan/include/rstan/rstaninc.hpp:4:
In file included from /Library/Frameworks/R.framework/Versions/4.5-x86_64/Resources/library/rstan/include/rstan/stan_fit.hpp:21:
/Library/Frameworks/R.framework/Versions/4.5-x86_64/Resources/library/rstan/include/rstan/io/r_ostream.hpp:70:31: warning: 'rstan::io::r_cerr_streambuf::xsputn' hides overloaded virtual function [-Woverloaded-virtual]
      virtual std::streamsize xsputn(const char_type* s, int n) {
                              ^
/Library/Developer/CommandLineTools/SDKs/MacOSX11.sdk/usr/include/c++/v1/streambuf:291:24: note: hidden overloaded virtual function 'std::basic_streambuf<char>::xsputn' declared here: type mismatch at 2nd parameter ('std::streamsize' (aka 'long') vs 'int')
    virtual streamsize xsputn(const char_type* __s, streamsize __n);
                       ^
In file included from stanExports_m_ANOVA_partial_pooling.cc:5:
In file included from ./stanExports_m_ANOVA_partial_pooling.h:23:
In file included from /Library/Frameworks/R.framework/Versions/4.5-x86_64/Resources/library/rstan/include/rstan/rstaninc.hpp:4:
In file included from /Library/Frameworks/R.framework/Versions/4.5-x86_64/Resources/library/rstan/include/rstan/stan_fit.hpp:43:
In file included from /Library/Frameworks/R.framework/Versions/4.5-x86_64/Resources/library/StanHeaders/include/src/stan/io/dump.hpp:7:
In file included from /Library/Frameworks/R.framework/Versions/4.5-x86_64/Resources/library/StanHeaders/include/stan/math/prim.hpp:14:
In file included from /Library/Frameworks/R.framework/Versions/4.5-x86_64/Resources/library/StanHeaders/include/stan/math/prim/fun.hpp:35:
In file included from /Library/Frameworks/R.framework/Versions/4.5-x86_64/Resources/library/StanHeaders/include/stan/math/prim/fun/binomial_coefficient_log.hpp:13:
In file included from /Library/Frameworks/R.framework/Versions/4.5-x86_64/Resources/library/StanHeaders/include/stan/math/prim/functor/partials_propagator.hpp:8:
/Library/Frameworks/R.framework/Versions/4.5-x86_64/Resources/library/StanHeaders/include/stan/math/prim/functor/operands_and_partials.hpp:57:1: warning: 'ops_partials_edge' defined as a struct template here but previously declared as a class template; this is valid, but may result in linker errors under the Microsoft C++ ABI [-Wmismatched-tags]
struct ops_partials_edge<ViewElt, Op, require_st_arithmetic<Op>> {
^
/Library/Frameworks/R.framework/Versions/4.5-x86_64/Resources/library/StanHeaders/include/stan/math/prim/functor/operands_and_partials.hpp:45:1: note: did you mean struct here?
class ops_partials_edge;
^~~~~
struct
In file included from stanExports_m_ANOVA_partial_pooling.cc:5:
In file included from ./stanExports_m_ANOVA_partial_pooling.h:23:
In file included from /Library/Frameworks/R.framework/Versions/4.5-x86_64/Resources/library/rstan/include/rstan/rstaninc.hpp:4:
/Library/Frameworks/R.framework/Versions/4.5-x86_64/Resources/library/rstan/include/rstan/stan_fit.hpp:1252:9: warning: variable 'ret' set but not used [-Wunused-but-set-variable]
    int ret = stan::services::error_codes::CONFIG;
        ^
In file included from stanExports_m_ANOVA_partial_pooling.cc:5:
./stanExports_m_ANOVA_partial_pooling.h:124:11: warning: variable 'pos__' set but not used [-Wunused-but-set-variable]
      int pos__ = std::numeric_limits<int>::min();
          ^
./stanExports_m_ANOVA_partial_pooling.h:519:11: warning: variable 'pos__' set but not used [-Wunused-but-set-variable]
      int pos__ = std::numeric_limits<int>::min();
          ^
6 warnings generated.


clang++ -arch x86_64 -std=gnu++17 -I"/Library/Frameworks/R.framework/Resources/include" -DNDEBUG -I"../inst/include" -I"/Library/Frameworks/R.framework/Versions/4.5-x86_64/Resources/library/StanHeaders/include/src" -DBOOST_DISABLE_ASSERTS -DEIGEN_NO_DEBUG -DBOOST_MATH_OVERFLOW_ERROR_POLICY=errno_on_error -DUSE_STANC3 -D_HAS_AUTO_PTR_ETC=0 -I'/Library/Frameworks/R.framework/Versions/4.5-x86_64/Resources/library/BH/include' -I'/Library/Frameworks/R.framework/Versions/4.5-x86_64/Resources/library/Rcpp/include' -I'/Library/Frameworks/R.framework/Versions/4.5-x86_64/Resources/library/RcppEigen/include' -I'/Library/Frameworks/R.framework/Versions/4.5-x86_64/Resources/library/RcppParallel/include' -I'/Library/Frameworks/R.framework/Versions/4.5-x86_64/Resources/library/rstan/include' -I'/Library/Frameworks/R.framework/Versions/4.5-x86_64/Resources/library/StanHeaders/include' -I/opt/R/x86_64/include    -I'/Library/Frameworks/R.framework/Versions/4.5-x86_64/Resources/library/RcppParallel/include' -D_REENTRANT -DSTAN_THREADS   -fPIC  -falign-functions=64 -Wall -g -O2  -DR_NO_REMAP -c stanExports_m_cluster_distances_padded.cc -o stanExports_m_cluster_distances_padded.o
In file included from stanExports_m_cluster_distances_padded.cc:5:
In file included from ./stanExports_m_cluster_distances_padded.h:23:
In file included from /Library/Frameworks/R.framework/Versions/4.5-x86_64/Resources/library/rstan/include/rstan/rstaninc.hpp:4:
In file included from /Library/Frameworks/R.framework/Versions/4.5-x86_64/Resources/library/rstan/include/rstan/stan_fit.hpp:21:
/Library/Frameworks/R.framework/Versions/4.5-x86_64/Resources/library/rstan/include/rstan/io/r_ostream.hpp:47:31: warning: 'rstan::io::r_cout_streambuf::xsputn' hides overloaded virtual function [-Woverloaded-virtual]
      virtual std::streamsize xsputn(const char_type* s, int n) {
                              ^
/Library/Developer/CommandLineTools/SDKs/MacOSX11.sdk/usr/include/c++/v1/streambuf:291:24: note: hidden overloaded virtual function 'std::basic_streambuf<char>::xsputn' declared here: type mismatch at 2nd parameter ('std::streamsize' (aka 'long') vs 'int')
    virtual streamsize xsputn(const char_type* __s, streamsize __n);
                       ^
In file included from stanExports_m_cluster_distances_padded.cc:5:
In file included from ./stanExports_m_cluster_distances_padded.h:23:
In file included from /Library/Frameworks/R.framework/Versions/4.5-x86_64/Resources/library/rstan/include/rstan/rstaninc.hpp:4:
In file included from /Library/Frameworks/R.framework/Versions/4.5-x86_64/Resources/library/rstan/include/rstan/stan_fit.hpp:21:
/Library/Frameworks/R.framework/Versions/4.5-x86_64/Resources/library/rstan/include/rstan/io/r_ostream.hpp:70:31: warning: 'rstan::io::r_cerr_streambuf::xsputn' hides overloaded virtual function [-Woverloaded-virtual]
      virtual std::streamsize xsputn(const char_type* s, int n) {
                              ^
/Library/Developer/CommandLineTools/SDKs/MacOSX11.sdk/usr/include/c++/v1/streambuf:291:24: note: hidden overloaded virtual function 'std::basic_streambuf<char>::xsputn' declared here: type mismatch at 2nd parameter ('std::streamsize' (aka 'long') vs 'int')
    virtual streamsize xsputn(const char_type* __s, streamsize __n);
                       ^
In file included from stanExports_m_cluster_distances_padded.cc:5:
In file included from ./stanExports_m_cluster_distances_padded.h:23:
In file included from /Library/Frameworks/R.framework/Versions/4.5-x86_64/Resources/library/rstan/include/rstan/rstaninc.hpp:4:
In file included from /Library/Frameworks/R.framework/Versions/4.5-x86_64/Resources/library/rstan/include/rstan/stan_fit.hpp:43:
In file included from /Library/Frameworks/R.framework/Versions/4.5-x86_64/Resources/library/StanHeaders/include/src/stan/io/dump.hpp:7:
In file included from /Library/Frameworks/R.framework/Versions/4.5-x86_64/Resources/library/StanHeaders/include/stan/math/prim.hpp:14:
In file included from /Library/Frameworks/R.framework/Versions/4.5-x86_64/Resources/library/StanHeaders/include/stan/math/prim/fun.hpp:35:
In file included from /Library/Frameworks/R.framework/Versions/4.5-x86_64/Resources/library/StanHeaders/include/stan/math/prim/fun/binomial_coefficient_log.hpp:13:
In file included from /Library/Frameworks/R.framework/Versions/4.5-x86_64/Resources/library/StanHeaders/include/stan/math/prim/functor/partials_propagator.hpp:8:
/Library/Frameworks/R.framework/Versions/4.5-x86_64/Resources/library/StanHeaders/include/stan/math/prim/functor/operands_and_partials.hpp:57:1: warning: 'ops_partials_edge' defined as a struct template here but previously declared as a class template; this is valid, but may result in linker errors under the Microsoft C++ ABI [-Wmismatched-tags]
struct ops_partials_edge<ViewElt, Op, require_st_arithmetic<Op>> {
^
/Library/Frameworks/R.framework/Versions/4.5-x86_64/Resources/library/StanHeaders/include/stan/math/prim/functor/operands_and_partials.hpp:45:1: note: did you mean struct here?
class ops_partials_edge;
^~~~~
struct
In file included from stanExports_m_cluster_distances_padded.cc:5:
In file included from ./stanExports_m_cluster_distances_padded.h:23:
In file included from /Library/Frameworks/R.framework/Versions/4.5-x86_64/Resources/library/rstan/include/rstan/rstaninc.hpp:4:
/Library/Frameworks/R.framework/Versions/4.5-x86_64/Resources/library/rstan/include/rstan/stan_fit.hpp:1252:9: warning: variable 'ret' set but not used [-Wunused-but-set-variable]
    int ret = stan::services::error_codes::CONFIG;
        ^
In file included from stanExports_m_cluster_distances_padded.cc:5:
./stanExports_m_cluster_distances_padded.h:274:11: warning: variable 'pos__' set but not used [-Wunused-but-set-variable]
      int pos__ = std::numeric_limits<int>::min();
          ^
./stanExports_m_cluster_distances_padded.h:309:11: warning: variable 'pos__' set but not used [-Wunused-but-set-variable]
      int pos__ = std::numeric_limits<int>::min();
          ^
6 warnings generated.
clang++ -arch x86_64 -std=gnu++17 -dynamiclib -Wl,-headerpad_max_install_names -undefined dynamic_lookup -L/Library/Frameworks/R.framework/Resources/lib -L/opt/R/x86_64/lib -o MetaboDynamics.so RcppExports.o stanExports_m_ANOVA_partial_pooling.o stanExports_m_cluster_distances_padded.o -L/Library/Frameworks/R.framework/Versions/4.5-x86_64/Resources/library/RcppParallel/lib -ltbb -ltbbmalloc -L/Library/Frameworks/R.framework/Versions/4.5-x86_64/Resources/library/RcppParallel/lib/ -Wl,-rpath,/Library/Frameworks/R.framework/Versions/4.5-x86_64/Resources/library/RcppParallel/lib/ -ltbb -ltbbmalloc -F/Library/Frameworks/R.framework/.. -framework R -Wl,-framework -Wl,CoreFoundation
installing to /Library/Frameworks/R.framework/Versions/4.5-x86_64/Resources/library/00LOCK-MetaboDynamics/00new/MetaboDynamics/libs
** R
** data
** inst
** byte-compile and prepare package for lazy loading
** help
*** installing help indices
** building package indices
** installing vignettes
** testing if installed package can be loaded from temporary location
** checking absolute paths in shared objects and dynamic libraries
** testing if installed package can be loaded from final location
** testing if installed package keeps a record of temporary installation path
* DONE (MetaboDynamics)