| Back to Multiple platform build/check report for BioC 3.22: simplified long |
|
This page was generated on 2025-10-24 12:06 -0400 (Fri, 24 Oct 2025).
| Hostname | OS | Arch (*) | R version | Installed pkgs |
|---|---|---|---|---|
| nebbiolo2 | Linux (Ubuntu 24.04.3 LTS) | x86_64 | 4.5.1 Patched (2025-08-23 r88802) -- "Great Square Root" | 4898 |
| lconway | macOS 12.7.6 Monterey | x86_64 | 4.5.1 Patched (2025-09-10 r88807) -- "Great Square Root" | 4688 |
| kjohnson3 | macOS 13.7.7 Ventura | arm64 | 4.5.1 Patched (2025-09-10 r88807) -- "Great Square Root" | 4634 |
| taishan | Linux (openEuler 24.03 LTS) | aarch64 | 4.5.0 (2025-04-11) -- "How About a Twenty-Six" | 4658 |
| Click on any hostname to see more info about the system (e.g. compilers) (*) as reported by 'uname -p', except on Windows and Mac OS X | ||||
| Package 1245/2359 | Hostname | OS / Arch | INSTALL | BUILD | CHECK | BUILD BIN | ||||||||
| MetaCyto 1.31.0 (landing page) Zicheng Hu
| nebbiolo2 | Linux (Ubuntu 24.04.3 LTS) / x86_64 | OK | OK | OK | |||||||||
| lconway | macOS 12.7.6 Monterey / x86_64 | OK | OK | OK | OK | |||||||||
| kjohnson3 | macOS 13.7.7 Ventura / arm64 | OK | OK | OK | OK | |||||||||
| taishan | Linux (openEuler 24.03 LTS) / aarch64 | OK | OK | NA | ||||||||||
|
To the developers/maintainers of the MetaCyto package: - Allow up to 24 hours (and sometimes 48 hours) for your latest push to git@git.bioconductor.org:packages/MetaCyto.git to reflect on this report. See Troubleshooting Build Report for more information. - Use the following Renviron settings to reproduce errors and warnings. - If 'R CMD check' started to fail recently on the Linux builder(s) over a missing dependency, add the missing dependency to 'Suggests:' in your DESCRIPTION file. See Renviron.bioc for more information. |
| Package: MetaCyto |
| Version: 1.31.0 |
| Command: /Library/Frameworks/R.framework/Resources/bin/R CMD check --install=check:MetaCyto.install-out.txt --library=/Library/Frameworks/R.framework/Resources/library --no-vignettes --timings MetaCyto_1.31.0.tar.gz |
| StartedAt: 2025-10-23 20:42:14 -0400 (Thu, 23 Oct 2025) |
| EndedAt: 2025-10-23 20:45:16 -0400 (Thu, 23 Oct 2025) |
| EllapsedTime: 182.3 seconds |
| RetCode: 0 |
| Status: OK |
| CheckDir: MetaCyto.Rcheck |
| Warnings: 0 |
##############################################################################
##############################################################################
###
### Running command:
###
### /Library/Frameworks/R.framework/Resources/bin/R CMD check --install=check:MetaCyto.install-out.txt --library=/Library/Frameworks/R.framework/Resources/library --no-vignettes --timings MetaCyto_1.31.0.tar.gz
###
##############################################################################
##############################################################################
* using log directory ‘/Users/biocbuild/bbs-3.22-bioc/meat/MetaCyto.Rcheck’
* using R version 4.5.1 Patched (2025-09-10 r88807)
* using platform: aarch64-apple-darwin20
* R was compiled by
Apple clang version 16.0.0 (clang-1600.0.26.6)
GNU Fortran (GCC) 14.2.0
* running under: macOS Ventura 13.7.7
* using session charset: UTF-8
* using option ‘--no-vignettes’
* checking for file ‘MetaCyto/DESCRIPTION’ ... OK
* checking extension type ... Package
* this is package ‘MetaCyto’ version ‘1.31.0’
* checking package namespace information ... OK
* checking package dependencies ... OK
* checking if this is a source package ... OK
* checking if there is a namespace ... OK
* checking for hidden files and directories ... OK
* checking for portable file names ... OK
* checking for sufficient/correct file permissions ... OK
* checking whether package ‘MetaCyto’ can be installed ... OK
* checking installed package size ... OK
* checking package directory ... OK
* checking ‘build’ directory ... OK
* checking DESCRIPTION meta-information ... OK
* checking top-level files ... OK
* checking for left-over files ... OK
* checking index information ... OK
* checking package subdirectories ... OK
* checking code files for non-ASCII characters ... OK
* checking R files for syntax errors ... OK
* checking whether the package can be loaded ... OK
* checking whether the package can be loaded with stated dependencies ... OK
* checking whether the package can be unloaded cleanly ... OK
* checking whether the namespace can be loaded with stated dependencies ... OK
* checking whether the namespace can be unloaded cleanly ... OK
* checking dependencies in R code ... OK
* checking S3 generic/method consistency ... OK
* checking replacement functions ... OK
* checking foreign function calls ... OK
* checking R code for possible problems ... NOTE
collectData: no visible binding for global variable ‘parameter_name’
collectData: no visible binding for global variable ‘value’
panelSummary: no visible binding for global variable ‘antibodies’
panelSummary: no visible binding for global variable ‘value’
plotGA: no visible binding for global variable ‘lower’
plotGA: no visible binding for global variable ‘upper’
searchCluster : <anonymous>: no visible binding for global variable
‘triS’
Undefined global functions or variables:
antibodies lower parameter_name triS upper value
* checking Rd files ... OK
* checking Rd metadata ... OK
* checking Rd cross-references ... OK
* checking for missing documentation entries ... OK
* checking for code/documentation mismatches ... OK
* checking Rd \usage sections ... OK
* checking Rd contents ... OK
* checking for unstated dependencies in examples ... OK
* checking files in ‘vignettes’ ... OK
* checking examples ... OK
Examples with CPU (user + system) or elapsed time > 5s
user system elapsed
autoCluster.batch 43.015 13.523 58.263
labelCluster 34.140 11.497 46.266
searchCluster.batch 11.077 3.904 15.382
searchCluster 3.759 1.277 5.196
* checking for unstated dependencies in vignettes ... OK
* checking package vignettes ... OK
* checking running R code from vignettes ... SKIPPED
* checking re-building of vignette outputs ... SKIPPED
* checking PDF version of manual ... OK
* DONE
Status: 1 NOTE
See
‘/Users/biocbuild/bbs-3.22-bioc/meat/MetaCyto.Rcheck/00check.log’
for details.
MetaCyto.Rcheck/00install.out
############################################################################## ############################################################################## ### ### Running command: ### ### /Library/Frameworks/R.framework/Resources/bin/R CMD INSTALL MetaCyto ### ############################################################################## ############################################################################## * installing to library ‘/Library/Frameworks/R.framework/Versions/4.5-arm64/Resources/library’ * installing *source* package ‘MetaCyto’ ... ** this is package ‘MetaCyto’ version ‘1.31.0’ ** using staged installation ** R ** inst ** byte-compile and prepare package for lazy loading ** help *** installing help indices ** building package indices ** installing vignettes ** testing if installed package can be loaded from temporary location ** testing if installed package can be loaded from final location ** testing if installed package keeps a record of temporary installation path * DONE (MetaCyto)
MetaCyto.Rcheck/MetaCyto-Ex.timings
| name | user | system | elapsed | |
| autoCluster.batch | 43.015 | 13.523 | 58.263 | |
| clusterStats | 3.309 | 0.845 | 4.486 | |
| collectData | 0.010 | 0.001 | 0.013 | |
| densityPlot | 3.270 | 0.868 | 4.213 | |
| fcsInfoParser | 0.029 | 0.002 | 0.033 | |
| filterLabels | 0 | 0 | 0 | |
| findCutoff | 0.853 | 0.252 | 1.214 | |
| flowHC | 0.606 | 0.030 | 0.699 | |
| flowSOM.MC | 3.486 | 1.106 | 4.772 | |
| glmAnalysis | 0.081 | 0.007 | 0.090 | |
| labelCluster | 34.140 | 11.497 | 46.266 | |
| labelSummary | 0.095 | 0.006 | 0.110 | |
| markerFinder | 0.008 | 0.001 | 0.008 | |
| metaAnalysis | 0.037 | 0.002 | 0.038 | |
| nameUpdator | 0.328 | 0.026 | 0.366 | |
| panelSummary | 0.005 | 0.001 | 0.007 | |
| plotGA | 0.206 | 0.008 | 0.220 | |
| preprocessing | 0.129 | 0.003 | 0.132 | |
| preprocessing.batch | 0.321 | 0.013 | 0.344 | |
| sampleInfoParser | 0.002 | 0.000 | 0.001 | |
| searchCluster | 3.759 | 1.277 | 5.196 | |
| searchCluster.batch | 11.077 | 3.904 | 15.382 | |
| set2Frame | 0.039 | 0.004 | 0.043 | |